Workbook
Name a: #REF!
Name a: #REF!
Name a: #REF!
Name a: #REF!
Name a: #REF!
Name a: #REF!
Name a: #REF!
Name a: #REF!
Name a: #REF!
Name a: #REF!+#REF!+#REF!-SUM(#REF!,#REF!,#REF!,#REF!,#REF!,#REF!,#REF!)
Name a: #REF!+#REF!+#REF!-SUM(#REF!,#REF!,#REF!,#REF!,#REF!,#REF!,#REF!)
Name B: #REF!
Name B: #REF!
Name Database: [1]B!#REF!
Name fix2000.dbf: #REF!
Name fix2000.dbf: #REF!
Name fixlj2000.dbf: #REF!
Name fixlj2000.dbf: #REF!
Name m: #REF!
Name m: #REF!
Name n: #REF!
Name n: #REF!
Name Print_Area_MI: #REF!
Name Print_Area_MI: #REF!
Name S: #REF!
Name S: #REF!
Name UFPrn20001231102643: #REF!
Name UFPrn20001231102643: #REF!
Name UFPrn20050222110615: #REF!
Name UFPrn20050222110615: #REF!
Name Z_8F5F0A0B_1706_11D4_BA6C_B6B1FD54CC07_.wvu.PrintArea: #REF!
Name Z_8F5F0A0B_1706_11D4_BA6C_B6B1FD54CC07_.wvu.PrintArea: #REF!
Name Z_8F5F0A0B_1706_11D4_BA6C_B6B1FD54CC07_.wvu.PrintTitles: #REF!
Name Z_8F5F0A0B_1706_11D4_BA6C_B6B1FD54CC07_.wvu.PrintTitles: #REF!
Name Z_8F5F0A0B_1706_11D4_BA6C_B6B1FD54CC07_.wvu.PrintTitles: #REF!
Name Z_D6FB2721_935C_11BD_A306_F83717C5857D_.wvu.PrintArea: #REF!
Name Z_D6FB2721_935C_11BD_A306_F83717C5857D_.wvu.PrintArea: #REF!
Name Z_D6FB2721_935C_11BD_A306_F83717C5857D_.wvu.PrintArea: #REF!
Name Z_D6FB2721_935C_11BD_A306_F83717C5857D_.wvu.PrintTitles: #REF!
Name Z_D6FB2721_935C_11BD_A306_F83717C5857D_.wvu.PrintTitles: #REF!
Name Z_D6FB2721_935C_11BD_A306_F83717C5857D_.wvu.PrintTitles: #REF!
Name zjgch2000.dbf: #REF!
Name zjgch2000.dbf: #REF!
Name 啊: #REF!
Name 啊: #REF!
Name 啊: #REF!
Name 啊: #REF!
Name 啊: #REF!
Name 啊: #REF!
Name 啊: #REF!
Name 啊: #REF!
Name 啊: #REF!
Name 暗、、: [2]企业表一!$F$17
Name 本年度实现的可抵扣应纳税所得额: #REF!+#REF!+#REF!-SUM(#REF!,#REF!,#REF!,#REF!,#REF!,#REF!,#REF!)
Name 本年度实现的可抵扣应纳税所得额: #REF!+#REF!+#REF!-SUM(#REF!,#REF!,#REF!,#REF!,#REF!,#REF!,#REF!)
Name 本年度实现的可抵扣应纳税所得额: #REF!+#REF!+#REF!-SUM(#REF!,#REF!,#REF!,#REF!,#REF!,#REF!,#REF!)
Name 本年度实现的可抵扣应纳税所得额: #REF!+#REF!+#REF!-SUM(#REF!,#REF!,#REF!,#REF!,#REF!,#REF!,#REF!)
Name 本年度实现的可抵扣应纳税所得额: #REF!+#REF!+#REF!-SUM(#REF!,#REF!,#REF!,#REF!,#REF!,#REF!,#REF!)
Name 本年度实现的可抵扣应纳税所得额: #REF!+#REF!+#REF!-SUM(#REF!,#REF!,#REF!,#REF!,#REF!,#REF!,#REF!)
Name 本年度实现的可抵扣应纳税所得额: #REF!+#REF!+#REF!-SUM(#REF!,#REF!,#REF!,#REF!,#REF!,#REF!,#REF!)

Sheet  
Z1: 深圳市嘉信瑞税务师事务所 | IU1: 刁英锋 | IV1: 李树永
A4: 39859.622

Sheet Sheet1
C4: 企业清算所得纳税申报鉴证系统
C7: 客 户 名 称： | F7: 新疆通力房地产开发有限公司库尔勒二分公司
C9: 纳税人识别号： | F9: 91652801576209018D
C11: 审核期间： | F11: 45658 | G11: 至 | H11: 46022 | I11: 二〇〇七年度
C13: 税务师事务所： | F13: 新疆华政华瑞税务师事务所有限责任公司工作底稿
C15: 编 制 ： | F15: 王翠英 | G15: 编制日期： | H15: 46040
C17: 复 核 ： | F17: 刘洁 | G17: 复核日期： | H17: 46140
C19: 报告文号： | F19: 新华政华瑞巴鉴字[2024] 043号 | G19: 会计核算： | H19: 企业会计准则
A27: 共184张表

Sheet 目录（简版）
A1: 工作索引
A2: =CONCATENATE("被审核单位：",Sheet1!F7) -> 被审核单位：新疆通力房地产开发有限公司库尔勒二分公司
A3: ="纳税年度： "&YEAR(Sheet1!F11) -> 纳税年度： 2025 | D3: 业务类型：企业所得税汇算清缴
B4: 综合类 | D4: 调整项目
B5: 纳税调整汇总记录 | D5: 主营业务成本率鉴证表
B6: 应免税分配 | D6: 收入成本表
B7: 凭证检查表 | D7: 成本测试表
B8: 基础信息 | D8: 产销存
B9: 其他信息 | D9: 利息收入
B10: 人员、车辆表 | D10: 政府补助明细
B11: 报告用数据 | D11: 工资薪金和三项经费支出
B12: 调整事项 | D12: 固定资产折旧
B13: 弥补亏损 | D13: 无形资产、长期待摊费用
B14: 利润总额 | D14: 生产性生物资产
B15: 收入、成本类 | D15: 5000调整表
... B26: 管理费用 | D26: 其他
B27: 财务费用
B28: 4000期间费用
B29: 往来类
B30: 4-5-1应收账款
B31: 预付账款
B32: 其他应收款
B33: 4-6-1待摊费用'
B34: 4-11-1长、短期借款'
B35: 4-12-1应付账款'
B36: 4-12-2预收账款'
B37: 4-12-3其他应付款'
B38: 应收款询证函
B39: 应付款询证函

Sheet 底稿封面
E1: =Sheet1!F19 -> 新华政华瑞巴鉴字[2024] 043号
A4: 企业所得税汇算清缴审核
D12: 工
D13: 作
D14: 底
D15: 稿
A21: 委托单位： | D21: =Sheet1!F7 -> 新疆通力房地产开发有限公司库尔勒二分公司
A22: 委托项目： | D22: 企业所得税汇算清缴审核
A23: 受托单位： | D23: 新疆华政华瑞税务师事务所有限公司巴州分所
A25: 编制人： | C25: =Sheet1!F15 -> 王翠英 | E25: 日期： | F25: =Sheet1!H15 -> 46040
A27: 复核人： | C27: =Sheet1!F17 -> 刘洁 | E27: 日期： | F27: =Sheet1!H17 -> 46140

Sheet 签发单
A1: 新疆华政华瑞税务师事务所有限责任公司巴州分所
A2: XinJiang Huarui Certified Public AccountantsLimited
A3: 审核报告三级复核(签发)单 | G3: 索引
F4: 页次：1
A5: =签收单!C5 -> 新疆通力房地产开发有限公司库尔勒二分公司 | E5: 编制人 | F5: =Sheet1!F15 -> 王翠英
A6: 会计期间：2022年度 | E6: 日 期 | F6: =底稿封面!F27 -> 46140
A7: 复核人 | B7: 复核要点 | C7: 复核情况 | D7: 复核意见 | F7: 处理情况
A8: 项 目 负 责 人 | B8: 1、预定审核程序完成是否适当； | C8: 已 复 核 | D8: 已完成预定审计程序，审计证据充分恰当，审计工作底稿填写完整，审计标识、勾稽关系清晰，底稿的归类整理适当，审核结论明确。
B9: 2、审核证据是否充分、适当；
B10: 3、审核工作底稿的填写是否完整；
B11: 4、审核工作底稿的记录、审核标识是否清晰；
B12: 5、审核工作底稿的勾稽关系是否清晰；
B13: 6、审核工作底稿的归类整理是否适当； | D13: 复核人：
B14: 7、审核结论是否明确。 | D14: 日期：
A15: 部 门 经 理 | B15: 1、重要审核程序的制定执行是否已经实现审核目标； | C15: 已 复 核 | D15: 重要审计程序的制定执行已实现审计目标；审计证据充分、适当，审计项目之间的衔接充分合理，未存在重要漏审项目；调整项目或未予调整项目恰当；审计意见恰当，相关披露与审计意见一致。
B16: 2、审核项目的审核证据是否充分、适当；
B17: 3、各审核项目之间的衔接是否充分合理，是否存在重要漏审项目；
B18: 4、项目负责人对业务经理人员的监督、指导是否恰当；
B19: 5、所有调整项目或未予调整项目是否恰当； | D19: 复核人：
B20: 6、审核意见的确定是否恰当，相关的披露是否一致。 | D20: 日期：
A21: 公司（所）领导 | B21: 1、审核约定事项是否已实现； | C21: 已 复 核 | D21: 已实现审计约定事项； 重要审计程序的制定与实施恰当；重点审计领域测试充分；重点审计依据充分、适当； 重要审计事项恰当； 审计意见的确定恰当；审计报告的表述规范。
B22: 2、重要审核程序的制定与实施是否恰当；
B23: 3、重点审核领域的测试是否充分；
B24: 4、重点审核依据是否充分、适当；
B25: 5、重要审核事项是否恰当； | D25: 复核人：
B26: 6、 审核意见的确定是否恰当，审核报告的表述是否规范。 | D26: 日期：
A27: =[13]信息!B6&" 电话："&[13]信息!B8 -> #REF!

Sheet 签收单
A1: 新疆华政华瑞税务师事务所有限责任公司
A2: XinJiang Huarui Registered Tax Agent CO. , Ltd
A3: 税务审核报告签收单 | D3: 索引
C4: 页次：1
A5: 委托单位 | C5: =底稿封面!D21 -> 新疆通力房地产开发有限公司库尔勒二分公司
A6: 审核报告书编号 | C6: =Sheet1!F19 -> 新华政华瑞巴鉴字[2024] 043号
A7: 审核截止日 | C7: 44926
A8: 审核报告书提交日期 | C8: 2023年 月 日
A9: 审核报告书份数 | C9: 2份
A10: 收件人签字
A11: 收件日期 | C11: 2023年 月 日
A12: 事务所经办人 | C12: =Sheet1!F15 -> 王翠英
A13: 备 注

Sheet 1-5管理层声明书
A1: 管理层声明书
A2: 索引号：1-5
A3: 新疆华瑞税务师事务（所）有限公司巴州分所：
A4: 本公司已委托贵税务师事务所对本公司2021年度企业所得税年度汇算清缴纳税申报进行鉴证审核，并出具鉴证报告。为配合贵事务所的鉴证工作，本公司就已知的全部事项作出如下声明：
A5: 1.本公司已履行__2021_年__12_月_30__日与贵所签署的鉴证业务约定书中提及的责任，并承诺如下事项：
A6: （1）按照企业会计准则和《_______会计制度》和有关财务制度的规定编制2015年度财务报表，公允地反映本公司的财务状况、经营成果和现金流量情况，财务报表的编制基础与上年度保持一致，保证会计资料的真实性、准确性、完整性和合法性是我们的责任。
A7: （2）按照《中华人民共和国税收征收管理法》及其实施细则、《中华人民共和国企业所得税法》及其实施条例以及其他税收法律、法规、规范的要求，如实进行纳税申报，按照税收规定进行纳税调整，保证纳税资料的真实性、准确性、完整性和合法性是我们的责任。
A8: （3）建立、完善并有效实施与会计核算、纳税申报相关的内部控制，防止或发现并纠正错报，是我们的责任。
A9: 2.本公司向贵事务所提供如下工作条件：
A10: （1）允许接触全部涉及本次鉴证业务的相关会计数据和其他数据（如相关决议、合同、章程、股东会和董事会的会议记录等相关资料）；
A11: （2）允许接触全部涉及本次鉴证业务的相关人员。
A12: 3.本公司所有经济业务均已按规定入账，不存在账外资产或未计负债。
... A34: 财务负责人：（签名）
A35: 45678

Sheet 1-17交换意见记录
A1: 交换意见记录
A2: 索引号：1-17
A3: =利润总额!B2 -> 被审核单位: 新疆通力房地产开发有限公司库尔勒二分公司 | F3: 金额单位：元
A4: 会计期间或会计截止日： | B4: 2023年1月1日至2023年12月31日 | C4: 编制人 | D4: =Sheet1!F15 -> 王翠英 | E4: 日期 | F4: =Sheet1!H15 -> 46040
C5: 复核人 | D5: =Sheet1!F17 -> 刘洁 | E5: 日期 | F5: =Sheet1!H17 -> 46140
A6: 发现问题及处理意见 | D6: 交换意见后的处理结果
A7: 1、西部大开发：贵公司2023年若符合设在西部地区以《西部地区鼓励类产业目录》第一类 鼓励类 二十一 建筑 8、节能建筑、绿色建筑、装配式建筑技术、产品的研发与推广中的鼓励类产业项目为主营业务，且其当年度主营业务收入占企业收入总额70%以上，企业所得税汇算清缴时可享受西部地区鼓励类产业企业减按15%的税率征收企业所得税。 贵公司上述优惠政策未经我所专业审核，无法判断是否享受上述优惠政策，建议企业自行判断是否可享受西部地区鼓励类产业。
A8: 企业所得税
A9: 1、工资薪金：贵公司2023年1-12月账面在费用中列支工资、奖金6565838元，2023年度期末余额5007526.3元，2023年1-5月发放2022年度工资152940.57元，2024年发放2023年工资7526.3元，税法规定可税前扣除工资1582020.5元，纳税调增4983817.5元 | D9: 调整
A10: 2、福利费：贵公司2023年1-12月账面列支福利费31199.91元，未超工资薪金总额14%税前扣除限额，企业所得税汇算清缴时可据实扣除。
A11: 3、职工教育经费：贵公司2023年1-12月账面列支职工教育经费10686.00元，未超工资薪金总额8%税前扣除限额，企业所得税汇算清缴时可据实扣除。
A12: 4、工会经费：贵公司2023年1-12月账面列支工会经费31640.41元，已实际缴纳，企业所得税汇算清缴时可据实扣除。
A13: 6、业务招待费：贵公司2023年1-12月账面列支业务招待费80220.94元，税法允许按实际发生的业务招待费支出60%和年度销售（营业）收入5‰的比例孰低扣除4812.56元，建议企业所得税汇算清缴时调增应纳税所得额32088.38元。 | D13: 调整
A14: 7、广告费和业务宣传费支出：贵公司2023年账面在费用列支广告费和业务宣传费163892.21元，未超当年销售（营业）收入的15%税前扣除限额，企业所得税汇算清缴时可据实扣除。
A15: 8、税收滞纳金：贵公司2023年发生税收滞纳金331822.5元，企业所得税税前不可扣除，建议纳税调增331822.5元 | D15: 调整
A16: 9、无关支出：贵公司2023年发生美容院支出400000.00元，发生垫付业主子女上华山中学的赞助费用180000.00元，共计58万.属于无关支出，税前无法扣除，纳税调增580000.00元。 | D16: 调整
A17: 10、贵公司2022年水电费54万，2023年水电费94万，明显高于去年，本年度人员无重大变动，办公场所也无重大变更，水电费增加不符合实际，取得的水费票据有部分票据注明是*特行用水*，是否为非本单位发生的水电费，在本单位列支，轻贵单位予以确认。 | D17: 不调整
A18: 8、不合规票据：贵公司2023年1-12月账面列支不合规票据131506.85元，其中： （1）2023年确认支付高凤荣个人借款利息，131506.85元。未取得借款利息发票。属于不合规票据，税前不得扣除，调增应纳税所得额131506.85元 | D18: 调整
A19: 12、多计成本：贵公司2020年1-12月在费用中列支酒款等一次性进费用198,600.00，应计入库存商品科目，按照实际领用计入费用科目；建议调整账务，或企业所得税汇算清缴时应调增应纳税所得额198,600.00元。
A20: 9、贵公司2023年度列支归属于2019年及以后年度支付巴州群力物业服务费130257.63元，不得在当期税前扣除，纳税调增130257.63元 | D20: 不调整
A21: 10、房地产企业销售未完工产品预计利润： 贵公司本纳税年度发生房地产开发企业特定业务计算的纳税调整增加经审核减为166795050.63元。包括： ① ②贵公司以前年度未完工开发项目预售收入181801652元，已按预计利润-16679050.64元计入当年纳税所得，本纳税年度该开发项目完工，该预计利润转回数-16679050.64元，应纳税调整减少-16679050.64元。 贵公司本纳税年度发生房地产开发企业特定业务计算的纳税调整增加经审核增加为-16679050.64元。 | D21: 调整
A22: 11.贵公司截止2024年5月18日账面开发成本465453659.90元（含暂估），《房地产开发经营业务企业所得税处理办法》（国税发〔2009〕31号）第三十二条规定，除以下几项预提（应付）费用外，计税成本均应为实际发生的成本。（一）出包工程未最终办理结算而未取得全额发票的，在证明资料充分的前提下，其发票不足金额可以预提，但最高不得超过合同总金额的10%。贵公司截止2024年5月18日，1-5期暂估成本41544704.66元，经对贵公司暂估金额进行确认可暂估20337523.01元，，应纳税调增12595710.09元。详见附件（2023年汇算数据5.18日确认） | D22: 2023年汇算数据 (4.28确认)'!A1 | L22: 12595710
A23: 二.房产税
A24: 1.沁园锦苑35#楼目前的作为贵公司的办公室和售房部使用，属于自用房产，应按房屋余值缴纳房产税，贵公司账面35#成本7372885.11元，贵公司，实际35#缴纳的从价房产税的原值2132298.57元，明显偏低。建议按账面成本7372885.11元。
A26: （三）增值税
A27: 1.沁园锦苑3期的3#楼目前的由九重天足浴中心在用，房产企业开发项目已实际投入使用，应按投资性房地产核算，确认租金收入，租金按税法缴纳9%的不动产租赁增值税。
A28: （四）契税
A29: 贵公司城市基础配套设施费的契税，未足额缴纳，现已进入清算阶段，建议及时申报契税，作为土地增值税申报的扣除成本。
A30: 贵公司2023年1-12月已预缴企业所得税14720705.77元。
D31: 签字盖章：

Sheet 报告用数据
A1: 序 号 | B1: 项 目 | C1: 金额
A2: 1 | B2: 一、利润总额 | C2: =调整表!B49 -> 29089535 | D2: 期末存货余额 | E2: 0
A3: 2 | B3: 加：纳税调整增加额 | C3: ='A105000纳税调整项目明细表 '!E50 -> 8276509.5 | D3: 期末预收账款余额 | E3: 0
A4: 3 | B4: 减：纳税调整减少额 | C4: ='A105000纳税调整项目明细表 '!F50 -> 19041551 | D4: 应付账款余额 | E4: 0
A5: 4 | B5: 减：免税、减计收入及加计扣除 | C5: =调整表!B51 -> 0 | D5: 其他应付款余额 | E5: 0
A6: 5 | B6: 二、纳税调整后所得 | C6: =调整表!B52 -> 40000334 | D6: 招待费会计 | E6: =调整表!D25 -> 102905.92
A7: 6 | B7: 减：所得减免 | C7: =调整表!B53 -> 0 | D7: 招待费税收 | E7: =调整表!E25 -> 61743.55
A8: 7 | B8: 减：弥补以前年度亏损 | C8: =调整表!B54 -> 0 | D8: 营业收入 | E8: =调整表!D49 -> 2.707136e+08
A9: 8 | B9: 三、应纳税所得额 | C9: =调整表!B55 -> 40000334 | D9: 收入的0.05% | E9: =调整表!D50 -> 1353568
A10: 9 | B10: 税 率 | C10: 0.25 | D10: 招待费的60% | E10: =调整表!D51 -> 61743.552
A11: 10 | B11: 四、应纳所得税额 | C11: =C9*C10 -> 10000084 | D11: 招待费调增 | E11: =调整表!F25 -> 41162.37
A12: 11 | B12: 减：减免所得税额 | C12: =调整表!B57 -> 0
A13: 12 | B13: 减：抵免所得税额 | C13: 0
A14: 13 | B14: 五、应纳税额 | C14: =调整表!B58 -> 10000084
A15: 14 | B15: 减:本年累计实际已预缴的所得税额 | C15: =调整表!D56 -> 9826650.5
A16: 15 | B16: 六、本年应补（退）的所得税额 | C16: =C14-C15 -> 173433.07
B18: 申报表项目 | C18: 账载金额 | D18: 利润表项目 | E18: 审核确认数 | F18: 调整数
B19: 营业收入 | C19: =利润总额!D6 -> 2.7020849e+08 | D19: =利润总额!H6 -> 2.7020849e+08 | E19: =利润总额!G6 -> 2.7020849e+08 | F19: =E19-D19 -> 0
B20: 营业成本 | C20: =利润总额!D9 -> 2.2479137e+08 | D20: =利润总额!H9 -> 2.2479137e+08 | E20: =利润总额!G9 -> 2.2747783e+08 | F20: =E20-D20 -> 2686454.7
B21: 税金及附加 | C21: =利润总额!D12 -> 4250790.2 | D21: =利润总额!H12 -> 4250790.2 | E21: =利润总额!G12 -> 4250790.2 | F21: =E21-D21 -> 0
B22: 销售费用 | C22: =利润总额!D13 -> 5231485.5 | D22: =利润总额!H13 -> 5231485.5 | E22: =利润总额!G13 -> 5231485.5 | F22: =E22-D22 -> 0
B23: 管理费用 | C23: =利润总额!D14 -> 2693755.5 | D23: =利润总额!H14 -> 2693755.5 | E23: =利润总额!G14 -> 2693755.5 | F23: =E23-D23 -> 0
B24: 财务费用 | C24: =利润总额!D15 -> 1464887.5 | D24: =利润总额!H15 -> 1464887.5 | E24: =利润总额!G15 -> 1464887.5 | F24: =E24-D24 -> 0
B25: 资产减值损失 | C25: =利润总额!D16 -> 0 | D25: =利润总额!H16 -> 0 | E25: =利润总额!G16 -> 0 | F25: =E25-D25 -> 0
B26: 公允价值变动净收益 | C26: =利润总额!D17 -> 0 | D26: =利润总额!H17 -> 0 | E26: =利润总额!G17 -> 0 | F26: =E26-D26 -> 0
B27: 投资收益 | C27: =利润总额!D18 -> 0 | D27: =利润总额!H18 -> 0 | E27: =利润总额!G18 -> 0 | F27: =E27-D27 -> 0
B28: 营业外收入 | C28: =利润总额!D20 -> 11014.59 | D28: =利润总额!H20 -> 11014.59 | E28: =利润总额!G20 -> 11014.59 | F28: =E28-D28 -> 0
B29: 营业外支出 | C29: =利润总额!D21 -> 11221.12 | D29: =利润总额!H21 -> 11221.12 | E29: =利润总额!G21 -> 11221.12 | F29: =E29-D29 -> 0
B30: 以前年度损益调整 | F30: =E30-D30 -> 0
B31: 利润总额 | C31: =利润总额!D22 -> 31775990 | D31: =利润总额!H22 -> 31775990 | E31: =利润总额!G22 -> 29089535 | F31: =E31-D31 -> -2686454.7
A33: 行次 | B33: 纳税调整 | C33: 账载金额 | D33: 税收金额 | E33: 纳税调整 | F33: 纳税调整 | G33: 结转以后年度金额
B34: 项目 | E34: 增加额 | F34: 减少额 | H34: 备注
A35: 1 | B35: 投资收益 | C35: =调整表!D15 -> 0 | D35: =调整表!E15 -> 0 | E35: =MAX(C35-D35,0) -> 0 | F35: =MAX(D35-C35,0) -> 0
A36: 2 | B36: 不征税收入 | C36: =调整表!D13 -> 0 | D36: =调整表!E13 -> 0 | F36: =MAX(D36-C36,0) -> 0
A37: 3 | B37: 职工薪酬 | C37: ='5050职工薪酬调整表'!C20 -> 3959114.8 | D37: ='5050职工薪酬调整表'!G20 -> 3959114.8 | E37: =MAX('5050职工薪酬调整表'!H20,0) -> 0.01 | F37: =-MIN('5050职工薪酬调整表'!H20,0) -> 0 | G37: ='5050职工薪酬调整表'!I20 -> 0
A38: 4 | B38: 业务招待费 | C38: =调整表!D25 -> 102905.92 | D38: =调整表!E25 -> 61743.55 | E38: =MAX(C38-D38,0) -> 41162.37
A39: 5 | B39: 广告费和业务宣传费 | C39: =调整表!D26 -> 963921.59 | D39: =调整表!E26 -> 963921.59 | E39: =MAX(C39-D39,0) -> 0 | F39: =MAX(D39-C39,0) -> 0 | G39: =E39 -> 0
A40: 6 | B40: 捐赠支出 | C40: =A105070捐赠支出纳税调整明细表!C12 -> 0 | D40: =A105070捐赠支出纳税调整明细表!F12 -> 0 | E40: =A105070捐赠支出纳税调整明细表!G12 -> 0 | F40: =A105070捐赠支出纳税调整明细表!H12 -> 0 | G40: =A105070捐赠支出纳税调整明细表!I12 -> 0
A41: 7 | B41: 罚款支出 | C41: =调整表!D29 -> 0 | D41: =调整表!E29 -> 0 | E41: =MAX(C41-D41,0) -> 0
A42: 8 | B42: =调整表!A30 -> 税收滞纳金、加收利息 | C42: =调整表!D30 -> 0 | D42: =调整表!E30 -> 0 | E42: =MAX(C42-D42,0) -> 0
...

Sheet 1-4基础信息
A1: 新疆华政华瑞税务师事务所有限责任公司工作底稿 | K1: 编 制： | L1: =Sheet1!F15 -> 王翠英 | N1: 日 期： | O1: =Sheet1!H15 -> 46040
A2: =利润总额!B2 -> 被审核单位: 新疆通力房地产开发有限公司库尔勒二分公司 | K2: 复 核： | L2: =Sheet1!F17 -> 刘洁 | N2: 日 期： | O2: =Sheet1!H17 -> 46140
A3: =利润总额!B3 -> 纳税年度: 2025年度 | K3: 索 引： | L3: Z5 | S3: 国有
A4: 企业基本情况 索引号1-4 | S4: 非国有
A5: 企业名称 | C5: =Sheet1!F7 -> 新疆通力房地产开发有限公司库尔勒二分公司 | K5: 经济类型 | N5: 国有 | O5: 有限责任公司 | Q5: 季度 | R5: 从业人数（人） | U5: 105资产总额（万元） | X5: 备注
K6: 税收优惠 | R6: 季初人数 | S6: 季末人数 | T6: 季度平均人数 | U6: 季初资产总额 | V6: 季末资产总额 | W6: 季度平均资产总额
A7: 企业注册地址 | C7: 新疆巴州库尔勒市人民东路一州大酒店旁通力大厦 | K7: 一般纳税人还是小规模纳税人 | N7: 一般 | Q7: 1 | T7: =(R7+S7)/2 -> 0 | W7: =(U7+V7)/2 -> 0
A8: 纳税人识别号： | E8: =Sheet1!F9 -> 91652801576209018D | K8: 所得税查账征收还是核定征收 | N8: 查账 | Q8: 2 | T8: =(R8+S8)/2 -> 0 | W8: =(U8+V8)/2 -> 0
A9: 通行密码： | K9: 所得税主管税务机关 | Q9: 3 | T9: =(R9+S9)/2 -> 0 | W9: =(U9+V9)/2 -> 0
A10: 其他基本信息 | C10: 是否有房、地、车？ | L10: 是 | Q10: 4 | T10: =(R10+S10)/2 -> 0 | W10: =(U10+V10)/2 -> 0
C11: 停产还是正常经营？ | L11: 经营期 | Q11: 全年季平均值 | R11: =ROUNDUP(SUM(T7:T10)/4,0) -> 0 | U11: =SUM(W7:W10)/4 -> 0
C12: 是否存在上年结转职教费、广宣费、资本化支出的后续处理等特殊事项 | Q12: 月份 | R12: 人数 | S12: 申报工资总额 | U12: 代扣代缴个人所得税税款 | W12: 备注
A13: 经营范围 | L13: 经营期限 | N13: 长期 | Q13: 1 | S13: 0 | U13: 0
L14: 成立日期 | Q14: 2
L15: 注册资本（万元） | Q15: 3
A16: 法人代表 | F16: 会计机构负责人 | M16: 联系电话 | Q16: 4
A17: 300企业主要股东及分红情况（前10位股东） | Q17: 5
A18: 股东名称 | B18: 证件种类 | E18: 证件号码 | I18: 投资比例 | K18: 当年（决议日）分配的股息、红利等权益性投资收益金额 | M18: 国籍（注册地址） | N18: 认缴出资额 | O18: 实缴出资额 | P18: 实缴出资比例 | Q18: 6
I19: =IFERROR(N19/$N$30,0) -> 0 | O19: =N19 -> 0 | P19: =IFERROR(O19/$O$30,0) -> 0 | Q19: 7
I20: =IFERROR(N20/$N$30,0) -> 0 | O20: =N20 -> 0 | P20: =IFERROR(O20/$O$30,0) -> 0 | Q20: 8
I21: =IFERROR(N21/$N$30,0) -> 0 | O21: =N21 -> 0 | P21: =IFERROR(O21/$O$30,0) -> 0 | Q21: 9
I22: =IFERROR(N22/$N$30,0) -> 0 | O22: =N22 -> 0 | P22: =IFERROR(O22/$O$30,0) -> 0 | Q22: 10
I23: =IFERROR(N23/$N$30,0) -> 0 | O23: =N23 -> 0 | P23: =IFERROR(O23/$O$30,0) -> 0 | Q23: 11
I24: =IFERROR(N24/$N$30,0) -> 0 | P24: =IFERROR(O24/$O$30,0) -> 0 | Q24: 12
I25: =IFERROR(N25/$N$30,0) -> 0 | P25: =IFERROR(O25/$O$30,0) -> 0 | Q25: 合计 | R25: =SUM(R13:R24) -> 0 | S25: =SUM(S14:S24) -> 0 | U25: =SUM(U14:U24) -> 0
I26: =IFERROR(N26/$N$30,0) -> 0 | P26: =IFERROR(O26/$O$30,0) -> 0
I27: =IFERROR(N27/$N$30,0) -> 0 | P27: =IFERROR(O27/$O$30,0) -> 0
I28: =IFERROR(N28/$N$30,0) -> 0 | P28: =IFERROR(O28/$O$30,0) -> 0
A29: 其余股东合计 | B29: —— | E29: —— | I29: =IFERROR(N29/$N$30,0) -> 0 | L29: 超过10位的其余股东 | P29: =IFERROR(O29/$O$30,0) -> 0 | R29: 超过10位的其余股东
A30: 合计 | I30: =SUM(I19:J29) -> 0 | K30: =SUM(K19:L29) -> 0 | N30: =SUM(N19:N29) -> 0 | O30: =SUM(O19:O29) -> 0 | P30: =SUM(P19:P29) -> 0
A31: 对外投资概况 | B31: 名称 | H31: 投资比例 | J31: 名称 | M31: 投资总额(万元) | O31: 投资比例
A37: 委托项目 | B37: 类别 | D37: 所得税汇算清缴 | I37: 前事务所名称及审核报告编号
B38: 目的
B39: 范围
A40: 六、基本税（费）项目及税（费）率
A41: （一）税（费）项目 | E41: 计税依据 | N41: 说明 | O41: 税（费）率/征收率
A42: 增值税 | E42: 按销售应税货物、提供应税劳务和应税服务的销售额计算销项税额
A43: 消费税 | E43: 按应税销售额、应税销售量（从价计征、从量计征、从价从量复合计征）
A44: 资源税 | E44: 按应税销售额、应税销售量（从价定率、从量定额）
A45: 城市维护建设税 | E45: 按实缴流转税税额
...

Sheet 利润总额
A1: 新疆华政华政华瑞税务师事务所有限公司巴州分所工作底稿 | E1: ="编制： "&Sheet1!F15 -> 编制： 王翠英 | F1: 日期： | G1: =Sheet1!H15 -> 46040
B2: ="被审核单位: "&Sheet1!F7 -> 被审核单位: 新疆通力房地产开发有限公司库尔勒二分公司 | E2: ="复合： "&Sheet1!F17 -> 复合： 刘洁 | F2: 日期： | G2: =Sheet1!H17 -> 46140
B3: ="纳税年度: "&YEAR(Sheet1!F11)&"年度" -> 纳税年度: 2025年度 | E3: 索 引： Y12
B4: 利润总额审定表
B5: 项目 | D5: 本期未审数 | E5: 审计调整(借方) | F5: 审计调整(贷方) | G5: 本期审定数 | H5: 利润表 | I5: 差额
B6: 一、营业收入 | D6: =主营业务收入!B18+其他业务收入、成本!C20 -> 2.7020849e+08 | E6: 0 | F6: =SUM(F7:F8) -> 0 | G6: =主营业务收入!B20+其他业务收入、成本!F20 -> 2.7020849e+08 | H6: 2.7020849e+08 | I6: =G6-H6 -> 0
B7: 其中：主营业务收入 | D7: =主营业务收入!B18 -> 2.6924186e+08 | F7: =G7-D7 -> 0 | G7: =主营业务收入!B20 -> 2.6924186e+08 | H7: 2.6924186e+08 | I7: =G7-H7 -> 0
B8: 其他业务收入 | D8: =其他业务收入、成本!C20 -> 966627.23 | F8: =G8-D8 -> 0 | G8: =其他业务收入、成本!F20 -> 966627.23 | H8: 966627.23 | I8: =G8-H8 -> 0
B9: 减:营业成本 | D9: =SUM(D10:D11) -> 2.2479137e+08 | E9: 2686454.7 | F9: =SUM(F10:F11) -> 0 | G9: =SUM(G10:G11) -> 2.2747783e+08 | H9: 2.2479137e+08 | I9: =G9-H9 -> 2686454.7
B10: 其中：主营业务成本 | D10: =主营业务成本!B18 -> 2.2479137e+08 | E10: 2686454.7 | G10: =SUM(D10:E10) -> 2.2747783e+08 | H10: 2.2479137e+08 | I10: =G10-H10 -> 2686454.7 | J10: 主营业务成本增加额属于按企业几税务局要求增肌的预计毛利部分成本 | K10: =G7-G10 -> 41764033
B11: 其他业务成本 | D11: =其他业务收入、成本!G20 -> 0 | G11: =其他业务收入、成本!J20 -> 0 | H11: 0 | I11: =G11-H11 -> 0 | P11: 15186451
B12: 税金及附加 | D12: =税金及附加!E18 -> 4250790.2 | E12: =税金及附加!F18 -> 0 | F12: =税金及附加!G18 -> 0 | G12: =税金及附加!H18 -> 4250790.2 | H12: 4250790.2 | I12: =G12-H12 -> 0 | P12: 3532088.2
B13: 销售费用 | D13: =销售费用!C56 -> 5231485.5 | E13: =销售费用!D56 -> 0 | F13: =销售费用!E56 -> 0 | G13: =销售费用!F56 -> 5231485.5 | H13: 5231485.5 | I13: =G13-H13 -> 0 | P13: =P11+P12 -> 18718539
B14: 管理费用 | D14: =管理费用!C72 -> 2693755.5 | E14: =管理费用!D72 -> 41004.24 | F14: =管理费用!E72 -> 41004.24 | G14: =管理费用!F72 -> 2693755.5 | H14: 2693755.5 | I14: =G14-H14 -> 0 | P14: 18549931
B15: 财务费用 | D15: =财务费用!C14 -> 1464887.5 | E15: =财务费用!D14 -> 0 | F15: =财务费用!E14 -> 0 | G15: =D15+E15-F15 -> 1464887.5 | H15: 1464887.5 | I15: =G15-H15 -> 0 | P15: =P13-P14 -> 168607.92
B16: 资产减值损失 | G16: =D16+E16-F16 -> 0 | I16: =G16-H16 -> 0
B17: 加:公允价值变动收益(损失以“-”号填列) | E17: 0 | F17: 0 | G17: 0 | I17: =G17-H17 -> 0
B18: 投资收益(损失以“-”号填列) | E18: 0 | F18: 0 | G18: =D18-E18+F18 -> 0 | I18: =G18-H18 -> 0
B19: 二、营业利润(亏损以“-”号填列) | D19: =D6-D9-D12-D13-D14-D15-D16+D17+D18 -> 31776196 | E19: =E6-E9-E12-E13-E14-E15-E16+E17+E18 -> -2727458.9 | F19: =F6-F9-F12-F13-F14-F15-F16+F17+F18 -> -41004.24 | G19: =G6-G9-G12-G13-G14-G15-G16+G17+G18 -> 29089742 | H19: 31776196 | I19: =G19-H19 -> -2686454.7
B20: 加:营业外收入 | D20: =营业外收入鉴证表!C23 -> 11014.59 | E20: =营业外收入鉴证表!D23 -> 0 | F20: =营业外收入鉴证表!E23 -> 0 | G20: =营业外收入鉴证表!F23 -> 11014.59 | H20: 11014.59 | I20: =G20-H20 -> 0
B21: 减:营业外支出 | D21: =营业外支出!C20 -> 11221.12 | E21: =营业外支出!D20 -> 0 | F21: =营业外支出!E20 -> 0 | G21: =营业外支出!F20 -> 11221.12 | H21: 11221.12 | I21: =G21-H21 -> 0
B22: 三、利润总额 | D22: =D19+D20-D21 -> 31775990 | E22: =E19+E20-E21 -> -2727458.9 | F22: =F19+F20-F21 -> -41004.24 | G22: =G19+G20-G21 -> 29089535 | H22: =H19+H20-H21 -> 31775990 | I22: =G22-H22 -> -2686454.7
B23: 项目 | D23: 账载金额 | E23: 审定金额 | F23: 差额 | G23: 备注
B24: 所得税费用 | I24: =I22-I23 -> -2686454.7
B25: 净利润 | I25: =I23-I24 -> 2686454.7
B26: 提取盈余公积 | F26: =E26-D26 -> 0
B27: 分配股利 | F27: =E27-D27 -> 0
B28: 未分配利润年初 | E28: =D28 -> 0 | F28: =E28-D28 -> 0
B29: 补提上年度所得税 | F29: =E29-D29 -> 0
B30: 以前年度损益调整 | F30: =E30-D30 -> 0
B31: 未分配利润年末 | D31: =D25-D26-D27+D28-D29+D30 -> 0 | E31: =E25-E26-E27+E28-E29+E30 -> 0 | F31: =E31-D31 -> 0

Sheet 调整表
A1: 新疆华政华政华瑞税务师事务所有限公司巴州分所工作底稿 | D1: 编 制： | E1: =Sheet1!F15 -> 王翠英 | F1: 日期： | G1: =Sheet1!H15 -> 46040
A2: ='目录（简版）'!A2 -> 被审核单位：新疆通力房地产开发有限公司库尔勒二分公司 | D2: 复 核： | E2: =Sheet1!F17 -> 刘洁 | F2: 日期： | G2: =Sheet1!H17 -> 46140
A3: 项 目：纳税调整汇总记录 | D3: 索 引： | E3: Z3
A4: =利润总额!B3 -> 纳税年度: 2025年度
A5: 项目 | B5: 账载金额 | C5: 调整账载金额 | D5: 调整后账载金额 | E5: 税法可列 | F5: 纳税调整额 | G5: 说明
A6: 营业收入 | B6: =主营业务收入!B18+其他业务收入、成本!C20 -> 2.7020849e+08 | D6: =SUM(B6:C6) -> 2.7020849e+08 | E6: =D6 -> 2.7020849e+08 | F6: =E6-D6 -> 0
A7: 营业成本 | B7: =主营业务成本!B18 -> 2.2479137e+08 | D7: =SUM(B7:C7) -> 2.2479137e+08 | E7: =D7 -> 2.2479137e+08 | F7: =D7-E7 -> 0 | I7: =E6-E7 -> 45417115
A8: 利润总额 | B8: =利润总额!D22 -> 31775990 | C8: =利润总额!F22-利润总额!E22 -> 2686454.7 | D8: =SUM(B8:C8) -> 34462445 | E8: =D8 -> 34462445 | F8: =E8-D8 -> 0
A9: 视同销售收入 | C9: =SUMIF(凭证检查表!H7:H5005,调整事项!B2,凭证检查表!G7:G5005) -> 505107.23 | D9: =SUM(B9:C9) -> 505107.23 | E9: =D9 -> 505107.23 | F9: =E9 -> 505107.23
A10: 视同销售成本 | C10: =C9 -> 505107.23 | D10: =SUM(B10:C10) -> 505107.23 | E10: =D10 -> 505107.23 | F10: =-E10 -> -505107.23
A11: 房产企业销售未完工产品的收入 | D11: =B11-C11 -> 0 | E11: =预计毛利计算表表!H25 -> 10367584 | F11: =E11 -> 10367584 | G11: 特殊事项
A12: 房产企业销售的未完工产品转完工产品确认的销售收入 | E12: =预计毛利计算表表!I17 -> 19041551 | F12: =-E12 -> -19041551 | G12: 特殊事项 | I12: =D12/1.09 -> 0
A13: 不征税收入 | B13: ='5040不征税'!F16 -> 0 | D13: =SUM(B13:C13) -> 0 | F13: =-D13 -> 0
A14: 不征税支出 | B14: ='5040不征税'!M16 -> 0 | D14: =SUM(B14:C14) -> 0 | F14: =D14 -> 0
A15: 投资收益（权益法） | D15: =SUM(B15:C15) -> 0 | E15: 0 | F15: =E15-D15 -> 0
A16: 工资 | B16: =工资薪金和三项经费支出!C14 -> 3395912.4 | C16: =工资薪金和三项经费支出!C15 -> 0 | D16: =SUM(B16:C16) -> 3395912.4 | E16: =工资薪金和三项经费支出!C18 -> 3395912.4 | F16: =D16-E16 -> 0 | H16: 收入类 | L16: 10400000
A17: 福利费 | B17: =工资薪金和三项经费支出!D14 -> 27676 | C17: =工资薪金和三项经费支出!D15 -> 11867.02 | D17: =SUM(B17:C17) -> 39543.02 | E17: =工资薪金和三项经费支出!D18 -> 39543.02 | F17: =D17-E17 -> 0 | H17: =F15+F13+F6+F9+N("少计收入+不征税收入+视同销售收入+投资收益") -> 505107.23
A18: 职教费 | B18: =工资薪金和三项经费支出!F14 -> 200051 | C18: =工资薪金和三项经费支出!F15 -> 0 | D18: =SUM(B18:C18) -> 200051 | E18: =工资薪金和三项经费支出!F18 -> 200051 | F18: =D18-E18 -> 0 | H18: 其中：收入类调增
A19: 工会经费 | B19: =工资薪金和三项经费支出!E14 -> 67918.25 | C19: =工资薪金和三项经费支出!E15 -> 0 | D19: =SUM(B19:C19) -> 67918.25 | E19: =工资薪金和三项经费支出!E18 -> 67918.24 | G19: 超过工资总额的2% | H19: =F6+F9+MAX(F15,0)+N("少计收入+视同销售收入+投资收益账面负数") -> 505107.23 | J19: =D19/0.02 -> 3395912.5 | L19: 7247.15
A20: 党组织工作经费 | B20: ='4000期间费用明细表 '!E30+'4000期间费用明细表 '!C30+'4000期间费用明细表 '!G30 -> 0 | C20: =SUMIF(凭证检查表!H7:H5005,调整事项!B19,凭证检查表!G7:G5005) -> 0 | D20: =SUM(B20:C20) -> 0 | E20: =MIN(E16*0.01,D20) -> 0 | F20: =D20-E20 -> 0
A21: 社保 | B21: =工资薪金和三项经费支出!G14 -> 218390.18 | C21: 0 | D21: =SUM(B21:C21) -> 218390.18 | E21: =工资薪金和三项经费支出!G18 -> 218390.18 | F21: =D21-E21 -> 0
A22: 住房公积金 | B22: =工资薪金和三项经费支出!H14 -> 37300 | D22: =SUM(B22:C22) -> 37300 | E22: =工资薪金和三项经费支出!H18 -> 37300 | F22: =D22-E22 -> 0
A23: 补充养老保险（年金） | B23: =工资薪金和三项经费支出!I14 -> 0 | C23: =工资薪金和三项经费支出!I15 -> 0 | D23: =SUM(B23:C23) -> 0 | E23: =工资薪金和三项经费支出!I18 -> 0 | F23: =D23-E23 -> 0 | H23: 其中：收入类调减
A24: 补充医疗保险 | B24: =工资薪金和三项经费支出!J14 -> 0 | C24: =工资薪金和三项经费支出!J15 -> 0 | D24: =SUM(B24:C24) -> 0 | E24: =工资薪金和三项经费支出!J18 -> 0 | F24: =D24-E24 -> 0 | H24: =-F13-MIN(F15,0)+N("不征税收入+投资收益账面正数") -> 0
A25: 业务招待费 | B25: =销售费用!C18+管理费用!C18 -> 73768.7 | C25: =SUMIF(凭证检查表!H7:H5005,调整事项!B24,凭证检查表!G7:G5005) -> 29137.22 | D25: =SUM(B25:C25) -> 102905.92 | E25: =ROUND(MIN(D25*0.6,D49*0.005),2) -> 61743.55 | F25: =D25-E25 -> 41162.37 | H25: 扣除类合计 | L25: 82473.33
A26: 广告费和业务宣传费 | B26: =销售费用!C19+管理费用!C19 -> 963921.59 | C26: =销售费用!D19-销售费用!E19+管理费用!D19-管理费用!E19 -> 0 | D26: =SUM(B26:C26) -> 963921.59 | E26: =A105060广告费和业务宣传费跨年度纳税调整明细表!C4-A105060广告费和业务宣传费跨年度纳税调整明细表!C16 -> 963921.59 | F26: =D26-E26 -> 0 | H26: =F48-H34-H17-H40-H49+N("总调整额-收入类-资产类-特殊事项-其他调整") -> #REF!
A27: 捐赠 | B27: =SUMIF(凭证检查表!$H$7:$H$5005,调整事项!B26,凭证检查表!$G$7:$G$5005) -> 0 | D27: =SUM(B27:C27) -> 0 | F27: =D27-E27 -> 0 | H27: 其中：扣除类调增
A28: 利息支出 | B28: =SUMIF(凭证检查表!$H$7:$H$5005,调整事项!B27,凭证检查表!$E$7:$E$5005) -> 0 | D28: =SUM(B28:C28) -> 0 | E28: =D28-SUMIF(凭证检查表!$H$7:$H$5005,调整事项!B27,凭证检查表!$G$7:$G$5005) -> 0 | F28: =D28-E28 -> 0 | H28: =MAX(SUM(F16:F24),0)+MAX(F25,0)+MAX(F26,0)+MAX(F27,0)+MAX(F28,0)+MAX(F29,0)+MAX(F30,0)+MAX(F31,0)+MAX(F32,0)+MAX(F33,0)+MAX(F34,0)+MAX(F35,0)+MAX(F39,0)+MAX(F37,0)+MAX(#REF!,0) -> #REF!
A29: 罚款 | B29: =SUMIF(凭证检查表!$H$7:$H$5005,调整事项!B28,凭证检查表!$G$7:$G$5005) -> 0 | D29: =SUM(B29:C29) -> 0 | F29: =D29-E29 -> 0 | H29: 其中：扣除类调减
A30: 税收滞纳金、加收利息 | B30: =SUMIF(凭证检查表!$H$7:$H$5005,调整事项!B29,凭证检查表!$G$7:$G$5005) -> 0 | D30: =SUM(B30:C30) -> 0 | F30: =D30-E30 -> 0 | H30: =-MIN(F18,0)-MIN(F26,0)-MIN(F10,0)-MIN(#REF!,0)-MIN(SUM(F16:F24),0) -> #REF!
A31: 赞助支出 | B31: =SUMIF(凭证检查表!$H$7:$H$5005,调整事项!B30,凭证检查表!$G$7:$G$5005) -> 0 | D31: =SUM(B31:C31) -> 0 | F31: =D31-E31 -> 0 | G31: 以前年度结转公益性捐赠支出 | H31: 扣除类-其他
A32: 佣金和手续费 | B32: =SUMIF(凭证检查表!$H$7:$H$5005,调整事项!B32,凭证检查表!$G$7:$G$5005) -> 0 | D32: =SUM(B32:C32) -> 0 | E32: =MIN(D49*5%,D32) -> 0 | F32: =D32-E32 -> 0 | H32: =F35+F39+F37+F7+#REF!+N("多结转成本+跨期票据+不合规票据+商业保险+资本性支出") -> #REF!
A33: 归属于当年的费用 | D33: =SUM(B33:C33) -> 0 | F33: =D33-E33 -> 0 | H33: 资产类合计
A34: 无关支出 | B34: =SUMIF(凭证检查表!$H$7:$H$5005,调整事项!B35,凭证检查表!$G$7:$G$5005) -> 10860 | D34: =SUM(B34:C34) -> 10860 | F34: =D34-E34 -> 10860 | H34: =F40+F41+#REF!+F43+F42+N("折旧+摊销+资产减值损失+资产损失+资本性支出") -> #REF!
A35: 跨期票据 | B35: =凭证检查表!G9 -> 0 | D35: =SUM(B35:C35) -> 0 | F35: =D35-E35 -> 0 | H35: 其中：资产类调增
A36: 不合规票据 | B36: =SUMIF(凭证检查表!$H$7:$H$5005,调整事项!B38,凭证检查表!$G$7:$G$5005) -> 3224 | D36: =SUM(B36:C36) -> 3224 | F36: =D36-E36 -> 3224 | H36: =MAX(F40,0)+MAX(F41,0)+MAX(F42,0)+MAX(F43,0) -> 0
A37: 商业保险 | B37: =SUMIF(凭证检查表!$H$7:$H$5005,调整事项!B39,凭证检查表!$G$7:$G$5005) -> 0 | D37: =SUM(B37:C37) -> 0 | F37: =D37-E37 -> 0 | H37: 其中：资产类调减
A38: 以前年度损益调整 | B38: =SUMIF(凭证检查表!$H$7:$H$5005,调整事项!B40,凭证检查表!$G$7:$G$5005) -> 0
A39: 其他扣除事项 | D39: =SUM(B39:C39) -> 0 | F39: =[19]二期税代单方面积核算!$D$20+[19]一期税代单方面积核算!$C$25 -> 19529520 | G39: 暂估成本多结转主营业务成本 | H39: 特殊事项（房产企业）
A40: 固定资产折旧 | B40: =固定资产折旧!L57 -> 6467.36 | D40: =SUM(B40:C40) -> 6467.36 | E40: =固定资产折旧!P57 -> 6467.36 | F40: =D40-E40 -> 0 | H40: =F11+F12+N("房产企业期末预收账款*0.1或0.05-期初预收账款*0.1或0.05") -> -8673967.3
...

Sheet 人员车辆
A1: =YEAR(Sheet1!F11)&"年度"&Sheet1!F9&"人员、车辆情况表" -> 2025年度91652801576209018D人员、车辆情况表
A2: 序号 | B2: 职工姓名 | C2: 部门 | D2: 月份 | E2: 工资总额 | F2: 车辆（车号） | G2: 年行驶里程 | H2: 单位油耗 | I2: 可扣除油料费用
A3: 1 | D3: 1月
A4: 2 | D4: 2月
A5: 3 | D5: 3月
A6: 4 | D6: 4月
A7: 5 | D7: 5月
A8: 6 | D8: 6月
A9: 7 | D9: 7月
A10: 8 | D10: 8月
A11: 9 | D11: 9月
A12: 10 | D12: 10月
A13: 11 | D13: 11月
A14: 12 | D14: 12月
A15: 13 | D15: 年终奖
A16: 14
A17: 15
A18: 16
A19: 17
A20: 18
A21: 合计 | E21: =SUM(E3:E15) -> 0 | G21: =SUM(G3:G20) -> 0 | I21: =SUM(I3:I20) -> 0

Sheet 2023年汇算数据 (5.18确认)
A1: 税务局确认2020-2022结转成本
C2: 实际成本 | D2: 暂估成本 | E2: 公共设施分摊成本 | F2: 实际开发成本 | G2: 总可售面积 | H2: 单位成本 | I2: 截止清算时间已售面积 | J2: 2020年结转面积 | K2: 2020年可结转金额 | L2: 2021年结转销售面积 | M2: 2021年可结转金额 | N2: 2022年结转销售面积 | O2: 2022年可结转金额 | P2: 2023年结转销售面积 | Q2: 2023年可结转金额
A3: 春和景苑 | C3: 28234494 | D3: 2324150.5 | F3: =C3-D3 -> 25910344 | G3: 12227.4 | H3: =F3/G3 -> 2119.0395 | I3: 9918 | L3: 9918 | M3: =H3*L3 -> 21016634 | N3: 1051 | O3: =H3*N3 -> 2227110.5
A4: 沁春景苑1期一批次 | B4: 19、20、23.24 | C4: 58989418 | D4: 24989.59 | E4: 6455888.8 | F4: =C4-D4+E4 -> 65420317 | G4: 18332.84 | H4: =F4/G4+0.05 -> 3568.527 | I4: 16964.23 | J4: 16964.23 | K4: =H4*J4+76.39 -> 60537389 | L4: 330.856 | M4: =H4*L4+1.48 -> 1180670 | N4: 284.62 | O4: =H4*N4+15.57 -> 1015689.7
A5: 沁春景苑1期2批次 | B5: 25-36，不包含31# | C5: 84989775 | D5: 1007039 | E5: 10857586 | F5: =C5-D5+E5 -> 94840323 | G5: 30811.86 | H5: =F5/G5 -> 3078.046 | I5: 29924 | L5: 29924 | M5: =H5*L5 -> 92107449 | N5: 865.38 | O5: =H5*N5 -> 2663679.5
A6: 沁春景苑2期 | B6: 1.2.3.4-11.16.17 | C6: 1.3410189e+08 | D6: 35833187 | E6: 16798609 | F6: =C6-D6+E6 -> 1.1506731e+08 | G6: 47708.35 | H6: =F6/G6 -> 2411.8903 | I6: 46204 | N6: 46204 | O6: =H6*N6 -> 1.1143898e+08
A7: 天鹅水景 | E7: 8682733.8 | F7: =C7-D7+E7 -> 8682733.8 | G7: 24659.12 | H7: =F7/G7 -> 352.11045
A8: 沁春景苑三期1批次 | B8: 12.13.14.15. | E8: 9200424.2 | F8: =C8-D8+E8 -> 9200424.2 | G8: 26129.37 | H8: =F8/G8 -> 352.11045
A9: 沁春景苑三期3批次 | B9: 18.21.22 | E9: 9573612.5 | F9: =C9-D9+E9 -> 9573612.5
A10: 天鹅水景 | O10: 31633953
E11: =SUM(E4:E9) -> 61568854 | K11: =SUM(K3:K9) -> 60537389 | M11: =SUM(M3:M9) -> 1.1430475e+08 | O11: =SUM(O3:O10) -> 1.4897941e+08
K12: 60537389 | M12: 1.1430475e+08 | O12: 1.4897941e+08
C13: 开发产品账面数据
E14: =#REF!-#REF!-#REF! -> #REF! | F14: 4.6533386e+08 | N14: =N20-N15 -> 4.2879
F15: =#REF!-F14 -> #REF! | N15: 23798705 | O15: =O16-M20 -> 5801441.6 | P15: =P16-N20 -> 32448577
F16: 2604075.8 | G16: =G17-G20 -> -35561.05 | H16: =H17-H20 -> -35561.046 | L16: 3018.3464 | M16: =L16*(M25+M26)-N25 -> -6130534.7 | O16: 5812802.9 | P16: 56247286
F17: =F15-F16 -> #REF! | G17: 4125993.2 | H17: 1801842.7 | I17: =G17-H17 -> 2324150.5 | L17: 3341.4924 | M17: =L17*(M21+M22)-N21 -> -2411957.1 | N17: =23798705.03/2094.73 -> 11361.228
C18: 开发产品账面数据 | H18: =G20-H20 -> 2324150.5
A19: 项目名称 | B19: 设计楼号 | C19: 账面开发产品（2023.12.31） | D19: 2024年1-4月发生额 | E19: 账面开发产品 | F19: 账面开发成本（含暂估-含余额调节） | G19: 截至2024年3月账面暂估金额 | H19: 可暂估的成本 | I19: 公共设施分摊成本 | J19: 实际开发成本 | K19: 总可售面积 | L19: 单位成本 | M19: 截至2023年12月已售面积 | N19: 截至2023年总可结转成本 | O19: 2020年已结转成本 | P19: 2021年已结转成本 | Q19: 2022年已结转成本 | R19: 2023年账面实际确认成本 | S19: 2023年可结转金额 | T19: 应调增应纳税所得额 | U19: 施姐账面应调整金额 | V19: 差额 | W19: 沁春锦苑一期 | X19: -3560252.6 | Y19: 19-24，同时包含35.36#商业
A20: 春和景苑 | C20: 27937208 | E20: =C20+D20 -> 27937208 | F20: 27937208 | G20: 4161554.3 | H20: 1837403.8 | J20: =E20-G20+H20 -> 25613057 | K20: 12227.4 | L20: =ROUND(J20/K20,2) -> 2094.73 | M20: 11361.23 | N20: =L20*M20 -> 23798709 | P20: =M3 -> 21016634 | Q20: =O3 -> 2227110.5 | R20: 2714430.2 | S20: =N20-O20-P20-Q20 -> 554964.87 | T20: =R20-S20 -> 2159465.3 | U20: =-T20 -> -2159465.3 | V20: =U20+T20 -> 0 | W20: 沁春锦苑二期项目 | X20: -23165350 | Y20: 25-30,同时32.33.34商业
A21: 沁春景苑1期一批次 | B21: 19、20、23.24住宅 | C21: 71546564 | D21: 128358.82 | E21: =C21+D21 -> 71674922 | F21: =54106989.07 -> 54106989 | I21: =N42 -> 6999922 | J21: =E21-G21-G22+H21+H22 -> 71674922 | K21: 18332.56 | L21: =ROUND((J21+J22)/(K21+K22),2) -> 3476.42 | M21: 17579.71 | N21: =L21*(M21+M22) -> 62144275 | O21: =K4 -> 60537389 | P21: =M4 -> 1180670 | Q21: =O4 -> 1015689.7 | R21: -3560252.6 | S21: =N21-O21-P21-Q21 -> -589473.05 | T21: =R21-S21 -> -2970779.5 | U21: 2970781.5 | V21: =T21+U21 -> 1.9480121 | W21: 沁春锦苑三期 | X21: 25305563 | Y21: 1.2.3#商业4-17#住宅
A22: 35.36#商业 | F22: =12240006.23-4686514.34+2844642.7 -> 10398135 | G22: 118348.62 | H22: 118348.62 | I22: =N43 -> 872447.27 | K22: 2284.91 | M22: 296.23 | W22: 沁春锦苑四期 | X22: 1.2464663e+08 | Y22: 12-15.38，+18.21.22住宅
A23: 沁春景苑1期2批次 | B23: 25-30#住宅 | C23: 81093522 | D23: 48702.04 | E23: =C23+D23 -> 81142224 | F23: 60430559 | G23: 374285.69 | H23: 286349.8 | I23: =N44 -> 9740629.3 | J23: =E23-G23-G24+H23+H24 -> 80522253 | K23: 25510.38 | L23: =ROUND((J23+J24)/(K23+K24),2) -> 2822.67 | M23: 24860.14 | N23: =L23*(M23+M24) -> 71101268 | P23: =M5 -> 92107449 | Q23: =O5 -> 2663679.5 | R23: -23165350 | S23: =N23-O23-P23-Q23 -> -23669860 | T23: =R23-S23 -> 504509.43 | U23: -504508.93 | V23: =T23+U23 -> 0.50089212 | W23: 通力华庭 | X23: 7608902.8
A24: 二期商铺32、33、34 | F24: 9784613.8 | G24: 589446.35 | H24: 57411.299 | I24: =N45 -> 1151817 | K24: 3016.57 | M24: 329.22619 | W24: 春和景苑 | X24: 2714430.2
A25: 沁春景苑2期 | B25: 4-11.16.17 | C25: 1.5681687e+08 | D25: 953137.3 | E25: =C25+D25 -> 1.5777001e+08 | F25: 1.2015676e+08 | G25: 14585442 | H25: 8094381.1 | I25: =N46 -> 16509521 | J25: =E25-G25-G26+H25+H26 -> 1.5080636e+08 | K25: 43237.88 | L25: =ROUND((J25+J26)/(K25+K26),2) -> 3161.01 | M25: 42753.043 | N25: =L25*(M25+M26) -> 1.3583478e+08 | Q25: =O6 -> 1.1143898e+08 | R25: 25305563 | S25: =N25-O25-P25-Q25 -> 24395803 | T25: =R25-S25 -> 909760.65 | U25: =-T25 -> -909760.65 | V25: =T25+U25 -> 0
A26: 1.2.3#商业 | F26: =17433308+4686514.34-2844642.7 -> 19275180 | G26: 885496.34 | H26: 412910.33 | I26: =N47 -> 1706959.7 | K26: 4470.47 | M26: 218.91304
A27: 沁春景苑三期1批次 | B27: 12.13.14.15.38# | C27: 1.2793969e+08 | D27: -1010395.5 | E27: =C27+D27 -> 1.269293e+08 | F27: 57039521 | G27: 12784718 | H27: 4980094.9 | I27: =N48 -> 9415592.7 | J27: =E27-G27-G28+H27+H28 -> 1.1562988e+08 | K27: 24659.12 | L27: =ROUND((J27+J28)/(K27+K28),2) -> 2283.02 | M27: 49344.235 | N27: =L27*(M27+M28) -> 1.1265388e+08 | R27: 1.2464663e+08 | S27: =N27-O27-P27-Q27 -> 1.1265388e+08 | T27: =R27-S27 -> 11992754 | U27: =-T27 -> -11992754 | V27: =T27+U27 -> 0
A28: 沁春景苑三期3批次 | B28: 18.21.22 | F28: 52583058 | G28: 8045413.7 | H28: 4550623.2 | I28: =N49 -> 9923285.3 | K28: 25988.75
A29: 通力华庭（商业） | K29: 2561.93 | L29: =J29/K29 -> 0 | N29: =L29*M29 -> 0 | S29: =N29-O29-P29-Q29 -> 0 | T29: =R29-S29 -> 0
A30: 通力华庭（住宅） | T30: =R30-S30 -> 0
A31: =SUM(A20:A28) -> 0 | B31: =SUM(B20:B28) -> 0 | C31: =SUM(C20:C30) -> 4.6533386e+08 | D31: =SUM(D20:D30) -> 119802.64 | E31: =SUM(E20:E30) -> 4.6545366e+08 | F31: =SUM(F20:F28) -> 4.1171203e+08 | G31: =SUM(G20:G28) -> 41544705 | H31: =SUM(H20:H28) -> 20337523 | I31: =SUM(I20:I28) -> 56320175 | J31: =SUM(J20:J28) -> 4.4424648e+08 | K31: =SUM(K20:K28) -> 159728.04 | L31: =SUM(L20:L28) -> 13837.85 | M31: =SUM(M20:M28) -> 146742.73 | ... S31: =SUM(S20:S28) -> 1.1334531e+08 | T31: =SUM(T20:T30) -> 12595710 | U31: =SUM(U20:U30) -> -12595708 | V31: =SUM(V20:V30) -> 2.4489042
J32: 159728.04
F33: =F31+I31 -> 4.680322e+08 | H33: =G31-H31 -> 21207182 | I33: =K31-J32 -> 0 | K33: 146742.73 | T33: 28263945
E34: =E31-F31-I31 -> -2578541.7 | F34: 4.6533386e+08 | T34: =T31-T33 -> -15668235
F35: =F33-F34 -> 2698344.3 | M35: =M36-K40 -> -30904.92 | O35: =O36-M40 -> -36451.56 | P35: =P36-N40 -> -72888.05
F36: 2604075.8 | M36: 3377073.8 | O36: 5812802.9 | P36: 56247286
F37: =F35-F36 -> 94268.5
K38: =K11-K12 -> -0.0010750815 | M38: =M11-M12 -> 0.0020007342 | O38: =O11-O12 -> -0.00019454956
E39: 大门 | F39: 公共配套 | G39: 机械停车设备 | H39: 开发间接费用 | I39: 垃圾站 | J39: 人防工程 | K39: 社区用房 | L39: 污水处理 | M39: 幼儿园
C40: 总可售面积 | D40: 可分摊比例 | E40: 527803.43 | F40: 9085860.8 | G40: 1987055.7 | H40: 7184365.8 | I40: 210481.42 | J40: 24831512 | K40: 3407978.7 | L40: 3235862.6 | M40: 5849254.4 | N40: =SUM(E40:M40) -> 56320175
...

Sheet 税务局数据 (定稿2023.12.20)
B1: 税务局确认2020-2022结转成本
D2: 实际成本 | E2: 暂估成本 | F2: 公共设施分摊成本 | G2: 实际开发成本 | H2: 总可售面积 | I2: 单位成本 | J2: 截止清算时间已售面积 | K2: 2020年结转面积 | L2: 2020年可结转金额 | M2: 2021年结转销售面积 | N2: 2021年可结转金额 | O2: 2022年结转销售面积 | P2: 2022年可结转金额 | Q2: 2023年结转销售面积 | R2: 2023年可结转金额
B3: 春和景苑 | D3: 28234494 | E3: 2324150.5 | G3: =D3-E3 -> 25910344 | H3: 12227.4 | I3: =G3/H3 -> 2119.0395 | J3: 9918 | M3: 9918 | N3: =I3*M3 -> 21016634 | O3: 1051 | P3: =I3*O3 -> 2227110.5
B4: 沁春景苑1期一批次 | C4: 19、20、23.24 | D4: 58989418 | E4: 24989.59 | F4: 6455888.8 | G4: =D4-E4+F4 -> 65420317 | H4: 18332.84 | I4: =G4/H4+0.05 -> 3568.527 | J4: 16964.23 | K4: 16964.23 | L4: =I4*K4+76.39 -> 60537389 | M4: 330.856 | N4: =I4*M4+1.48 -> 1180670 | O4: 284.62 | P4: =I4*O4+15.57 -> 1015689.7
B5: 沁春景苑1期2批次 | C5: 25-36，不包含31# | D5: 84989775 | E5: 1007039 | F5: 10857586 | G5: =D5-E5+F5 -> 94840323 | H5: 30811.86 | I5: =G5/H5 -> 3078.046 | J5: 29924 | M5: 29924 | N5: =I5*M5 -> 92107449 | O5: 865.38 | P5: =I5*O5 -> 2663679.5
B6: 沁春景苑2期 | C6: 1.2.3.4-11.16.17 | D6: 1.3410189e+08 | E6: 35833187 | F6: 16798609 | G6: =D6-E6+F6 -> 1.1506731e+08 | H6: 47708.35 | I6: =G6/H6 -> 2411.8903 | J6: 46204 | O6: 46204 | P6: =I6*O6 -> 1.1143898e+08
B7: 天鹅水景 | F7: 8682733.8 | G7: =D7-E7+F7 -> 8682733.8 | H7: 24659.12 | I7: =G7/H7 -> 352.11045
B8: 沁春景苑三期1批次 | C8: 12.13.14.15. | F8: 9200424.2 | G8: =D8-E8+F8 -> 9200424.2 | H8: 26129.37 | I8: =G8/H8 -> 352.11045
B9: 沁春景苑三期3批次 | C9: 18.21.22 | F9: 9573612.5 | G9: =D9-E9+F9 -> 9573612.5
B10: 天鹅水景 | P10: 31633953
F11: =SUM(F4:F9) -> 61568854 | L11: =SUM(L3:L9) -> 60537389 | N11: =SUM(N3:N9) -> 1.1430475e+08 | P11: =SUM(P3:P10) -> 1.4897941e+08
L12: 60537389 | N12: 1.1430475e+08 | P12: 1.4897941e+08
D14: 实际取得发票成本（截止到2024年4月） | E14: 可暂估的成本 | F14: 公共设施分摊成本 | G14: 实际开发成本 | H14: 总可售面积 | I14: 单位成本 | J14: 截至2023年12月已售面积 | K14: 截至2023年总可结转成本 | L14: 2020年已结转成本 | N14: 2021年已结转成本 | P14: 2022年已结转成本 | Q14: 2023年账面实际确认成本 | R14: 2023年可结转金额 | S14: 应调增 | T14: 沁春锦苑一期 | U14: -3560252.6 | V14: 19-24，同时包含35.36#商业
B15: 春和景苑 | D15: 25910344 | E15: 1970463.4 | G15: =D15+F15+E15 -> 27880807 | H15: 12227.4 | I15: =G15/H15 -> 2280.191 | J15: 11361.23 | K15: =I15*J15 -> 25905774 | N15: =N3 -> 21016634 | P15: =P3 -> 2227110.5 | Q15: 2714430.2 | R15: =K15-L15-N15-P15 -> 2662029.7 | S15: =Q15-R15 -> 52400.491 | T15: 沁春锦苑二期项目 | U15: -23165350 | V15: 25-30,同时32.33.34商业
B16: 沁春景苑1期一批次 | C16: 19、20、23.24 | D16: 73031292 | F16: =P36 -> 6999922 | G16: =D16+F16+E16 -> 80031214 | H16: 18332.56 | I16: =G16/H16 -> 4365.5231 | J16: 17579.71 | K16: =I16*J16 -> 76744630 | L16: =L4 -> 60537389 | N16: =N4 -> 1180670 | P16: =P4 -> 1015689.7 | R16: =K16-L16-N16-P16 -> 14010882 | S16: =Q16-R16 -> -14010882 | T16: 沁春锦苑三期 | U16: 25305563 | V16: 1.2.3#商业4-17#住宅
B17: 1号楼35号楼（商业） | D17: 9337002.2 | E17: 327876.94 | F17: =P37 -> 997370.6 | G17: =D17+F17+E17 -> 10662250 | H17: 2612.08 | I17: =G17/H17 -> 4081.9001 | J17: 296.23 | K17: =I17*J17 -> 1209181.3 | R17: =K17-L17-N17-P17 -> 1209181.3 | S17: =Q17-R17 -> -1209181.3 | T17: 沁春锦苑四期 | U17: 1.2464663e+08 | V17: 12-15.38，+18.21.22住宅
B18: 沁春景苑1期2批次 | C18: 25-36，不包含31# | D18: 60564016 | E18: 580560.81 | F18: =P38 -> 9740629.3 | G18: =D18+F18+E18 -> 70885206 | H18: 25510.38 | I18: =G18/H18 -> 2778.6809 | J18: =24860.14+329.23 -> 25189.37 | K18: =I18*J18 -> 69993222 | N18: =N5 -> 92107449 | P18: =P5 -> 2663679.5 | Q18: -23165350 | R18: =K18-L18-N18-P18 -> -24777906 | S18: =Q18-R18 -> 1612555.9 | T18: 通力华庭 | U18: 7608902.8
B19: 二期商铺32、33、34 | D19: 5147425.2 | E19: 57411.299 | F19: =P39 -> 1151817 | G19: =D19+F19+E19 -> 6356653.6 | H19: 3016.57 | I19: =G19/H19 -> 2107.2455 | K19: =I19*J19 -> 0 | R19: =K19-L19-N19-P19 -> 0 | S19: =Q19-R19 -> 0 | T19: 春和景苑 | U19: 2714430.2
B20: 沁春景苑2期 | C20: 4-11.16.17 | D20: 78720988 | E20: 11558114 | F20: =P40 -> 18091558 | G20: =D20+F20+E20 -> 1.0837066e+08 | H20: =47419.98-38.8 -> 47381.18 | I20: =G20/H20 -> 2287.209 | J20: 42971.96 | K20: =I20*J20 -> 98285852 | P20: =P6 -> 1.1143898e+08 | Q20: 25305563 | R20: =K20-L20-N20-P20 -> -13153129 | S20: =Q20-R20 -> 38458693
B21: 沁春景苑三期1批次 | C21: 12.13.14.15.38# | D21: 47771681 | E21: 4986227 | F21: =P41 -> 9415592.7 | G21: =D21+F21+E21 -> 62173501 | H21: 24659.12 | I21: =G21/H21 -> 2521.3187 | J21: 49344.23 | K21: =I21*J21 -> 1.2441253e+08 | Q21: 1.2464663e+08 | R21: =K21-L21-N21-P21 -> 1.2441253e+08 | S21: =Q21-R21 -> 234098.52
B22: 沁春景苑三期3批次 | C22: 18.21.22 | D22: 37927289 | E22: 4744193.2 | F22: =P42 -> 9923285.3 | G22: =D22+F22+E22 -> 52594767 | H22: 25988.75 | I22: =G22/H22 -> 2023.7513 | K22: =I22*J22 -> 0 | R22: =K22-L22-N22-P22 -> 0 | S22: =Q22-R22 -> 0
B23: 通力华庭（商业） | G23: 15485115 | H23: 2561.93 | I23: =G23/H23 -> 6044.3163 | K23: =I23*J23 -> 0 | R23: =K23-L23-N23-P23 -> 0 | S23: =Q23-R23 -> 0
B24: 通力华庭（住宅） | S24: =Q24-R24 -> 0
A25: =SUM(A15:A22) -> 0 | B25: =SUM(B15:B22) -> 0 | C25: =SUM(C15:C22) -> 0 | D25: =SUM(D15:D22) -> 3.3841004e+08 | E25: =SUM(E15:E22) -> 24224846 | F25: =SUM(F15:F22) -> 56320175 | G25: =SUM(G15:G22) -> 4.1895506e+08 | H25: =SUM(H15:H22) -> 159728.04 | ... R25: =SUM(R15:R22) -> 1.0436359e+08 | S25: =Q25-R25 -> 25137685
H26: 159728.04
H27: =H25-H26 -> 0
L32: =L11-L12 -> -0.0010750815 | N32: =N11-N12 -> 0.0020007342 | P32: =P11-P12 -> -0.00019451976
F33: 大门 | G33: 公共配套 | H33: 机械停车设备 | I33: 开发间接费用 | J33: 垃圾站 | K33: 人防工程 | L33: 社区用房 | M33: 污水处理 | N33: 幼儿园
D34: 总可售面积 | E34: 可分摊比例 | F34: 527803.43 | G34: 9085860.8 | H34: 1987055.7 | I34: 7184365.8 | J34: 210481.42 | K34: 24831512 | L34: 3407978.7 | M34: 3235862.6 | N34: 5849254.4 | P34: =SUM(F34:N34) -> 56320175
B35: 春和景苑 | F35: =$F$34*E35 -> 0 | G35: =$G$34*E35 -> 0 | H35: =$H$34*E35 -> 0 | I35: =$I$34*E35 -> 0 | J35: =$J$34*E35 -> 0 | K35: =$K$34*E35 -> 0 | L35: =$L$34*E35 -> 0 | M35: =M34*$E$35 -> 0 | N35: =$N$34*E35 -> 0 | P35: =SUM(F35:N35) -> 0
B36: 沁春景苑1期一批次 | C36: 19、20、23.24 | D36: 18332.56 | E36: =D36/$D$43 -> 0.124288 | F36: =$F$34*E36 -> 65599.634 | G36: =$G$34*E36 -> 1129263.5 | H36: =$H$34*E36 -> 246967.18 | I36: =$I$34*E36 -> 892930.48 | J36: =$J$34*E36 -> 26160.315 | K36: =$K$34*E36 -> 3086259 | L36: =$L$34*E36 -> 423570.87 | M36: =$M$34*E36 -> 402178.9 | N36: =$N$34*E36 -> 726992.15 | P36: =SUM(F36:N36) -> 6999922
B37: 1号楼35号楼（商业） | D37: 2612.08 | E37: =D37/$D$43 -> 0.01770894 | F37: =$F$34*E37 -> 9346.8393 | G37: =$G$34*E37 -> 160900.96 | H37: =$H$34*E37 -> 35188.65 | I37: =$I$34*E37 -> 127227.5 | J37: =$J$34*E37 -> 3727.4029 | K37: =$K$34*E37 -> 439739.75 | L37: =$L$34*E37 -> 60351.691 | M37: =$M$34*E37 -> 57303.697 | N37: =$N$34*E37 -> 103584.1 | P37: =SUM(F37:N37) -> 997370.6
B38: 沁春景苑1期2批次 | C38: 25-36，不包含31# | D38: 25510.38 | E38: =D38/$D$43 -> 0.17295098 | F38: =$F$34*E38 -> 91284.12 | G38: =$G$34*E38 -> 1571408.5 | H38: =$H$34*E38 -> 343663.22 | I38: =$I$34*E38 -> 1242543.1 | J38: =$J$34*E38 -> 36402.968 | K38: =$K$34*E38 -> 4294634.3 | L38: =$L$34*E38 -> 589413.25 | M38: =$M$34*E38 -> 559645.6 | N38: =$N$34*E38 -> 1011634.3 | P38: =SUM(F38:N38) -> 9740629.3 | Q38: =P3+P4+P5+P6+#REF! -> #REF!
B39: 二期商铺32、33、34 | D39: 3016.57 | E39: =D39/$D$43 -> 0.020451233 | F39: =$F$34*E39 -> 10794.231 | G39: =$G$34*E39 -> 185817.06 | H39: =$H$34*E39 -> 40637.739 | I39: =$I$34*E39 -> 146929.14 | J39: =$J$34*E39 -> 4304.6046 | K39: =$K$34*E39 -> 507835.04 | L39: =$L$34*E39 -> 69697.368 | M39: =$M$34*E39 -> 66177.381 | N39: =$N$34*E39 -> 119624.47 | P39: =SUM(F39:N39) -> 1151817
B40: 沁春景苑2期 | C40: 4-11.16.17 | D40: =47419.98-38.8 -> 47381.18 | E40: =D40/$D$43 -> 0.32122695 | F40: =$F$34*E40 -> 169544.68 | G40: =$G$34*E40 -> 2918623.3 | H40: =$H$34*E40 -> 638295.82 | I40: =$I$34*E40 -> 2307811.9 | J40: =$J$34*E40 -> 67612.304 | K40: =$K$34*E40 -> 7976550.7 | L40: =$L$34*E40 -> 1094734.6 | M40: =$M$34*E40 -> 1039446.3 | N40: =$N$34*E40 -> 1878938.1 | P40: =SUM(F40:N40) -> 18091558
B41: 沁春景苑三期1批次 | C41: 12.13.14.15.38# | D41: 24659.12 | E41: =D41/$D$43 -> 0.16717975 | F41: =$F$34*E41 -> 88238.045 | G41: =$G$34*E41 -> 1518971.9 | H41: =$H$34*E41 -> 332195.47 | I41: =$I$34*E41 -> 1201080.5 | J41: =$J$34*E41 -> 35188.231 | K41: =$K$34*E41 -> 4151325.9 | L41: =$L$34*E41 -> 569745.03 | M41: =$M$34*E41 -> 540970.7 | N41: =$N$34*E41 -> 977876.89 | P41: =SUM(F41:N41) -> 9415592.7
B42: 沁春景苑三期3批次 | C42: 18.21.22 | D42: 25988.75 | E42: =D42/$D$43 -> 0.17619415 | F42: =$F$34*E42 -> 92995.877 | G42: =$G$34*E42 -> 1600875.5 | H42: =$H$34*E42 -> 350107.59 | I42: =$I$34*E42 -> 1265843.2 | J42: =$J$34*E42 -> 37085.595 | K42: =$K$34*E42 -> 4375167.1 | L42: =$L$34*E42 -> 600465.91 | M42: =$M$34*E42 -> 570140.06 | N42: =$N$34*E42 -> 1030604.4 | P42: =SUM(F42:N42) -> 9923285.3
D43: =SUM(D35:D42) -> 147500.64 | F43: =SUM(F35:F42) -> 527803.43 | G43: =SUM(G35:G42) -> 9085860.8 | H43: =SUM(H35:H42) -> 1987055.7 | I43: =SUM(I35:I42) -> 7184365.8 | J43: =SUM(J35:J42) -> 210481.42 | K43: =SUM(K35:K42) -> 24831512 | L43: =SUM(L35:L42) -> 3407978.7 | M43: =SUM(M35:M42) -> 3235862.6 | N43: =SUM(N35:N42) -> 5849254.4 | P43: =SUM(P35:P42) -> 56320175
D44: 12227.4 | G44: =G34-G43 -> 0 | H44: =H34-H43 -> 0 | I44: =I34-I43 -> 0 | J44: =J34-J43 -> 0 | K44: =K34-K43 -> 0 | L44: =L34-L43 -> 0 | M44: =M34-M43 -> 0 | N44: =N34-N43 -> 0 | O44: =P34-P43 -> 0
D45: =SUM(D43:D44) -> 159728.04 | E45: 159728.04 | F45: =E45-D45 -> 0
...

Sheet 其他信息
A1: 增值税本年申报收入 | D1: ='增值税&所得税收入比对'!G14 -> 0 | E1: =D1-D2 -> 0 | F1: 原因详见《增值税&所得税收入比对》
A2: 所得税本年申报收入 | E2: =D2-D3 -> -2.7020849e+08
A3: 利润表营业收入 | D3: =利润总额!G6 -> 2.7020849e+08
A4: 本年申报表应纳增值税税额 | D4: 附税倒推增值税 | E4: =税金及附加!E9/税金及附加!D9 -> 8859928.4 | F4: =IF(C4-E4=0,"申报增值税=附税计税依据","增值税申报表的增值税不等于附税的计税依据，核对原因！") -> 增值税申报表的增值税不等于附税的计税依据，核对原因！
A5: 银行存款 | D5: 对账单银行存款金额 | F5: =IF(C5-E5=0,"账载金额=银行对账单余额","账载金额不等于银行对账单余额，核对原因！") -> 账载金额=银行对账单余额
A6: 预交所得税 | C6: =SUM(C7:C11) -> 0 | D6: 税务局系统预交所得税 | E6: =C6 -> 0 | F6: =IF(C6-E6=0,"账载金额=申报系统预交税额","账载金额不等于申报系统预交税额，核对预缴税款金额！") -> 账载金额=申报系统预交税额
A7: 第一季度
A8: 第二季度
A9: 第三季度
A10: 第四季度
A11: 以前年度抵税

Sheet 预计毛利计算表表
B1: 2023年 | E1: 2024年 | H1: 2025年 | K1: 2026年 | N1: 合计
B2: 预计毛利(金额） | C2: 预计毛利转回 | D2: 纳税调整金额 | E2: 预计毛利(金额） | F2: 预计毛利转回 | G2: 纳税调整金额 | H2: 预计毛利(金额） | I2: 预计毛利转回 | J2: 纳税调整金额 | K2: 预计毛利(金额） | L2: 预计毛利转回 | M2: 纳税调整金额 | N2: 预计毛利(金额） | O2: 预计毛利转回 | P2: 纳税调整金额
A4: 预收账款 | B4: 249626574 | E4: 207552911 | F4: =B4 -> 249626574 | H4: 84106099 | I4: =E4 -> 207552911
H6: -381787.51
O7: =E7+H7+K7 -> 0
O8: =E8+H8+K8 -> 0
A11: 合计 | B11: =SUM(B3:B10) -> 249626574 | C11: =SUM(C3:C10) -> 0 | D11: =SUM(D3:D10) -> 0 | E11: =SUM(E3:E10) -> 207552911 | F11: =SUM(F3:F10) -> 249626574 | G11: =SUM(G3:G10) -> 0 | H11: =SUM(H3:H10) -> 83724311 | I11: =SUM(I3:I10) -> 207552911 | ... M11: =SUM(M3:M10) -> 0 | O11: =SUM(O7:O10) -> 0
K13: =K11/1.09 -> 0 | L13: =L11/1.09 -> 0
B14: 2023年 | E14: 2024年 | H14: 2025年 | K14: 2026年 | N14: 合计
B15: 预计毛利(金额10%） | C15: 预计毛利转回 | D15: 纳税调整金额 | E15: 预计毛利(金额） | F15: 预计毛利转回 | G15: 纳税调整金额 | H15: 预计毛利(金额） | I15: 预计毛利转回 | J15: 纳税调整金额 | K15: 预计毛利(金额） | L15: 预计毛利转回 | M15: 纳税调整金额 | N15: 预计毛利(金额） | O15: 预计毛利转回 | P15: 纳税调整金额
D16: =B16-C16 -> 0 | E16: =E3/1.09*0.1 -> 0 | F16: =F3/1.09*0.1 -> 0 | G16: =E16-F16 -> 0 | H16: =H3/1.09*0.1 -> 0 | I16: =I3/1.09*0.1 -> 0 | J16: =H16-I16 -> 0 | K16: =K3/1.09*0.1 -> 0 | L16: =L3/1.09*0.1 -> 0 | M16: =K16-L16 -> 0
A17: 预计毛利 | B17: =B4/1.09*0.1 -> 22901521 | D17: =B17-C17 -> 22901521 | E17: =E4/1.09*0.1 -> 19041551 | F17: =F4/1.09*0.1 -> 22901521 | G17: =E17-F17 -> -3859969.1 | H17: =H4/1.09*0.1 -> 7716155.9 | I17: =I4/1.09*0.1 -> 19041551 | J17: =H17-I17 -> -11325396 | K17: =K4/1.09*0.1 -> 0 | L17: =L4/1.09*0.1 -> 0 | M17: =K17-L17 -> 0
B18: =B5/1.09*0.1 -> 0 | D18: =B18-C18 -> 0 | E18: =E5/1.09*0.1 -> 0 | F18: =F5/1.09*0.1 -> 0 | G18: =E18-F18 -> 0 | H18: =H5/1.09*0.1 -> 0 | I18: =I5/1.09*0.1 -> 0 | J18: =H18-I18 -> 0 | K18: =K5/1.09*0.1 -> 0 | L18: =L5/1.09*0.1 -> 0 | M18: =K18-L18 -> 0
D19: =B19-C19 -> 0 | E19: =E6/1.09*0.1 -> 0 | F19: =F6/1.09*0.1 -> 0 | G19: =E19-F19 -> 0 | H19: =H6/1.09*0.1 -> -35026.377 | I19: =I6/1.09*0.1 -> 0 | J19: =H19-I19 -> -35026.377 | K19: =K6/1.09*0.1 -> 0 | L19: =L6/1.09*0.1 -> 0 | M19: =K19-L19 -> 0 | N19: =N6/1.09*0.1 -> 0 | O19: =O6/1.09*0.1 -> 0 | P19: =N19-O19 -> 0
D20: =B20-C20 -> 0 | E20: =E7/1.09*0.1 -> 0 | F20: =F7/1.09*0.1 -> 0 | G20: =E20-F20 -> 0 | H20: =H7/1.09*0.1 -> 0 | I20: =I7/1.09*0.1 -> 0 | J20: =H20-I20 -> 0 | K20: =K7/1.09*0.1 -> 0 | L20: =L7/1.09*0.1 -> 0 | M20: =K20-L20 -> 0 | N20: =N7/1.09*0.1 -> 0 | O20: =O7/1.09*0.1 -> 0 | P20: =N20-O20 -> 0
E21: =E8/1.09*0.1 -> 0 | F21: =F8/1.09*0.1 -> 0 | H21: =H8/1.09*0.1 -> 0 | I21: =I8/1.09*0.1 -> 0 | J21: =H21-I21 -> 0 | K21: =K8/1.09*0.1 -> 0 | L21: =L8/1.09*0.1 -> 0 | M21: =K21-L21 -> 0 | N21: =N8/1.09*0.1 -> 0 | O21: =O8/1.09*0.1 -> 0 | P21: =N21-O21 -> 0
E22: =E9/1.09*0.1 -> 0 | F22: =F9/1.09*0.1 -> 0 | H22: 2686454.7 | I22: =I9/1.09*0.1 -> 0 | J22: =H22-I22 -> 2686454.7 | K22: =K9/1.09*0.1 -> 0 | L22: =L9/1.09*0.1 -> 0 | M22: =K22-L22 -> 0 | N22: =N9/1.09*0.1 -> 0 | O22: =O9/1.09*0.1 -> 0 | P22: =N22-O22 -> 0
E23: =E10/1.09*0.1 -> 0 | F23: =F10/1.09*0.1 -> 0 | H23: =H10/1.09*0.1 -> 0 | I23: =I10/1.09*0.1 -> 0 | J23: =H23-I23 -> 0 | K23: =K10/1.09*0.1 -> 0 | L23: =L10/1.09*0.1 -> 0 | M23: =K23-L23 -> 0 | N23: =N10/1.09*0.1 -> 0 | O23: =O10/1.09*0.1 -> 0 | P23: =N23-O23 -> 0
M24: =K24-L24 -> 0 | P24: =N24-O24 -> 0
B25: =SUM(B16:B24) -> 22901521 | C25: =SUM(C16:C24) -> 0 | D25: =SUM(D16:D24) -> 22901521 | E25: =SUM(E16:E24) -> 19041551 | F25: =SUM(F16:F24) -> 22901521 | G25: =SUM(G16:G24) -> -3859969.1 | H25: =SUM(H16:H24) -> 10367584 | I25: =SUM(I16:I24) -> 19041551 | ... Q25: =SUM(Q16:Q24) -> 0
A27: 账面收入确认
A28: 画堂春锦苑一期 | E28: 2.8441605e+08
A29: 画堂春锦苑一期商业 | E29: 13636330 | H29: 75306120 | I29: 2025年4季度申报表的特定收入计税依据和本年确认的特定收入差额150517.45是4季度企业按含税价计算
A30: 画堂春锦苑二期
O31: =O11/1.09 -> 0
H38: 7530612
H41: =H25-H38 -> 2836972.1

Sheet 凭证检查表
A1: 新疆华政华政华瑞税务师事务所有限公司巴州分所工作底稿
A2: ='目录（简版）'!A2 -> 被审核单位：新疆通力房地产开发有限公司库尔勒二分公司 | G2: ="编 制： "&Sheet1!F15&" " -> 编 制： 王翠英 | H2: ="编制日期: "&TEXT(Sheet1!H15,"yyyy-mm-dd") -> 编制日期: 2026-01-18
A3: 项 目：凭证检查表 | G3: ="复 核： "&Sheet1!F17&" " -> 复 核： 刘洁 | H3: ="复核日期: "&TEXT(Sheet1!H17,"yyyy-mm-dd") -> 复核日期: 2026-04-28
A4: ="纳税年度："&YEAR(Sheet1!F11)&"年度" -> 纳税年度：2025年度 | G4: ="索 引： Z7"&" " -> 索 引： Z7
A5: =Sheet1!F7&YEAR(Sheet1!F11)&"年所得税审核工作底稿" -> 新疆通力房地产开发有限公司库尔勒二分公司2025年所得税审核工作底稿
A6: 月份 | B6: 凭证号 | C6: 科目名称 | D6: 对方科目 | E6: 账载金额 | F6: 摘要 | G6: 调整 金额 | H6: 调整类别 | I6: 说明 | J6: 企业是否同意调整
A7: 45670 | B7: 39 | C7: 管理费用-业务费 | E7: 3671.02 | F7: 管丽萍报票（聚餐） | G7: 3671.02 | H7: 福利费 | I7: 员工聚餐，属于福利费
A8: 45670 | B8: 48 | C8: 销售费用-展览费和广告费 | E8: 1300 | F8: 巴州乐趣互动文化传媒有限公司画堂春锦苑 11月销控墙搭建 广告制作费 | H8: 跨期票据 | I8: 24年11月30日活动墙搭建费
A9: 45671 | B9: 49 | C9: 销售费用-策划服务费 | E9: 43069.31 | F9: 巴州乐趣互动文化传媒有限公司画堂春锦苑商业街花漾里亮灯仪式 活动策划费 | H9: 跨期票据 | I9: 24年11月30日-12月2日活动策划费
A10: 45672 | B10: 52 | C10: 销售费用-代理费 | E10: 438477.41 | F10: 库尔勒创智源房地产经纪有限公司画堂春锦苑项目12月销售佣金 | G10: 438477.41 | I10: 2024年12月住宅结算回款佣金
A11: 45667 | B11: 56 | C11: 管理费用-业务费 | E11: 35100 | F11: 银行存款日记账SGRJZ3217业务费 | G11: 35100 | H11: 视同销售收入 | I11: 外购物品，视同销售
A12: 45667 | B12: 56 | C12: 管理费用-差旅费 | E12: 766.34 | F12: 管丽萍报销住宿费 | G12: 766.34 | H12: 业务招待费支出 | I12: 库尔勒本地住宿费发票
A13: 45673 | B13: 59 | C13: 管理费用-差旅费 | E13: 3996 | F13: 管丽萍报销年会参会人员火车票 | G13: =E13 -> 3996 | H13: 福利费 | I13: 参加年会报销车费，属于职工福利费
A14: 45673 | B14: 61 | C14: 销售费用-礼品采购费 | E14: 147200 | F14: 库尔勒市飞鸿通讯中心画堂春锦苑11月、12月成交礼品 手机 | G14: 147200 | H14: 视同销售收入 | I14: 成交礼品，视同销售，跨期
A15: 45674 | B15: 62 | C15: 销售费用-策划服务费 | E15: 29702.97 | F15: 巴州乐趣互动文化传媒有限公司画堂春锦苑12月商家优惠补贴活动策划费 | H15: 跨期票据 | I15: 跨期，24年11月30日-12月25日活动策划费
A16: 45708 | B16: 58 | C16: 销售费用-客介费 | E16: 24895.67 | F16: 巴州美好优居房地产经纪有限公司画堂春锦苑渠道分销售客介费用申请，住宅客介1%16044.63元，手机折现金9100元，合计费用25144.63元； | H16: 跨期票据 | I16: 跨期费用，成交时间：2024.12.12和2024.12.31
A17: 45712 | B17: 63 | C17: 管理费用-业务费 | E17: 3750 | F17: 银行存款日记账SGRJZ3631业务费 | G17: 3750 | H17: 业务招待费支出 | I17: 足浴店开的发票，现代服务
A18: 45712 | B18: 66 | C18: 管理费用-业务费 | E18: 2271 | F18: 管丽萍报业务费 | G18: 2271 | H18: 业务招待费支出 | I18: 餐费，入业务招待费
A19: 45713 | B19: 69 | C19: 管理费用-差旅费 | E19: 1123.22 | F19: 管丽萍住宿费 | G19: 1123.22 | H19: 业务招待费支出 | I19: 本地住宿，入管理费用-招待费
A20: 45713 | B20: 69 | C20: 应交税费_应交增值税_进项税额 | E20: 38.78 | F20: 管丽萍住宿费 | G20: 37.78 | I20: 本地住宿，进项税额转出，入管理费用-招待费
A21: 45740 | B21: 73 | C21: 管理费用-业务费 | E21: 2109 | F21: 管丽萍业务费业务费 | G21: 2109 | H21: 业务招待费支出 | I21: 餐费，入业务招待费
A22: 45747 | B22: 98 | C22: 销售费用-销售代理费 | E22: 677002.95 | F22: 预提2025-1-15#凭证中支付画堂春锦苑11月销售佣金 | G22: 677002.95 | I22: 跨期费用，2024年11月销售佣金
A23: 45748 | B23: 1 | C23: 销售费用-租赁佣金 | E23: 35608 | F23: 营销部2024年11月-2025年2月租赁佣金 | G23: 30350 | I23: 跨期费用其中30350是24年11-12月销售佣金
A24: 45775 | B24: 128 | C24: 管理费用-差旅费 | E24: 688 | F24: 银行存款日记账SGRJZ4467报火车票及交通费 管丽萍 | G24: 56.81 | I24: 没有确认进项税额
A25: 45783 | B25: 41 | C25: 销售费用-礼品采购费 | E25: 16335 | F25: 王玉慧报票冲账（画堂春锦苑二期交房礼品及钥匙盒制作） | G25: 16335 | H25: 视同销售收入 | I25: 床单、被套，视同销售
A26: 45783 | B26: 41 | C26: 销售费用-制作费 | E26: 17424 | F26: 王玉慧报票冲账（画堂春锦苑二期交房礼品及钥匙盒制作） | G26: 17424 | H26: 视同销售收入 | I26: 钥匙盒，视同销售
A27: 45783 | B27: 42 | C27: 管理费用-业务费 | E27: 528 | F27: 管丽萍报销业务费（画堂春锦停车场办理、碧堂春锦改名、工程部营销部协助片区工作） | G27: 528 | H27: 业务招待费支出 | I27: 餐费，入业务招待费
A28: 45783 | B28: 42 | C28: 管理费用-业务费 | E28: 1860 | F28: 管丽萍报销业务费（画堂春锦停车场办理、碧堂春锦改名、工程部营销部协助片区工作） | G28: 1860 | H28: 业务招待费支出 | I28: 餐费，入业务招待费
A29: 45783 | B29: 43 | C29: 销售费用-礼品采购费 | E29: 750 | F29: 王玉慧报票 伴手礼套盒（住建局组织团购活动费用） | G29: 750 | H29: 视同销售收入 | I29: 伴手礼，视同销售
A30: 45783 | B30: 43 | C30: 销售费用-业务费 | E30: 1000 | F30: 王玉慧报票 餐费（住建局组织团购活动费用） | G30: 1000 | H30: 业务招待费支出 | I30: 餐费，入业务招待费
A31: 45786 | B31: 47 | C31: 管理费用-业务费 | E31: 835 | F31: 管丽萍报销业务费（领导视察工地） | G31: 835 | H31: 业务招待费支出 | I31: 餐费，入业务招待费
A32: 45786 | B32: 49 | C32: 管理费用-业务费 | E32: 3000 | F32: 管丽萍报销业务费（画堂春锦苑二期提前交付，建立良好合作关系） | G32: 3000 | H32: 业务招待费支出 | I32: 餐费，入业务招待费
A33: 45786 | B33: 49 | C33: 管理费用-业务费 | E33: 495 | F33: 管丽萍报销业务费（画堂春锦苑二期提前交付，建立良好合作关系） | G33: 495 | H33: 业务招待费支出 | I33: 餐费，入业务招待费
A34: 45796 | B34: 62 | C34: 销售费用-业务费 | E34: 1800 | F34: 营销部报销团建费用（五一） | G34: 1800 | H34: 福利费 | I34: 员工团建聚餐，入福利费
A35: 45797 | B35: 64 | C35: 销售费用-礼品采购费 | E35: 101700 | F35: 画堂春锦苑3月4月成交礼品（mate70手机） | G35: 101700 | H35: 视同销售收入 | I35: 购房礼品，手机，视同销售
A36: 45800 | B36: 69 | C36: 销售费用-业务费 | E36: 2400 | F36: 王玉慧报销业务费（画堂春锦苑项目二期交房工作餐4.26-4.28） | G36: 2400 | H36: 福利费 | I36: 交房日工作餐，入福利费
A37: 45806 | B37: 95 | C37: 销售费用-业务宣传费 | E37: 5201 | F37: 画堂春锦苑2024.9-2024.10.7期间成交送商业街美食券15000元/套*10=150000元，按7折兑换，本次兑换60172元（巴州哈丁尼餐饮管理有限公司-刘金花） | G37: 5201 | I37: 纸质凭证未打印，跨期费用，餐费优惠券用于2024年9月-10月7日成交的业主
A38: 45806 | B38: 95 | C38: 销售费用-业务宣传费 | E38: 8316 | F38: 画堂春锦苑2024.9-2024.10.7期间成交送商业街美食券15000元/套*10=150000元，按7折兑换，本次兑换60172元（库尔勒藕然间火锅店-王华） | G38: 8316 | I38: 纸质凭证未打印，跨期费用，餐费优惠券用于2024年9月-10月7日成交的业主
A39: 45806 | B39: 95 | C39: 销售费用-业务宣传费 | E39: 7700 | F39: 画堂春锦苑2024.9-2024.10.7期间成交送商业街美食券15000元/套*10=150000元，按7折兑换，本次兑换60172元（库尔勒牛范儿炭火烤肉店-李可欣） | G39: 7700 | I39: 纸质凭证未打印，跨期费用，餐费优惠券用于2024年9月-10月7日成交的业主
A40: 45806 | B40: 95 | C40: 销售费用-业务宣传费 | E40: 23324 | F40: 画堂春锦苑2024.9-2024.10.7期间成交送商业街美食券15000元/套*10=150000元，按7折兑换，本次兑换60172元（库尔勒牧场边边火锅店-郭斌） | G40: 23324 | I40: 纸质凭证未打印，跨期费用，餐费优惠券用于2024年9月-10月7日成交的业主
...

Sheet 应税收入&应税成本
A1: 月份 | B1: 凭证号 | C1: 科目名称 | D1: 账载金额 | E1: 调整 金额 | F1: 备注
A2: 应税收入 | D2: =SUM(D3:D9) -> 0 | E2: =SUM(E3:E9) -> 0 | F2: 外购农产品直接销售的，应税；银行存款利息收入？
A10: 应税成本 | D10: =SUM(D11:D15) -> 0 | E10: =SUM(E11:E15) -> 0

Sheet 增值税&所得税收入比对
A1: 月份 | B1: 应税货物销售额 | C1: 应税劳务销售额 | D1: 应税服务销售额 | E1: 简易办法计税销售额 | F1: 免税销售额 | G1: 增值税申报销售额合计 | H1: 账载主营业务收入 | I1: 其他业务收入 | J1: 财务费用-理财利息 | K1: 营业外收入-其他 | L1: 营业外收入-处置固定资产收入 | M1: 账面收入合计 | N1: 差额
A2: 1月 | G2: =SUM(B2:F2) -> 0 | M2: =SUM(H2:L2) -> 0 | N2: =G2-M2 -> 0
A3: 2月 | G3: =SUM(B3:F3) -> 0 | M3: =SUM(H3:L3) -> 0 | N3: =G3-M3 -> 0
A4: 3月 | G4: =SUM(B4:F4) -> 0 | M4: =SUM(H4:L4) -> 0 | N4: =G4-M4 -> 0
A5: 4月 | G5: =SUM(B5:F5) -> 0 | M5: =SUM(H5:L5) -> 0 | N5: =G5-M5 -> 0
A6: 5月 | G6: =SUM(B6:F6) -> 0 | M6: =SUM(H6:K6) -> 0 | N6: =G6-M6 -> 0
A7: 6月 | G7: =SUM(B7:F7) -> 0 | M7: =SUM(H7:L7) -> 0 | N7: =G7-M7 -> 0
A8: 7月 | G8: =SUM(B8:F8) -> 0 | M8: =SUM(H8:L8) -> 0 | N8: =G8-M8 -> 0
A9: 8月 | G9: =SUM(B9:F9) -> 0 | M9: =SUM(H9:L9) -> 0 | N9: =G9-M9 -> 0
A10: 9月 | G10: =SUM(B10:F10) -> 0 | M10: =SUM(H10:L10) -> 0 | N10: =G10-M10 -> 0
A11: 10月 | G11: =SUM(B11:F11) -> 0 | M11: =SUM(H11:L11) -> 0 | N11: =G11-M11 -> 0
A12: 11月 | G12: =SUM(B12:F12) -> 0 | M12: =SUM(H12:L12) -> 0 | N12: =G12-M12 -> 0
A13: 12月 | G13: =SUM(B13:F13) -> 0 | M13: =SUM(H13:L13) -> 0 | N13: =G13-M13 -> 0
A14: 合计 | B14: =SUM(B2:B13) -> 0 | C14: =SUM(C2:C13) -> 0 | D14: =SUM(D2:D13) -> 0 | E14: =SUM(E2:E13) -> 0 | F14: =SUM(F2:F13) -> 0 | G14: =SUM(G2:G13) -> 0 | H14: =SUM(H2:H13) -> 0 | I14: =SUM(I2:I13) -> 0 | ... N14: =SUM(N2:N13) -> 0

Sheet 5040不征税
A1: 新疆华政华政华瑞税务师事务所有限公司巴州分所工作底稿 | O1: 编 制： | P1: =Sheet1!F15 -> 王翠英
A2: =利润总额!B2 -> 被审核单位: 新疆通力房地产开发有限公司库尔勒二分公司 | O2: 复 核： | P2: =Sheet1!F17 -> 刘洁
A3: =利润总额!B3 -> 纳税年度: 2025年度 | O3: 索 引： | P3: C26
A4: 专项用途财政性资金纳税调整明细表
A5: 行次 | B5: 项目 | C5: 取得年度 | D5: 财政性资金 | E5: 其中：符合不征税收入条件的财政性资金 | G5: 以前年度支出情况 | L5: 本年支出情况 | N5: 本年结余情况
G6: 前五年度 | H6: 前四年度 | I6: 前三年度 | J6: 前二年度 | K6: 前一年度 | L6: 支出金额 | M6: 其中：费用化支出金额 | N6: 结余金额 | O6: 其中：上缴财政金额 | P6: 应计入本年应税收入金额
E7: 金额 | F7: 其中：计入本年损益的金额
C9: 1 | D9: 2 | E9: 3 | F9: 4 | G9: 5 | H9: 6 | I9: 7 | J9: 8 | K9: 9 | L9: 10 | M9: 11 | N9: 12 | O9: 13 | P9: 14
A10: 1 | B10: 前五年度 | C10: =(YEAR(Sheet1!$F$11)-5)&"年" -> 2020年 | N10: =D10-SUM(G10:L10) -> 0 | P10: =N10-O10 -> 0
A11: 2 | B11: 前四年度 | C11: =(YEAR(Sheet1!$F$11)-4)&"年" -> 2021年 | G11: * | N11: =D11-SUM(G11:L11) -> 0
A12: 3 | B12: 前三年度 | C12: =(YEAR(Sheet1!$F$11)-3)&"年" -> 2022年 | G12: * | H12: * | N12: =D12-SUM(G12:L12) -> 0
A13: 4 | B13: 前二年度 | C13: =(YEAR(Sheet1!$F$11)-2)&"年" -> 2023年 | G13: * | H13: * | I13: * | N13: =D13-SUM(G13:L13) -> 0
A14: 5 | B14: 前一年度 | C14: =(YEAR(Sheet1!$F$11)-1)&"年" -> 2024年 | G14: * | H14: * | I14: * | J14: * | N14: =D14-SUM(G14:L14) -> 0
A15: 6 | B15: 本 年 | C15: =(YEAR(Sheet1!$F$11))&"年" -> 2025年 | G15: * | H15: * | I15: * | J15: * | K15: * | N15: =D15-SUM(G15:L15) -> 0
A16: 7 | B16: 合计（1+2+3+4+5+6） | C16: * | D16: =SUM(D10:D15) -> 0 | E16: =SUM(E10:E15) -> 0 | F16: =SUM(F10:F15) -> 0 | G16: * | H16: * | I16: * | J16: * | K16: * | L16: =SUM(L10:L15) -> 0 | M16: =SUM(M10:M15) -> 0 | N16: =SUM(N10:N15) -> 0 | O16: =SUM(O10:O15) -> 0 | P16: =SUM(P10:P15) -> 0

Sheet 弥补亏损
A1: 新疆华政华政华瑞税务师事务所有限公司巴州分所工作底稿 | L1: 编 制： | M1: =Sheet1!F15 -> 王翠英
A2: =利润总额!B2 -> 被审核单位: 新疆通力房地产开发有限公司库尔勒二分公司 | L2: 复 核： | M2: =Sheet1!F17 -> 刘洁
A3: =利润总额!B3 -> 纳税年度: 2025年度 | L3: 索 引： | M3: Y2
A4: 企业所得税弥补亏损明细鉴证表
A5: 行次 | B5: 项目 | C5: 年度 | D5: 纳税调整后所得 | E5: 合并、分立转入（转出）可弥补的亏损额 | F5: 当年可弥补的亏损额 | G5: 以前年度亏损已弥补额 | L5: 本年度实际弥补的以前年度亏损额 | M5: 可结转以后年度弥补的亏损额
G7: 前四年度 | H7: 前三年度 | I7: 前二年度 | J7: 前一年度 | K7: 合计
C9: 1 | D9: 2 | E9: 3 | F9: 4 | G9: 5 | H9: 6 | I9: 7 | J9: 8 | K9: 9 | L9: 10 | M9: 11
A10: 1 | B10: 前五年度 | C10: ='5040不征税'!C10 -> 2020年 | F10: =IF(D10<0,D10+E10,E10) -> 0 | K10: =SUM(G10:J10) -> 0 | M10: *
A11: 2 | B11: 前四年度 | C11: ='5040不征税'!C11 -> 2021年 | F11: =IF(D11<0,D11+E11,E11) -> 0 | G11: * | K11: =SUM(G11:J11) -> 0 | M11: =-F11-K11-L11 -> 0
A12: 3 | B12: 前三年度 | C12: ='5040不征税'!C12 -> 2022年 | F12: =IF(D12<0,D12+E12,E12) -> 0 | G12: * | H12: * | K12: =SUM(G12:J12) -> 0 | M12: =-F12-K12-L12 -> 0
A13: 4 | B13: 前二年度 | C13: ='5040不征税'!C13 -> 2023年 | F13: =IF(D13<0,D13+E13,E13) -> 0 | G13: * | H13: * | I13: * | K13: =SUM(G13:J13) -> 0 | M13: =-F13-K13-L13 -> 0
A14: 5 | B14: 前一年度 | C14: ='5040不征税'!C14 -> 2024年 | F14: =IF(D14<0,D14+E14,E14) -> 0 | G14: * | H14: * | I14: * | J14: * | K14: * | M14: =-F14-L14 -> 0
A15: 6 | B15: 本年度 | C15: ='5040不征税'!C15 -> 2025年 | D15: =IF(调整表!B52>0,MAX(调整表!B52-调整表!B53,0),调整表!B52) -> 40000334 | F15: =IF(D15<0,D15+E15,E15) -> 0 | G15: * | H15: * | I15: * | J15: * | K15: * | L15: =SUM(L10:L14) -> 0 | M15: =-MIN(D15,0) -> 0
A16: 7 | B16: 可结转以后年度弥补的亏损额合计 | M16: =SUM(M11:M15) -> 0

Sheet 应免税分配
A1: ='5040不征税'!A1 -> 新疆华政华政华瑞税务师事务所有限公司巴州分所工作底稿 | E1: 编 制： | F1: =Sheet1!F15 -> 王翠英 | G1: 日期： | H1: =Sheet1!H15 -> 46040
A2: ='目录（简版）'!A2 -> 被审核单位：新疆通力房地产开发有限公司库尔勒二分公司 | E2: 复 核： | F2: =Sheet1!F17 -> 刘洁 | G2: 日期： | H2: =Sheet1!H17 -> 46140
A3: 项 目：应免税分配 | E3: 索 引： | F3: Z3
A4: =利润总额!B3 -> 纳税年度: 2025年度
A5: 项目 | B5: 损益表金额 | C5: 不征税收入 | D5: 免税项目 | E5: 应税项目 | F5: 应税免税合计
A6: 一、营业收入 | B6: =利润总额!G6 -> 2.7020849e+08 | D6: =B6-C6-E6 -> 2.7020849e+08 | E6: ='应税收入&应税成本'!E2 -> 0 | F6: =D6+E6 -> 2.7020849e+08
A7: 加：营业外收入 | B7: =利润总额!G20 -> 11014.59 | C7: =调整表!D13 -> 0 | D7: =B7-C7-E7 -> 11014.59 | F7: =D7+E7 -> 11014.59 | G7: 应税收入 | H7: =E10+H20+N("损益类应税收入（收入+费用负数）+少计收入调增额") -> 0 | J7: =H7-凭证检查表!#REF! -> #REF!
A8: 投资收益 | B8: =利润总额!G18 -> 0 | D8: =B8-C8-E8 -> 0 | F8: =D8+E8 -> 0 | G8: 应免税收入合计 | H8: =F10+H20+N("损益类收入合计+少计收入调增金额") -> 2.702195e+08
A9: 费用负数（应税） | E9: =B9 -> 0 | F9: =D9+E9 -> 0 | G9: 共同费用分配比例 | I9: =IFERROR(H7/H8,0) -> 0
A10: 收入合计 | B10: =SUM(B6:B9) -> 2.702195e+08 | C10: =SUM(C6:C9) -> 0 | D10: =SUM(D6:D9) -> 2.702195e+08 | E10: =SUM(E6:E9) -> 0 | F10: =D10+E10 -> 2.702195e+08 | G10: 免税直接成本费用 | H10: 应税直接成本费用 | I10: 分摊成本费用
A11: 减：营业成本 | B11: =利润总额!G9 -> 2.2747783e+08 | D11: =B11-C11-E11 -> 2.2747783e+08 | E11: =H11+I11*$I$9 -> 0 | F11: =D11+E11 -> 2.2747783e+08 | G11: =F11-I11 -> 2.2747783e+08 | H11: ='应税收入&应税成本'!E10 -> 0
A12: 营业税金及附加 | B12: =利润总额!G12 -> 4250790.2 | D12: =B12-C12-E12 -> 4250790.2 | E12: =H12+I12*$I$9 -> 0 | F12: =D12+E12 -> 4250790.2 | I12: =B12-C12-G12-H12 -> 4250790.2
A13: 销售费用 | B13: =利润总额!G13 -> 5231485.5 | D13: =B13-C13-E13 -> 5231485.5 | E13: =H13+I13*$I$9 -> 0 | F13: =D13+E13 -> 5231485.5 | G13: =B13 -> 5231485.5 | I13: =B13-C13-G13-H13 -> 0
A14: 管理费用 | B14: =利润总额!G14+B9 -> 2693755.5 | D14: =B14-C14-E14 -> 2693755.5 | E14: =H14+I14*$I$9 -> 0 | F14: =D14+E14 -> 2693755.5 | G14: =B14 -> 2693755.5 | I14: =B14-C14-G14-H14 -> 0
A15: 财务费用 | B15: =利润总额!G15 -> 1464887.5 | D15: =B15-C15-E15 -> 1464887.5 | E15: =H15+I15*$I$9 -> 0 | F15: =D15+E15 -> 1464887.5 | G15: =B15 -> 1464887.5 | I15: =B15-C15-G15-H15 -> 0
A16: 资产减值损失 | B16: =利润总额!G16 -> 0 | D16: =B16-C16-E16 -> 0 | F16: =D16+E16 -> 0 | I16: =B16-C16-G16-H16 -> 0
A17: 减：营业外支出 | B17: =利润总额!G21 -> 11221.12 | D17: =B17-C17-E17 -> 11221.12 | F17: =D17+E17 -> 11221.12 | I17: =B17-C17-G17-H17 -> 11221.12
A18: 支出合计 | B18: =SUM(B11:B17) -> 2.4112997e+08 | C18: =SUM(C11:C17) -> 0 | D18: =B18-C18-E18 -> 2.4112997e+08 | E18: =SUM(E11:E17) -> 0 | F18: =D18+E18 -> 2.4112997e+08
A19: 三、利润总额 | B19: =B10-B18 -> 29089535 | C19: =C10-C18 -> 0 | D19: =B19-C19-E19 -> 29089535 | E19: =E10-E18 -> 0 | F19: =D19+E19 -> 29089535 | G19: 免税直接调增额 | H19: 应税直接调增额 | I19: 分摊调增额
A20: 加：纳税调整增加额 | B20: =调整表!F48 -> 10910799 | C20: =-C19 -> 0 | D20: =B20-C20-E20 -> 10910799 | E20: =H20+I20*$I$9 -> 0 | F20: =D20+E20 -> 10910799 | G20: =B20 -> 10910799 | I20: =调整表!F58-应免税分配!G20-H20 -> 0
A21: 减：免税、减计收入（免税投资收益） | B21: =B8 -> 0 | F21: =D21+E21 -> 0
