Workbook

Sheet 工资汇总表
A2: 基本信息 | H2: 其他项核算 | N2: 应发核算 | R2: 社保、公积金及个税 | Y2: 实发总额 | Z2: 备注
A3: 单位名称 | B3: 月末人数 | C3: 月工资标准 | D3: 应出勤天数 | E3: 基本薪资 | F3: 绩效奖金 | G3: 年度奖金 | H3: 加班工资 | I3: 绩效考核 | J3: 假期工资 | K3: 其他 | L3: 佣金 | M3: 小计 | N3: 当月日均工资 | O3: 当月日均奖金 | P3: 实际出勤天数 | Q3: 应发总额 | R3: 养老金 | S3: 失业金 | T3: 医疗金 | U3: 大额医疗保险 | V3: 公积金 | W3: 税金 | X3: 小计
A4: 画堂春酒店 | B4: 11 | C4: =工资表!E16 -> 36900 | E4: =工资表!G16 -> 29520 | F4: =工资表!H16 -> 7380 | K4: =工资表!M16 -> 13000 | L4: =工资表!N16 -> 2930.65 | M4: =工资表!O16 -> 15930.65 | Q4: =工资表!S16 -> 49680.65 | R4: =工资表!T16 -> 2400 | S4: =工资表!U16 -> 120 | T4: =工资表!V16 -> 600 | U4: =工资表!W16 -> 0 | W4: =工资表!Y16 -> 0 | X4: =工资表!Z16 -> 3120 | Y4: =工资表!AA16 -> 46560.65

Sheet 工资表
A1: 画堂春酒店公司全称2025年12月工资表
A3: 序号 | B3: 基本信息 | J3: 其他项核算 | P3: 应发核算 | T3: 社保、公积金及个税 | AA3: 实发总额 | AB3: 备注
B4: 姓名 | C4: 岗位 | D4: 职务 序列 | E4: 月工资 标准 | F4: 应出 勤天 | G4: 基本 薪资 | H4: 绩效 奖金 | I4: 年度 奖金 | J4: 加班 工资 | K4: 绩效 考核 | L4: 假期 工资 | M4: 其他 | N4: 佣金 | O4: 小计 | P4: 日均 工资 | Q4: 日均 奖金 | R4: 实际 出勤 | S4: 应发总额 | T4: 养老金 | U4: 失业金 | V4: 医疗金 | W4: 大额 医保 | X4: 公积金 | Y4: 税金 | Z4: 小计
A5: 1 | B5: 杨鸿鑫 | C5: 酒店业主代表 | F5: 31 | M5: 10000 | O5: =SUM(J5:N5) -> 10000 | R5: =VLOOKUP(B5,考勤!B:AI,34,0) -> 31 | S5: =(P5*R5)+(Q5*R5)+O5 -> 10000 | T5: 400 | U5: 20 | V5: 100 | Z5: =SUM(T5:Y5) -> 520 | AA5: =S5-Z5 -> 9480
A6: 2 | B6: 邱小艳 | C6: 前厅经理 | D6: PB | E6: 6500 | F6: 27 | G6: =E6*VLOOKUP(D6,职务序列取数!B:E,2,0) -> 5200 | H6: =E6*VLOOKUP(D6,职务序列取数!B:E,3,0) -> 1300 | I6: =E6*VLOOKUP(D6,职务序列取数!B:E,4,0) -> 0 | O6: =SUM(J6:N6) -> 0 | P6: =G6/F6 -> 192.59259 | Q6: =H6/F6 -> 48.148148 | R6: =VLOOKUP(B6,考勤!B:AI,34,0) -> 27 | S6: =(P6*R6)+(Q6*R6)+O6 -> 6500 | T6: 400 | U6: 20 | V6: 100 | Z6: =SUM(T6:Y6) -> 520 | AA6: =S6-Z6 -> 5980
A7: 3 | B7: 张智慧 | C7: 前厅接待 | D7: PB | E7: 3500 | F7: 10 | G7: =E7*VLOOKUP(D7,职务序列取数!B:E,2,0) -> 2800 | H7: =E7*VLOOKUP(D7,职务序列取数!B:E,3,0) -> 700 | I7: =E7*VLOOKUP(D7,职务序列取数!B:E,4,0) -> 0 | N7: =277.86+180 -> 457.86 | O7: =SUM(J7:N7) -> 457.86 | P7: =G7/F7 -> 280 | Q7: =H7/F7 -> 70 | R7: =VLOOKUP(B7,考勤!B:AI,34,0) -> 10 | S7: =(P7*R7)+(Q7*R7)+O7 -> 3957.86 | Z7: =SUM(T7:Y7) -> 0 | AA7: =S7-Z7 -> 3957.86 | AB7: 散客、好评提成
A8: 4 | B8: 陈明美 | C8: 前厅接待 | D8: PB | E8: 4200 | F8: 11 | G8: =E8*VLOOKUP(D8,职务序列取数!B:E,2,0) -> 3360 | H8: =E8*VLOOKUP(D8,职务序列取数!B:E,3,0) -> 840 | I8: =E8*VLOOKUP(D8,职务序列取数!B:E,4,0) -> 0 | N8: =373.5+130 -> 503.5 | O8: =SUM(J8:N8) -> 503.5 | P8: =G8/F8 -> 305.45455 | Q8: =H8/F8 -> 76.363636 | R8: =VLOOKUP(B8,考勤!B:AI,34,0) -> 11 | S8: =(P8*R8)+(Q8*R8)+O8 -> 4703.5 | T8: 400 | U8: 20 | V8: 100 | Z8: =SUM(T8:Y8) -> 520 | AA8: =S8-Z8 -> 4183.5 | AB8: 散客、好评提成
A9: 5 | B9: 马萌 | C9: 前厅接待 | D9: PB | E9: 3500 | F9: 10 | G9: =E9*VLOOKUP(D9,职务序列取数!B:E,2,0) -> 2800 | H9: =E9*VLOOKUP(D9,职务序列取数!B:E,3,0) -> 700 | N9: =163.17+70 -> 233.17 | O9: =SUM(J9:N9) -> 233.17 | P9: =G9/F9 -> 280 | Q9: =H9/F9 -> 70 | R9: =VLOOKUP(B9,考勤!B:AI,34,0) -> 7 | S9: =(P9*R9)+(Q9*R9)+O9 -> 2683.17 | T9: 400 | U9: 20 | V9: 100 | Z9: =SUM(T9:Y9) -> 520 | AA9: =S9-Z9 -> 2163.17 | AB9: 散客、好评提成
A10: 6 | B10: 吕丽苹 | C10: 出纳 | D10: PB | E10: 5000 | F10: 27 | G10: =E10*VLOOKUP(D10,职务序列取数!B:E,2,0) -> 4000 | H10: =E10*VLOOKUP(D10,职务序列取数!B:E,3,0) -> 1000 | I10: =E10*VLOOKUP(D10,职务序列取数!B:E,4,0) -> 0 | O10: =SUM(J10:N10) -> 0 | P10: =G10/F10 -> 148.14815 | Q10: =H10/F10 -> 37.037037 | R10: =VLOOKUP(B10,考勤!B:AI,34,0) -> 27 | S10: =(P10*R10)+(Q10*R10)+O10 -> 5000 | T10: 400 | U10: 20 | V10: 100 | Z10: =SUM(T10:Y10) -> 520 | AA10: =S10-Z10 -> 4480
A11: 7 | B11: 林姣 | C11: 前厅接待 | D11: PB | E11: 3500 | F11: 10 | G11: =E11*VLOOKUP(D11,职务序列取数!B:E,2,0) -> 2800 | H11: =E11*VLOOKUP(D11,职务序列取数!B:E,3,0) -> 700 | N11: 120.12 | O11: =SUM(J11:N11) -> 120.12 | P11: =G11/F11 -> 280 | Q11: =H11/F11 -> 70 | R11: =VLOOKUP(B11,考勤!B:AI,34,0) -> 4 | S11: =(P11*R11)+(Q11*R11)+O11 -> 1520.12 | Z11: =SUM(T11:Y11) -> 0 | AA11: =S11-Z11 -> 1520.12
A12: 8 | B12: 朱月贞 | C12: 客房服务员 | D12: PB | E12: 3200 | F12: 27 | G12: =E12*VLOOKUP(D12,职务序列取数!B:E,2,0) -> 2560 | H12: =E12*VLOOKUP(D12,职务序列取数!B:E,3,0) -> 640 | N12: 1064 | O12: =SUM(J12:N12) -> 1064 | P12: =G12/F12 -> 94.814815 | Q12: =H12/F12 -> 23.703704 | R12: =VLOOKUP(B12,考勤!B:AI,34,0) -> 27 | S12: =(P12*R12)+(Q12*R12)+O12 -> 4264 | T12: 400 | U12: 20 | V12: 100 | Z12: =SUM(T12:Y12) -> 520 | AA12: =S12-Z12 -> 3744 | AB12: 客房提成
A13: 9 | B13: 王青林 | C13: 万能工 | D13: PB | E13: 4500 | F13: 27 | G13: =E13*VLOOKUP(D13,职务序列取数!B:E,2,0) -> 3600 | H13: =E13*VLOOKUP(D13,职务序列取数!B:E,3,0) -> 900 | P13: =G13/F13 -> 133.33333 | Q13: =H13/F13 -> 33.333333 | R13: =VLOOKUP(B13,考勤!B:AI,34,0) -> 27 | S13: =(P13*R13)+(Q13*R13)+O13 -> 4500 | AA13: =S13-Z13 -> 4500
A14: 10 | B14: 吴英 | C14: 保洁 | D14: PB | E14: 3000 | F14: 27 | G14: =E14*VLOOKUP(D14,职务序列取数!B:E,2,0) -> 2400 | H14: =E14*VLOOKUP(D14,职务序列取数!B:E,3,0) -> 600 | I14: =E14*VLOOKUP(D14,职务序列取数!B:E,4,0) -> 0 | N14: 552 | O14: =SUM(J14:N14) -> 552 | P14: =G14/F14 -> 88.888889 | Q14: =H14/F14 -> 22.222222 | R14: =VLOOKUP(B14,考勤!B:AI,34,0) -> 27 | S14: =(P14*R14)+(Q14*R14)+O14 -> 3552 | Z14: =SUM(T14:Y14) -> 0 | AA14: =S14-Z14 -> 3552 | AB14: 客房提成
A15: 11 | B15: 王学 | C15: 运营 | D15: PB | F15: 31 | M15: =3000 -> 3000 | O15: =SUM(J15:N15) -> 3000 | R15: =VLOOKUP(B15,考勤!B:AI,34,0) -> 31 | S15: =(P15*R15)+(Q15*R15)+O15 -> 3000 | Z15: =SUM(T15:Y15) -> 0 | AA15: =S15-Z15 -> 3000
B16: 合计 | E16: =SUM(E5:E15) -> 36900 | G16: =SUM(G5:G15) -> 29520 | H16: =SUM(H5:H15) -> 7380 | I16: =SUM(I5:I15) -> 0 | J16: =SUM(J5:J15) -> 0 | K16: =SUM(K5:K15) -> 0 | L16: =SUM(L5:L15) -> 0 | M16: =SUM(M5:M15) -> 13000 | N16: =SUM(N5:N15) -> 2930.65 | ... Q16: =SUM(Q5:Q15) -> 450.80808 | S16: =SUM(S5:S15) -> 49680.65 | T16: =SUM(T5:T15) -> 2400 | U16: =SUM(U5:U15) -> 120 | V16: =SUM(V5:V15) -> 600 | W16: =SUM(W5:W15) -> 0 | X16: =SUM(X5:X15) -> 0 | Y16: =SUM(Y5:Y15) -> 0 | Z16: =SUM(Z5:Z15) -> 3120 | AA16: =SUM(AA5:AA15) -> 46560.65
A17: 注： | B17: 前台佣金含散客提成（首住总金额6%，续住总金额3%）和线上好评提成（携程20/条，其他平台10/条）。 客房保底每天12间，超出间数按8元/间计算（退房续房都是8元/间）。
B18: 单位领导： | K18: 分管领导： | S18: 审核： | AA18: 制表：

Sheet 考勤
A1: =[1]封面!A10 -> 2025年 | V1: 12 | X1: 月职工考勤表
B2: 单位: | C2: =工资汇总表!A4 -> 画堂春酒店 | AK2: 46023
A3: 序号 | B3: 姓名 | C3: 职务工种 | D3: 出 勤 情 况 | AI3: 实际出勤天数 | AJ3: 公休节日天数 | AK3: 考 勤 天 数 | AZ3: 员工本人 签字
D4: =V1 -> 12 | T4: 月
D5: 1 | E5: 2 | F5: 3 | G5: 4 | H5: 5 | I5: 6 | J5: 7 | K5: 8 | L5: 9 | M5: 10 | N5: 11 | O5: 12 | P5: 13 | Q5: 14 | R5: 15 | S5: 16 | T5: 17 | U5: 18 | V5: 19 | W5: 20 | X5: 21 | Y5: 22 | Z5: 23 | AA5: 24 | AB5: 25 | AC5: 26 | AD5: 27 | AE5: 28 | AF5: 29 | AG5: 30 | AH5: 31 | AK5: 出勤√ | AL5: 出差 | AM5: 公休 | AN5: 病假 | AO5: 事假 | AP5: 旷工 | AQ5: 工伤 | AR5: 培训 | AS5: 冬休 | AT5: 休假 | AU5: 探亲 | AV5: 产假 | AW5: 陪护假 | AX5: 婚丧假 | AY5: 待岗
A6: 1 | B6: =工资表!B5 -> 杨鸿鑫 | C6: =工资表!C5 -> 酒店业主代表 | D6: √ | E6: √ | F6: √ | G6: √ | H6: √ | I6: √ | J6: √ | K6: √ | L6: √ | M6: √ | N6: √ | O6: √ | P6: √ | Q6: √ | R6: √ | S6: √ | T6: √ | U6: √ | V6: √ | W6: √ | X6: √ | Y6: √ | Z6: √ | AA6: √ | AB6: √ | AC6: √ | AD6: √ | AE6: √ | AF6: √ | AG6: √ | AH6: √ | AI6: =AK6+AL6+AR6 -> 31 | AJ6: =AM6 -> 0 | AK6: =COUNTIF($D6:$AH6,"√") -> 31 | AL6: =COUNTIF($D6:$AH6,"出差") -> 0 | AM6: =COUNTIF($D6:$AH6,"公休") -> 0 | AN6: =COUNTIF($D6:$AH6,"病假") -> 0 | AO6: =COUNTIF($D6:$AH6,"事假") -> 0 | AP6: =COUNTIF($D6:$AH6,"旷工") -> 0 | AQ6: =COUNTIF($D6:$AH6,"工伤") -> 0 | AR6: =COUNTIF($D6:$AH6,"培训") -> 0 | AS6: =COUNTIF($D6:$AH6,"冬休") -> 0 | AT6: =COUNTIF($D6:$AH6,"休假") -> 0 | AU6: =COUNTIF($D6:$AH6,"探亲") -> 0 | AV6: =COUNTIF($D6:$AH6,"产假") -> 0 | AW6: =COUNTIF($D6:$AH6,"陪护假") -> 0 | AX6: =COUNTIF($D6:$AH6,"婚丧假") -> 0 | AY6: =COUNTIF($D6:$AH6,"待岗") -> 0
A7: 2 | B7: =工资表!B6 -> 邱小艳 | C7: =工资表!C6 -> 前厅经理 | D7: √ | E7: √ | F7: √ | G7: √ | H7: √ | I7: √ | J7: √ | K7: 公休 | L7: √ | M7: √ | N7: √ | O7: √ | P7: √ | Q7: √ | R7: 公休 | S7: √ | T7: √ | U7: √ | V7: √ | W7: √ | X7: √ | Y7: 公休 | Z7: √ | AA7: √ | AB7: √ | AC7: √ | AD7: √ | AE7: √ | AF7: 公休 | AG7: √ | AH7: √ | AI7: =AK7+AL7+AR7 -> 27 | AJ7: =AM7 -> 4 | AK7: =COUNTIF($D7:$AH7,"√") -> 27 | AL7: =COUNTIF($D7:$AH7,"出差") -> 0 | AM7: =COUNTIF($D7:$AH7,"公休") -> 4 | AN7: =COUNTIF($D7:$AH7,"病假") -> 0 | AO7: =COUNTIF($D7:$AH7,"事假") -> 0 | AP7: =COUNTIF($D7:$AH7,"旷工") -> 0 | AQ7: =COUNTIF($D7:$AH7,"工伤") -> 0 | AR7: =COUNTIF($D7:$AH7,"培训") -> 0 | AS7: =COUNTIF($D7:$AH7,"冬休") -> 0 | AT7: =COUNTIF($D7:$AH7,"休假") -> 0 | AU7: =COUNTIF($D7:$AH7,"探亲") -> 0 | AV7: =COUNTIF($D7:$AH7,"产假") -> 0 | AW7: =COUNTIF($D7:$AH7,"陪护假") -> 0 | AX7: =COUNTIF($D7:$AH7,"婚丧假") -> 0 | AY7: =COUNTIF($D7:$AH7,"待岗") -> 0
A8: 3 | B8: =工资表!B7 -> 张智慧 | C8: =工资表!C7 -> 前厅接待 | F8: √ | I8: √ | L8: √ | O8: √ | R8: √ | U8: √ | X8: √ | AA8: √ | AD8: √ | AG8: √ | AI8: =AK8+AL8+AR8 -> 10 | AJ8: =AM8 -> 0 | AK8: =COUNTIF($D8:$AH8,"√") -> 10 | AL8: =COUNTIF($D8:$AH8,"出差") -> 0 | AM8: =COUNTIF($D8:$AH8,"公休") -> 0 | AN8: =COUNTIF($D8:$AH8,"病假") -> 0 | AO8: =COUNTIF($D8:$AH8,"事假") -> 0 | AP8: =COUNTIF($D8:$AH8,"旷工") -> 0 | AQ8: =COUNTIF($D8:$AH8,"工伤") -> 0 | AR8: =COUNTIF($D8:$AH8,"培训") -> 0 | AS8: =COUNTIF($D8:$AH8,"冬休") -> 0 | AT8: =COUNTIF($D8:$AH8,"休假") -> 0 | AU8: =COUNTIF($D8:$AH8,"探亲") -> 0 | AV8: =COUNTIF($D8:$AH8,"产假") -> 0 | AW8: =COUNTIF($D8:$AH8,"陪护假") -> 0 | AX8: =COUNTIF($D8:$AH8,"婚丧假") -> 0 | AY8: =COUNTIF($D8:$AH8,"待岗") -> 0
A9: 4 | B9: =工资表!B8 -> 陈明美 | C9: 前厅接待 | D9: √ | G9: √ | J9: √ | M9: √ | P9: √ | S9: √ | V9: √ | Y9: √ | AB9: √ | AE9: √ | AH9: √ | AI9: =AK9+AL9+AR9 -> 11 | AJ9: =AM9 -> 0 | AK9: =COUNTIF($D9:$AH9,"√") -> 11 | AM9: =COUNTIF($D9:$AH9,"公休") -> 0 | AN9: =COUNTIF($D9:$AH9,"病假") -> 0 | AO9: =COUNTIF($D9:$AH9,"事假") -> 0 | AP9: =COUNTIF($D9:$AH9,"旷工") -> 0 | AQ9: =COUNTIF($D9:$AH9,"工伤") -> 0
A10: 5 | B10: =工资表!B9 -> 马萌 | C10: 前厅接待 | E10: √ | H10: √ | K10: √ | N10: √ | Q10: √ | T10: √ | W10: √ | AI10: =AK10+AL10+AR10 -> 7 | AJ10: =AM10 -> 0 | AK10: =COUNTIF($D10:$AH10,"√") -> 7 | AM10: =COUNTIF($D10:$AH10,"公休") -> 0 | AN10: =COUNTIF($D10:$AH10,"病假") -> 0 | AO10: =COUNTIF($D10:$AH10,"事假") -> 0 | AP10: =COUNTIF($D10:$AH10,"旷工") -> 0 | AQ10: =COUNTIF($D10:$AH10,"工伤") -> 0
A11: 6 | B11: =工资表!B10 -> 吕丽苹 | C11: 出纳 | D11: √ | E11: √ | F11: √ | G11: √ | H11: √ | I11: √ | J11: 公休 | K11: √ | L11: √ | M11: √ | N11: √ | O11: √ | P11: √ | Q11: 公休 | R11: √ | S11: √ | T11: √ | U11: √ | V11: √ | W11: √ | X11: 公休 | Y11: √ | Z11: √ | AA11: √ | AB11: √ | AC11: √ | AD11: 公休 | AE11: √ | AF11: √ | AG11: √ | AH11: √ | AI11: =AK11+AL11+AR11 -> 27 | AJ11: =AM11 -> 4 | AK11: =COUNTIF($D11:$AH11,"√") -> 27 | AL11: =COUNTIF($D11:$AH11,"出差") -> 0 | AM11: =COUNTIF($D11:$AH11,"公休") -> 4 | AN11: =COUNTIF($D11:$AH11,"病假") -> 0 | AO11: =COUNTIF($D11:$AH11,"事假") -> 0 | AP11: =COUNTIF($D11:$AH11,"旷工") -> 0 | AQ11: =COUNTIF($D11:$AH11,"工伤") -> 0
A12: 7 | B12: =工资表!B11 -> 林姣 | C12: 前厅接待 | W12: √ | Z12: √ | AC12: √ | AF12: √ | AI12: =AK12+AL12+AR12 -> 4 | AJ12: =AM12 -> 0 | AK12: =COUNTIF($D12:$AH12,"√") -> 4 | AL12: =COUNTIF($D12:$AH12,"出差") -> 0 | AM12: =COUNTIF($D12:$AH12,"公休") -> 0 | AN12: =COUNTIF($D12:$AH12,"病假") -> 0 | AO12: =COUNTIF($D12:$AH12,"事假") -> 0 | AP12: =COUNTIF($D12:$AH12,"旷工") -> 0 | AQ12: =COUNTIF($D12:$AH12,"工伤") -> 0
A13: 8 | B13: =工资表!B12 -> 朱月贞 | C13: 客房服务员 | D13: √ | E13: √ | F13: 公休 | G13: √ | H13: √ | I13: √ | J13: √ | K13: √ | L13: √ | M13: √ | N13: √ | O13: 公休 | P13: √ | Q13: √ | R13: √ | S13: √ | T13: 公休 | U13: √ | V13: √ | W13: √ | X13: √ | Y13: 公休 | Z13: √ | AA13: √ | AB13: √ | AC13: √ | AD13: √ | AE13: √ | AF13: √ | AG13: √ | AH13: √ | AI13: =AK13+AL13+AR13 -> 27 | AJ13: =AM13 -> 4 | AK13: =COUNTIF($D13:$AH13,"√") -> 27 | AL13: =COUNTIF($D13:$AH13,"出差") -> 0 | AM13: =COUNTIF($D13:$AH13,"公休") -> 4 | AN13: =COUNTIF($D13:$AH13,"病假") -> 0 | AO13: =COUNTIF($D13:$AH13,"事假") -> 0 | AP13: =COUNTIF($D13:$AH13,"旷工") -> 0 | AQ13: =COUNTIF($D13:$AH13,"工伤") -> 0
A14: 9 | B14: =工资表!B13 -> 王青林 | C14: 万能工 | D14: √ | E14: √ | F14: 公休 | G14: √ | H14: √ | I14: √ | J14: √ | K14: √ | L14: √ | M14: √ | N14: √ | O14: 公休 | P14: √ | Q14: √ | R14: √ | S14: √ | T14: √ | U14: √ | V14: √ | W14: √ | X14: 公休 | Y14: √ | Z14: 公休 | AA14: √ | AB14: √ | AC14: √ | AD14: √ | AE14: √ | AF14: √ | AG14: √ | AH14: √ | AI14: =AK14+AL14+AR14 -> 27 | AK14: =COUNTIF($D14:$AH14,"√") -> 27 | AM14: =COUNTIF($D14:$AH14,"公休") -> 4
A15: 10 | B15: =工资表!B14 -> 吴英 | C15: 保洁 | D15: √ | E15: √ | F15: √ | G15: 公休 | H15: √ | I15: √ | J15: √ | K15: √ | L15: √ | M15: √ | N15: √ | O15: √ | P15: √ | Q15: √ | R15: 公休 | S15: √ | T15: √ | U15: √ | V15: √ | W15: √ | X15: √ | Y15: √ | Z15: √ | AA15: √ | AB15: 公休 | AC15: √ | AD15: √ | AE15: √ | AF15: √ | AG15: 公休 | AH15: √ | AI15: =AK15+AL15+AR15 -> 27 | AK15: =COUNTIF($D15:$AH15,"√") -> 27 | AM15: =COUNTIF($D15:$AH15,"公休") -> 4
A16: 11 | B16: 王学 | C16: 运营 | D16: √ | E16: √ | F16: √ | G16: √ | H16: √ | I16: √ | J16: √ | K16: √ | L16: √ | M16: √ | N16: √ | O16: √ | P16: √ | Q16: √ | R16: √ | S16: √ | T16: √ | U16: √ | V16: √ | W16: √ | X16: √ | Y16: √ | Z16: √ | AA16: √ | AB16: √ | AC16: √ | AD16: √ | AE16: √ | AF16: √ | AG16: √ | AH16: √ | AI16: =AK16+AL16+AR16 -> 31 | AJ16: =AM16 -> 0 | AK16: =COUNTIF($D16:$AH16,"√") -> 31 | AM16: =COUNTIF($D16:$AH16,"公休") -> 0
B17: 注：
E18: 单位领导： | V18: 审核： | AI18: 制表：

Sheet 校验
A2: 序号 | B2: 姓名 | C2: 实际出勤天数 | D2: 月工资标准 | E2: 月度应发 | F2: 差额 | G2: 差额备注
A3: 1 | B3: 杨鸿鑫 | C3: =工资表!R5 -> 31 | D3: =(VLOOKUP(B3,工资表!B5:G5,6,0)+VLOOKUP(B3,工资表!B5:H5,7,0))/工资表!F5*VLOOKUP(B3,考勤!B6:AI6,34,0) -> 0 | E3: =VLOOKUP(B3,工资表!B5:S5,18,0) -> 10000 | F3: =D3-E3 -> -10000 | G3: 兼职
A4: 2 | B4: 邱小艳 | C4: =工资表!R6 -> 27 | D4: =(VLOOKUP(B4,工资表!B6:G6,6,0)+VLOOKUP(B4,工资表!B6:H6,7,0))/工资表!F6*VLOOKUP(B4,考勤!B7:AI7,34,0) -> 6500 | E4: =VLOOKUP(B4,工资表!B6:S6,18,0) -> 6500 | F4: =D4-E4 -> -1.0004442e-11
A5: 3 | B5: 张智慧 | C5: =工资表!R7 -> 10 | D5: =(VLOOKUP(B5,工资表!B7:G7,6,0)+VLOOKUP(B5,工资表!B7:H7,7,0))/工资表!F7*VLOOKUP(B5,考勤!B8:AI8,34,0) -> 3500 | E5: =VLOOKUP(B5,工资表!B7:S7,18,0) -> 3957.86 | F5: =D5-E5 -> -457.86 | G5: 散客提成和线上好评
A6: 4 | B6: 陈明美 | C6: =工资表!R8 -> 11 | D6: =(VLOOKUP(B6,工资表!B8:G8,6,0)+VLOOKUP(B6,工资表!B8:H8,7,0))/工资表!F8*VLOOKUP(B6,考勤!B9:AI9,34,0) -> 4200 | E6: =VLOOKUP(B6,工资表!B8:S8,18,0) -> 4703.5 | F6: =D6-E6 -> -503.5 | G6: 散客提成和线上好评
A7: 5 | B7: 马萌 | C7: =工资表!R9 -> 7 | D7: =(VLOOKUP(B7,工资表!B9:G9,6,0)+VLOOKUP(B7,工资表!B9:H9,7,0))/工资表!F9*VLOOKUP(B7,考勤!B10:AI10,34,0) -> 2450 | E7: =VLOOKUP(B7,工资表!B9:S9,18,0) -> 2683.17 | F7: =D7-E7 -> -233.17 | G7: 散客提成和线上好评
A8: 6 | B8: 吕丽苹 | C8: =工资表!R10 -> 27 | D8: =(VLOOKUP(B8,工资表!B10:G10,6,0)+VLOOKUP(B8,工资表!B10:H10,7,0))/工资表!F10*VLOOKUP(B8,考勤!B11:AI11,34,0) -> 5000 | E8: =VLOOKUP(B8,工资表!B10:S10,18,0) -> 5000 | F8: =D8-E8 -> 0
A9: 7 | B9: 林姣 | C9: =工资表!R11 -> 4 | D9: =(VLOOKUP(B9,工资表!B11:G11,6,0)+VLOOKUP(B9,工资表!B11:H11,7,0))/工资表!F11*VLOOKUP(B9,考勤!B12:AI12,34,0) -> 1400 | E9: =VLOOKUP(B9,工资表!B11:S11,18,0) -> 1520.12 | F9: =D9-E9 -> -120.12
A10: 8 | B10: 朱月贞 | C10: =工资表!R12 -> 27 | D10: =(VLOOKUP(B10,工资表!B12:G12,6,0)+VLOOKUP(B10,工资表!B12:H12,7,0))/工资表!F12*VLOOKUP(B10,考勤!B13:AI13,34,0) -> 3200 | E10: =VLOOKUP(B10,工资表!B12:S12,18,0) -> 4264 | F10: =D10-E10 -> -1064 | G10: 客房打扫提成
A11: 9 | B11: 王青林 | C11: =工资表!R13 -> 27 | D11: =(VLOOKUP(B11,工资表!B13:G13,6,0)+VLOOKUP(B11,工资表!B13:H13,7,0))/工资表!F13*VLOOKUP(B11,考勤!B14:AI14,34,0) -> 4500 | E11: =VLOOKUP(B11,工资表!B13:S13,18,0) -> 4500 | F11: =D11-E11 -> 0
A12: 10 | B12: 吴英 | C12: =工资表!R14 -> 27 | D12: =(VLOOKUP(B12,工资表!B14:G14,6,0)+VLOOKUP(B12,工资表!B14:H14,7,0))/工资表!F14*VLOOKUP(B12,考勤!B15:AI15,34,0) -> 3000 | E12: =VLOOKUP(B12,工资表!B14:S14,18,0) -> 3552 | F12: =D12-E12 -> -552 | G12: 客房打扫提成
A13: 11 | B13: 王学 | C13: =工资表!R15 -> 31 | D13: =(VLOOKUP(B13,工资表!B15:G15,6,0)+VLOOKUP(B13,工资表!B15:H15,7,0))/工资表!F15*VLOOKUP(B13,考勤!B16:AI16,34,0) -> 0 | E13: =VLOOKUP(B13,工资表!B15:S15,18,0) -> 3000 | F13: =D13-E13 -> -3000 | G13: 兼职

Sheet 职务序列取数
B2: 职务序列 | C2: 月度基本工资比例 | D2: 月度绩效奖金比例 | E2: 年度奖金比例
A3: 高管级 | B3: A1 | C3: 1 | D3: 0 | E3: 0
A4: 高管级 | B4: A2 | C4: 0.375 | D4: 0.375 | E4: 0.25
A5: 高管级 | B5: A3 | C5: 0.375 | D5: 0.375 | E5: 0.25
A6: 高管级 | B6: A4 | C6: 0.375 | D6: 0.375 | E6: 0.25
A7: 高管级 | B7: A5 | C7: 0.375 | D7: 0.375 | E7: 0.25
A8: 经理级 | B8: M1 | C8: 0.48 | D8: 0.32 | E8: 0.2
A9: 经理级 | B9: M2 | C9: 0.48 | D9: 0.32 | E9: 0.2
A10: 经理级 | B10: M3 | C10: 0.48 | D10: 0.32 | E10: 0.2
A11: 主管级 | B11: PM | C11: 0.7 | D11: 0.3 | E11: 0
A12: 普通职员 | B12: PB | C12: 0.8 | D12: 0.2 | E12: 0
A13: 销售职员 | B13: PA
