Workbook
Name 前期工程费: '[3]项目分类（不可删除）'!$B$5:$J$5
Name 基础设施费: '[3]项目分类（不可删除）'!$B$7:$M$7
Name 土地征用及拆迁补偿费: '[2]项目分类（不可删除）'!$B$4:$H$4
Name 房地产开发费用: '[2]项目分类（不可删除）'!$B$10
Name 核算项目: #REF!

Sheet 与通力股份合同总计 (2)
A1: 房产与股份合同明细
A2: 合同名称 | B2: 合同金额 | C2: 合同修改后金额 | D2: 截止2025.11.30支付金额 | E2: 2025.12月支付 | F2: 2026.1月支付 | G2: 2026.2月支付 | H2: 2026.月支付
A3: 配套工程 | B3: 0 | C3: 19253633 | D3: 13070636 | E3: =89775+514315 -> 604090 | G3: =230000 -> 230000 | I3: =SUM(D3:H3) -> 13904726 | J3: =MIN(C3-I3,C3*10%) -> 1925363.3
A4: 画堂春锦苑9#-12#住宅楼、13#-15#/17#18#商业楼、非人防车库（一期） | B4: 111101168 | C4: 1.3458104e+08 | D4: 1.0606112e+08 | E4: =64480+133000 -> 197480 | G4: =436800+105000 -> 541800 | I4: =SUM(D4:H4) -> 1.068004e+08 | J4: =MIN(C4-I4,C4*10%) -> 13458104 | K4: 一期暂估金额
A5: 建设工程施工合同 画堂春锦苑二期1#-3#5#7#住宅楼及防空地下室（二期） | B5: 141040225 | C5: 1.7153163e+08 | D5: 1.1805793e+08 | E5: =167360+134400 -> 301760 | F5: 857000 | G5: =126783+550000 -> 676783 | I5: =SUM(D5:H5) -> 1.1989347e+08 | J5: =MIN(C5-I5,C5*10%) -> 17153163 | K5: 二期暂估金额
A6: 建设工程施工合同 画堂春锦苑8#住宅楼（三期） | B6: 15185396 | C6: 16731817 | D6: 10394592 | E6: 496863 | G6: =799000+527000 -> 1326000 | I6: =SUM(D6:H6) -> 12217455 | J6: =MIN(C6-I6,C6*10%) -> 1673181.7 | K6: 二期暂估金额
A7: 画堂春锦苑4#6#住宅楼16#19#商业楼非人防车库（4-6#楼）1-3#连廊、1#直梯（五期） | B7: 53686949 | C7: 56853754 | D7: 30056868 | E7: =259750+8066158+62352 -> 8388260 | G7: =366700+495946 -> 862646 | I7: =SUM(D7:H7) -> 39307774 | J7: =MIN(C7-I7,C7*10%) -> 5685375.4 | K7: 二期暂估金额
A8: 画堂春锦苑大门、电梯、连廊施工合同（四期） | B8: 5266121.3 | C8: 7693275.8 | D8: 5344207.5 | I8: =SUM(D8:H8) -> 5344207.5 | J8: =MIN(C8-I8,C8*10%) -> 769327.58
A9: 合计： | B9: =SUBTOTAL(9,B4:B8) -> 3.2627986e+08 | C9: =SUM(C3:C8) -> 4.0664515e+08 | D9: =SUM(D3:D8) -> 2.8298536e+08 | E9: =SUM(E3:E8) -> 9988453 | F9: =SUM(F3:F8) -> 857000 | G9: =SUM(G3:G8) -> 3637229 | H9: =SUM(H3:H8) -> 0
C14: 已付： | D14: =SUM(D9:H9) -> 2.9746804e+08 | E14: =[4]画堂春锦!F75 -> 2.9835205e+08 | F14: 开发票： | G14: 2.9863772e+08 | H14: =G14-D14 -> 1169680 | I14: 已开票未付
D15: =D14-E14 -> -884011.3 | I15: 截止2026.3.27
C16: =C4/1.09*0.1 -> 12346884
C17: =(C5+C6+C7)/1.09*0.1 -> 22487817
C19: 账面： | D19: 2.9746804e+08
D20: =D14-D19 -> 0

Sheet 二期建安合同明细
A1: 房产与股份合同明细暂估金额
A2: 合同名称 | B2: 原合同金额 | C2: 原合同+补充协议金额 | D2: 截止2025.11.30支付金额 | E2: 2025.12月支付 | F2: 支付合计（已开票） | G2: 未开发发票金额 | H2: 未开发票不含税（暂估金额）
A3: 建设工程施工合同 画堂春锦苑二期1#-3#5#7#住宅楼及防空地下室（二期） | B3: 141040225 | C3: 1.7153163e+08 | D3: 1.1805793e+08 | E3: =167360+134400 -> 301760 | F3: =E3+D3 -> 1.1835969e+08 | G3: =C3-F3-857000 -> 52314940 | H3: =G3/1.09 -> 47995358
A4: 建设工程施工合同 画堂春锦苑8#住宅楼（三期） | B4: 15185396 | C4: 16731817 | D4: 10394592 | E4: 496863 | F4: =E4+D4 -> 10891455 | G4: =C4-F4 -> 5840362.1 | H4: =G4/1.09 -> 5358130.4
A5: 画堂春锦苑4#6#住宅楼16#19#商业楼非人防车库（4-6#楼）1-3#连廊、1#直梯（五期） | B5: 53686949 | C5: 56853754 | D5: 30056868 | E5: =259750+8066158+62352 -> 8388260 | F5: =E5+D5 -> 38445128 | G5: =C5-F5 -> 18408626 | H5: =G5/1.09 -> 16888648
A6: 合计： | B6: =SUBTOTAL(9,B3:B5) -> 2.0991257e+08 | C6: =SUM(C3:C5) -> 2.451172e+08 | D6: =SUM(D3:D5) -> 1.5850939e+08 | E6: =SUM(E3:E5) -> 9186883 | F6: =E6+D6 -> 1.6769627e+08 | G6: =SUM(G3:G5) -> 76563929 | H6: =G6/1.09 -> 70242136 | I6: 通力股份合同
H7: 30000000 | I7: 欧总要求
G8: 合计暂估： | H8: =H7+H6 -> 1.0024214e+08
C14: 10000000 | D14: 1000000

Sheet 与通力股份合同总计 (3)
A1: 房产与股份合同明细
A2: 合同名称 | B2: 合同金额 | C2: 合同修改后金额 | D2: 截止2025.11.30支付金额 | E2: 2025.12月支付 | F2: 2026.1月支付 | G2: 2026.2月支付 | H2: 2026.4月支付 | I2: 已支付合计 | J2: 已开票未支付 | K2: 已开票金额（包括2026年5月28日的发票） | L2: 未开票金额 | M2: 合同金额的10% | N2: 可暂估金额（含税） | O2: 可暂估金额
A3: 配套工程 | B3: 0 | C3: 19253633 | D3: 13070636 | E3: =89775+514315 -> 604090 | G3: =230000 -> 230000 | I3: =E3+F3+D3+G3+H3 -> 13904726 | J3: 330842.38 | K3: =I3+J3 -> 14235569 | L3: =C3-K3 -> 5018064 | M3: =C3*0.1 -> 1925363.3 | N3: =MIN(C3*0.1,C3-K3) -> 1925363.3 | O3: =ROUND(N3/1.09,2) -> 1766388.3 | P3: 配套
A4: 画堂春锦苑9#-12#住宅楼、13#-15#/17#18#商业楼、非人防车库（一期） | B4: 111101168 | C4: 1.3458104e+08 | D4: 1.0606112e+08 | E4: =64480+133000 -> 197480 | G4: =436800+105000 -> 541800 | I4: =E4+F4+D4+G4+H4 -> 1.068004e+08 | J4: 955439 | K4: =I4+J4+15211009.17 -> 1.2296685e+08 | L4: =C4-K4 -> 11614184 | M4: =C4*0.1 -> 13458104 | N4: =MIN(C4*0.1,C4-K4) -> 11614184 | O4: =ROUND(N4/1.09,2) -> 10655215 | P4: 一期
A5: 建设工程施工合同 画堂春锦苑二期1#-3#5#7#住宅楼及防空地下室（二期） | B5: 141040225 | C5: 1.7153163e+08 | D5: 1.1805793e+08 | E5: =167360+134400 -> 301760 | F5: 857000 | G5: =126783+550000 -> 676783 | I5: =E5+F5+D5+G5+H5 -> 1.1989347e+08 | J5: 6667499 | K5: =I5+J5 -> 1.2656097e+08 | L5: =C5-K5+20500000 -> 65470658 | M5: =C5*0.1 -> 17153163 | N5: =MIN(C5*0.1,C5-K5) -> 17153163 | O5: =ROUND(N5/1.09,2) -> 15736847 | P5: 二期
A6: 建设工程施工合同 画堂春锦苑8#住宅楼（三期） | B6: 15185396 | C6: 16731817 | D6: 10394592 | E6: 496863 | G6: =799000+527000 -> 1326000 | H6: 884011.3 | I6: =E6+F6+D6+G6+H6 -> 13101466 | J6: 349399 | K6: =I6+J6 -> 13450865 | L6: =C6-K6 -> 3280951.8 | M6: =C6*0.1 -> 1673181.7 | N6: =MIN(C6*0.1,C6-K6) -> 1673181.7 | O6: =ROUND(N6/1.09,2) -> 1535029.1 | P6: 二期
A7: 画堂春锦苑4#6#住宅楼16#19#商业楼非人防车库（4-6#楼）1-3#连廊、1#直梯（五期） | B7: 53686949 | C7: 56853754 | D7: 30056868 | E7: =259750+8066158+62352 -> 8388260 | G7: =366700+495946 -> 862646 | I7: =E7+F7+D7+G7+H7 -> 39307774 | J7: 49458.89 | K7: =I7+J7+929592.66 -> 40286825 | L7: =C7-K7 -> 16566929 | M7: =C7*0.1 -> 5685375.4 | N7: =MIN(C7*0.1,C7-K7) -> 5685375.4 | O7: =ROUND(N7/1.09,2) -> 5215940.8 | P7: 二期
A8: 画堂春锦苑大门、电梯、连廊施工合同（四期） | B8: 5266121.3 | C8: 7693275.8 | D8: 5344207.5 | I8: =E8+F8+D8+G8+H8 -> 5344207.5 | J8: 54188 | K8: =I8+J8 -> 5398395.5 | L8: =C8-K8 -> 2294880.3 | M8: =C8*0.1 -> 769327.58 | N8: =MIN(C8*0.1,C8-K8) -> 769327.58 | O8: =ROUND(N8/1.09,2) -> 705805.12 | P8: 配套
A9: 合计： | B9: =SUBTOTAL(9,B4:B8) -> 3.2627986e+08 | C9: =SUM(C3:C8) -> 4.0664515e+08 | D9: =SUM(D3:D8) -> 2.8298536e+08 | E9: =SUM(E3:E8) -> 9988453 | F9: =SUM(F3:F8) -> 857000 | G9: =SUM(G3:G8) -> 3637229 | H9: =SUM(H3:H8) -> 884011.3 | I9: =E9+F9+D9+G9+H9 -> 2.9835205e+08 | J9: =SUM(J3:J8) -> 8406826.3 | K9: =SUM(K3:K8) -> 3.2289948e+08 | N9: =SUM(N3:N8) -> 38820595 | O9: 20500000 | P9: 企业要求暂估成本
C14: 已付： | D14: =SUM(D9:H9) -> 2.9835205e+08 | E14: =[5]画堂春锦!F75 -> 2.9835205e+08 | F14: 开发票： | G14: 3.0675888e+08 | H14: =G14-D14 -> 8406827.3 | I14: 已开票未付
D15: =D14-E14 -> 0 | I15: 截止2026.4.30
C19: 账面： | D19: 2.9746804e+08
D20: =D14-D19 -> 884011.3
C25: SHT2020165 画堂春锦苑二期1#2#住宅楼及人防地下车库（杜） | E25: -1
C26: SHT2020194 画堂春锦苑（一期）9#-12#住宅楼、13#-15#、17#、18#商业楼、非人防车库防火门、防盗门供货及安装工程 | E26: -183113
C27: SHT2020219 画堂春锦苑8#楼工程 | E27: -349399
C28: SHT2020348 画堂春锦苑一期、二期楼栋牌、单元牌、楼层牌、户室牌制作安装（14万） | E28: -16728
C29: SHT2020506 画堂春锦苑9#-12#住宅楼、13#-15#/17#18#商业楼、非人防车库（一期） | E29: -755598
C30: SHT2020507 画堂春锦苑附属配套工程（19253632.83元） | E30: -330842.38
C31: SHT2020508 画堂春锦苑4#6#住宅楼16#19#商业楼非人防车库（4-6#楼）1-3#连廊、1#直梯（五期） | E31: -49458.89
C32: SHT2020509 画堂春锦苑二期1#-3#5#7#住宅楼及防空地下室（二期） | E32: -6667499
C33: SHT2020528 画堂春锦苑大门、电梯、连廊施工合同（7693275.81元） | E33: -54188

Sheet 一期二期面积统计
A1: 项目 | D1: 可售面积（不含储藏室） | E1: 储藏室面积 | F1: 可售面积（含储藏室） | G1: 2025年末成本总计 | H1: 2025年末所得税单方成本 | I1: 2025年末已售面积（不含储藏室） | J1: 2025年末已售面积（储藏室） | K1: 2025年末已售面积（含储藏室） | L1: 应确认扣除成本 | M1: 2025年已扣除成本（开发产品） | N1: 2025年四季度应补确认结转成本
A2: XM202.01.01 画堂春锦苑一期（9-12（住宅），13-15#，17、 18（商业） | D2: 43347.82 | E2: =F2-D2 -> 2594.6 | F2: =D2+2594.6 -> 45942.42 | G2: 1.7037624e+08 | H2: =G2/D2 -> 3930.4454 | I2: 40003.52 | J2: 829.95 | K2: =I2+829.85 -> 40833.37 | L2: =I2*H2 -> 1.5723165e+08 | M2: 1.5067406e+08 | N2: =L2-M2 -> 6557590.4
A3: XM202.01.02 画堂春锦苑二期（1.2.3.5.7.8（住宅），4.6（住宅）.16.19（商业）） | D3: 75518.12 | E3: =F3-D3 -> 6030.98 | F3: =75518.12+3709.84+745.73+1575.41 -> 81549.1 | G3: =209785305.87+70242136.47+31844357.88+30000000 -> 3.418718e+08 | H3: =G3/D3 -> 4527.0168 | I3: 48895.14 | J3: 556.82 | K3: =I3+556.82 -> 49451.96 | L3: =I3*H3 -> 2.2134912e+08 | M3: 1.8234654e+08 | N3: =L3-M3 -> 39002584
A4: XM202.01.02 画堂春锦苑二期（账面结转成本） | M4: （2025.01-2025.09）172607539.97 | N4: （2025.01-2025.12）211910726.72
I7: 40003.52 | J7: 829.95 | K7: =K3-I3 -> 556.82
E8: 99770900 | I8: 48895.14
D10: 24年汇算一期可售面积 | E10: =E8*D2/(D2+D3) -> 36384275 | F10: 43347.82 | H10: 7
E11: =E8-E10 -> 63386625 | F11: =D2-F10 -> 0
D12: 24年汇算核定数已售面积 | F12: 37951.55
D13: 重新测绘24年汇算已售面积 | F13: =F12+F11 -> 37951.55
C22: 一期有票结转开发产品金额 | D22: 1.2416594e+08
D23: 13225217
D24: 13955548
C25: 暂估未冲金额 | D25: 19029536
C26: 合计 | D26: =SUM(D22:D25) -> 1.7037624e+08
I34: 1318
I35: 1363
I36: 1401

Sheet 二期税代单方面积核算
A1: 2025年汇算（二期）
B2: 项目 | C2: 账面合计 | D2: 合计 | E2: 差额 | G2: 二期账面成本
A3: 面积及分摊比例 | B3: 总可售面积 | C3: 75518.12 | D3: =一期二期面积统计!D3 -> 75518.12 | F3: =D3*F23 -> 0 | I3: 二期合同总金额 | J3: 二期合同暂估金额
A4: 成本项目 | B4: 成本合计 | C4: =C5+C6+C7+C10+C11 -> 3.418718e+08 | D4: =D5+D6+D7+D10+D11+D8+D9 -> 2.9707202e+08 | G4: 开发成本：
B5: 取得土地的成本 | C5: =H5 -> 64878839 | D5: =C5 -> 64878839 | E5: =C5-D5 -> 0 | G5: 土地征用及拆迁补偿费 | H5: 64878839
B6: 前期工程费 | C6: =H6 -> 10077744 | D6: =H6 -> 10077744 | E6: =C6-D6 -> 0 | G6: 前期工程费 | H6: 10077744
B7: 建筑安装费 | C7: =H10+H11+H12 -> 2.5871871e+08 | D7: =C7+K17 -> 1.6845892e+08 | E7: =C7-D7 -> 90259789 | F7: 账面暂估开发成本 | G7: 基础设施费 | H7: =二期开发成本凭证明细!C17+二期开发成本凭证明细!C18+二期开发成本凭证明细!C19+二期开发成本凭证明细!C20 -> 2497653.4
B8: 按企业要求暂估成本 | D8: 20500000
B9: 建安成本可暂估金额 | D9: ='与通力股份合同总计 (3)'!O5+'与通力股份合同总计 (3)'!O6+'与通力股份合同总计 (3)'!O7+'与通力股份合同总计 (3)'!O3+'与通力股份合同总计 (3)'!O8 -> 24960010
B10: 基础设施费 | C10: =H7 -> 2497653.4 | D10: =H7 -> 2497653.4 | E10: =C10-D10 -> 0 | G10: 建筑安装工程费 | H10: =二期开发成本凭证明细!C5+二期开发成本凭证明细!C6+二期开发成本凭证明细!C7 -> 1.5847657e+08
B11: 配套设施费 | C11: =H13 -> 5698857.1 | D11: =H13 -> 5698857.1 | E11: =C11-D11 -> 0 | G11: 建筑安装工程费（暂估：未支付合同金额） | H11: =二期开发成本凭证明细!C3 -> 70242136 | I11: 2.451172e+08 | J11: =(I11/1.09)*0.1 -> 22487817 | K11: 通力股份总合同二期暂估金额（税代）
G12: 建筑安装工程费（暂估：无合同） | H12: =二期开发成本凭证明细!C4 -> 30000000 | J12: 638706.99 | K12: 25年片区二期合同暂估金额（税代）
B13: 单位成本 | C13: =C4/C3 -> 4527.0168 | D13: =D4/D3 -> 3933.7847 | G13: 配套设施费 | H13: =二期开发成本凭证明细!C21+二期开发成本凭证明细!C22+二期开发成本凭证明细!C23 -> 5698857.1
A15: 单位成本计算 | B15: 已售面积 | C15: 48150.85 | D15: 48515.66 | I15: 总开发成本 | J15: 结转主营业务成本 | K15: 账面暂估成本 | L15: 账面取得收入的成本 | M15: 2026年5月18日取得发票
B16: 已售面积占比 | C16: =C15/C3 -> 0.63760658 | D16: =+D15/D3 -> 0.64243734 | F16: 账面开发产品 | G16: 一期 | I16: 1.7037624e+08 | J16: 1.572467e+08 | K16: -16986698 | L16: =I16+K16 -> 1.5338954e+08 | M16: 15211009
B17: 土地销项税抵减 | D17: 0 | G17: 二期 | I17: 3.418718e+08 | J17: 2.1943718e+08 | K17: -90259789 | L17: =I17+K17 -> 2.5161201e+08 | M17: 929592.66
B18: 可结转成本 | C18: =C13*C15 -> 2.1797971e+08 | D18: =D13*D15 -> 1.9085016e+08
A19: 成本结转 | B19: 已结转成本 | D19: 2.1797971e+08 | G19: 开发产品贷方发生额（2021-2025年12月） | H19: 主营业务成本发生额（2021-2025年12月） | I19: 差额 | J19: 差额原因
B20: 需调增成本 | D20: =D19-D18 -> 27129551 | G20: 1.563373e+08 | H20: 2.5217996e+08 | I20: =G20-H20 -> -95842653 | J20: 2024年汇算，调整以前年度损益
G21: 2.1797971e+08 | H21: 2.1191073e+08 | I21: =G21-H21 -> 6068982.7 | J21: 土地抵减销项冲减主营业务成本
D22: =D23-D24 -> 22052909 | F22: =D8/D16 -> 31909727
D23: 14452878 | I23: =K17*D16 -> -57986258
D24: -7600030.7
D27: =D20+D24 -> 19529520

Sheet 二期开发成本凭证明细
A1: 2025年二期成本明细
A2: 凭证号 | B2: 科目 | C2: 金额 | D2: 备注 | F2: 结转二期主营成本 | G2: 凭证号 | H2: 金额
A3: 12-92# | B3: 建筑安装工程费 | C3: 70242136 | D3: 按合同未付款金额暂估 | G3: 4-147# | H3: 1.3637104e+08
A4: 12-92# | C4: 30000000 | D4: 无合同暂估 | G4: 5-121# | H4: 762405.96
A5: 4-146# | C5: 1.2638231e+08 | G5: 5-124# | H5: 3439847.5
A6: 4-146# | C6: 1302708.9 | G6: 6-105# | H6: 1374243.2
A7: 12-93# | C7: 30791555 | G7: 6-111# | H7: 1320567.4
A8: 小计 | C8: =SUM(C3:C7) -> 2.5871871e+08 | G8: 7-78# | H8: 1319185.3
G9: 7-94# | H9: 794267.81
G10: 8-95# | H10: 1996315.1
A11: 4-146# | B11: 土地征用及拆迁补偿费 | C11: 64406734 | G11: 4-150# | H11: -3705536.8 | I11: 拆迁补偿销项税额递减
A12: 12-93# | C12: 472105 | G12: 8-100# | H12: -2363445.9 | I12: 拆迁补偿销项税额递减
A13: 12-93# | B13: 前期工程费 | C13: 135104.61 | G13: 8-96# | H13: 27935599
A14: 4-146# | C14: 6219583.9 | G14: 9-22# | H14: 439267.75
A15: 4-146# | C15: 3715441.6 | H15: 0
A16: 4-146# | C16: 7614.36 | G16: 8-101# | H16: -0.03
A17: 12-93# | B17: 基础设施费 | C17: 276539.84 | G17: 9-109# | H17: 2403347.4
A18: 4-146# | C18: 1515359.4 | G18: 9-110# | H18: 520435.17
A19: 4-146# | C19: 553320.62 | G19: 10-14# | H19: 439267.75
A20: 4-146# | C20: 152433.49 | G20: 10-61# | H20: 439267.75
A21: 4-146# | B21: 配套设施费 | C21: 1987684.4 | G21: 10-84# | H21: 472511.66
A22: 4-146# | C22: 3542119.5 | G22: 11-28# | H22: 643512.32
A23: 12-93# | C23: 169053.21 | G23: 11-63# | H23: 474267.23
G24: 11-68# | H24: 439267.75
G25: 12-66# | H25: 321756.16
H26: 0
G27: 12-83# | H27: 440164.22
G28: 12-92# | H28: 35633172
H29: =SUM(H3:H28) -> 2.1191073e+08
B33: 开发成本：
B34: 土地征用及拆迁补偿费
B35: 前期工程费
B36: 基础设施费
B37: 建筑安装工程费
B38: 配套设施费
B39: 监理费

Sheet 一期税代单方面积核算
A1: 2025年汇算
B2: 项目 | C2: 25年年度 | D2: 25年销售一期面积
A3: 面积及分摊比例 | B3: 总可售面积 | C3: =一期二期面积统计!D2 -> 43347.82 | G3: 土地拆迁补偿费总金额
A4: 成本项目 | B4: 成本合计 | C4: =C5+C6+C7+C10 -> 1.7925577e+08 | E4: 按可售面积分摊拆迁安置费（1期） | F4: 36384275 | G4: 99770900 | H4: =C5+二期税代单方面积核算!D5 -> 99770900
B5: 取得土地的成本 | C5: 34892060 | E5: 按可售面积分摊拆迁安置费（2期） | F5: 64878839
B6: 前期工程费 | J6: 一期合同总额 | K6: 暂估合同金额（10%）
B7: 开发产品-土地成本 | C7: =H20-C5+J20+L20 -> 1.3370849e+08 | E7: 合同总额 | F7: =+[1]合同清单1!I21+[1]合同清单1!I29+[1]合同签清单2!C23 -> 1.3548418e+08 | H7: =+[1]合同清单1!G29+[1]合同清单1!G21+[1]合同签清单2!C21 -> 1.4741582e+08
B8: 其中：分摊成本 | E8: 账面建安成本 | F8: 87175800 | G8: 87175800 | H8: 87175800
B9: 其中：专属成本 | E9: 账面配套成本 | F9: 3710797.9 | H9: 3710797.9
B10: 可暂估金额 | C10: ='与通力股份合同总计 (3)'!O4 -> 10655215
B11: 基础设施费 | E11: 前期工程费 | F11: 4099232.6 | H11: 4099232.6
B12: 其中：分摊成本 | E12: 基础设施费 | F12: 7357454.5 | G12: 1.0117782e+08 | H12: 7357454.5
B13: 其中：专属成本 | E13: 开发间接费 | F13: 886142.74 | G13: =+G12+F8+F9+F11+#REF!+F12+F13 -> #REF! | H13: 886142.74
B14: 开发间接费 | E14: 根据合同总额全额暂估 | F14: =+F7-F8-F9-F11-F12-F13 -> 32254753 | G14: 2.3929931e+08 | H14: =+H7-H8-H9-H11-H12-H13 -> 44186395 | J14: 19253633 | K14: =(J14+J15)*0.1 -> 15383467 | L14: 通力股份合同总额
G15: =+G13-G14 -> #REF! | J15: 1.3458104e+08
A16: 单位成本计算 | B16: 单位成本 | C16: =C4/C3 -> 4135.2891 | E16: =C16-二期税代单方面积核算!D13 -> 201.50444 | F16: =SUM(F8:F13) -> 1.0322943e+08 | G16: =+F14-G12 -> -68923067
B17: 其中：土地成本
B18: 其中：其他成本
E19: 39643.5040083018 | H19: 总开发成本 | I19: 结转主营业务成本 | J19: 账面暂估成本 | K19: 账面取得发票的成本 | L19: 2026年5月18日取得发票
A20: 成本结转 | B20: 已售面积 | C20: 39643.5 | E20: 731.93储藏室 | F20: 一期 | H20: 1.7037624e+08 | I20: 1.572467e+08 | J20: -16986698 | K20: =H20+J20 -> 1.5338954e+08 | L20: 15211009
B21: 已售面积占比 | C21: =C20/C3 -> 0.91454426 | F21: 二期 | H21: 3.418718e+08 | I21: 2.1943718e+08 | J21: -90259789 | K21: =H21+J21 -> 2.5161201e+08 | L21: 929592.66
B22: 土地销项税抵减
B23: 可结转成本 | C23: =C20*C16 -> 1.6393733e+08 | H23: =H20/C3 -> 3930.4454
B24: 已结转成本 | C24: 1.563373e+08 | H24: =H21/二期税代单方面积核算!D3 -> 4527.0168
B25: 需调增成本 | C25: =C24-C23 -> -7600030.7
B26: 可抵减土地成本
B27: 土地成本抵减销项税
B28: 已抵减
E32: =#REF!-#REF! -> #REF! | F32: 红冲多预提成本 | H32: 通过以前年度损益调整科目做调减
E34: =#REF!-#REF! -> #REF! | F34: 红冲多结转成本

Sheet 一期、二期片区合同汇总
A1: 2024年库尔勒片区合同汇总表
A2: 序号 | B2: 审定时间 | C2: 合同对应的成本对象 | D2: 合同名称 | E2: 合同金额（元） | F2: 税率 | G2: 不含税价 | H2: 未付款 | I2: 入账金额 | J2: 可暂估金额
A3: 3 | B3: 2022.3.17 | C3: 画堂春锦苑一期 | D3: 岩土工程勘察、水文地质勘察（含凿井）工程测量、工程物探 12栋住宅、8栋商业、1栋幼儿园、1栋社区管理及配套用房 | E3: 80000 | F3: 0.06 | G3: 75471.698 | H3: 8000
A4: 4 | B4: 2022.7.11 | C4: 画堂春锦苑一期 | D4: 画堂春锦苑（一期基坑、9#11#楼之间机械停车位）基坑变形监测、9#楼、11#楼沉降观测 | E4: 90000 | F4: 0.06 | G4: 84905.66 | H4: 0
A5: 5 | B5: 2022.11.28 | C5: 画堂春锦苑一期 | D5: 画堂春锦苑9#-12#住宅楼、13#-15#/17#18#商业楼、非人防车库 房屋面积测绘 | E5: 24930.07 | F5: 0.03 | G5: 24203.951 | H5: 0.07
A6: 6 | B6: 2022 | C6: 画堂春锦苑一期 | D6: 画堂春锦苑项目景观设计 | E6: 346500 | G6: 326886.79 | H6: 242550
A7: 7 | B7: 2022.6 | C7: 画堂春锦苑一期 | D7: 画堂春锦9#-12#14#楼基坑支护设计 开挖基坑 | E7: 14000 | F7: 0.06 | G7: 13207.547 | H7: 0
A8: 8 | B8: 2022.7 | C8: 画堂春锦苑一期 | D8: 画堂春锦苑9#11#楼之间机械停车库基坑支护 | E8: 30000 | F8: 0.06 | G8: 28301.887 | H8: 0
A9: 9 | B9: 2023.4.15 | C9: 画堂春锦苑二期住宅 | D9: 画堂春锦苑二期（1#-8#基坑支护、1#3#楼之间、5#7#之间机械停车库基坑支护、7#-9#之间机械停车库基坑支护）基坑变形检测、沉降观测、1#2#3#5#7#楼沉降观测 | E9: 110000 | F9: 0.06 | G9: 103773.58 | H9: 11000 | I9: 93396.23 | J9: =G9-I9 -> 10377.355
A10: 10 | B10: 2023.1 | C10: 画堂春锦苑二期住宅 | D10: 画堂春锦苑二期1#-8#库基坑支护设计 | E10: 15000 | G10: 14150.943 | H10: 0
A11: 11 | B11: 2023.2 | C11: 画堂春锦苑二期住宅 | D11: 画堂春锦苑二期1#3#之间、5#7#之间7#9#之间机械停车库基坑支护 | E11: 50000 | F11: 0.06 | G11: 47169.811 | H11: 0
A12: 12 | B12: 2023.4.5 | C12: 画堂春锦苑二期 | D12: 画堂春锦苑1#幼儿园之间、1#3#之间3#5#之间7#9#之间机械停车库基坑支护 | F12: 0.06 | H12: 0
A13: 13 | C13: 画堂春锦苑 | D13: 44号小区勘界费 | E13: 51316 | F13: 0.06 | G13: 48411.321 | H13: 0
A14: 14 | C14: 画堂春锦苑 | D14: 44号小区勘界费 | E14: 21500 | F14: 0.06 | G14: 20283.019 | H14: 0
A15: 15 | C15: 画堂春锦苑二期 | D15: 6#8#建筑红线图 | E15: 1378 | F15: 0.06 | G15: 1300 | H15: 0
A16: 16 | C16: 画堂春锦苑二期 | D16: 画堂春锦苑6#8#楼施工图审查费 | E16: 22109 | F16: 0.06 | G16: 20857.547
A17: 17 | C17: 画堂春锦苑一期 | D17: 画堂春锦施工图审查费 | E17: 71556 | G17: 67505.66
A18: 18 | C18: 画堂春锦苑一期 | D18: 画堂春锦施工图审查费 | E18: 1800 | G18: 1698.1132
A19: 19 | H19: 0
A20: 20 | C20: 画堂春锦苑二期 | D20: 画堂春锦苑1非、3#4非5非7非16#19#楼图纸审查 | E20: 59747 | F20: 0.06 | G20: 56365.094
A21: 21 | C21: 画堂春锦苑二期 | D21: 画堂春锦苑2#楼施工图审查 | E21: 17269 | F21: 0.06 | G21: 16291.509
A22: 22 | C22: 画堂春锦苑二期 | D22: 画堂春锦苑二期基础变更图纸审查 | E22: 11119 | F22: 0.06 | G22: 10489.623
A23: 23 | B23: 2021.7.26 | C23: 画堂春锦苑（二期） | D23: 44号地块项目 | E23: 1320833 | F23: 0.06 | G23: 1246068.8 | H23: 492499.79 | J23: =G23*0.1 -> 124606.88
A24: 24 | B24: 2022.3.26 | C24: 画堂春锦苑防空地下室（二期） | D24: 画堂春锦苑防空地下室 | E24: 233550 | F24: 0.06 | G24: 220330.19 | H24: 93420 | I24: 已入账132053.09 | J24: =G24*0.1 -> 22033.019
A25: 25 | B25: 2022.4.12 | C25: 画堂春锦苑一期 | D25: 画堂春锦苑建设项目（画堂春锦苑一期9#11#13#15#18#及非人防地下车库、6#8#） | E25: 1381232.9 | F25: 0.06 | G25: 1303049.9 | H25: 683630.02 | I25: 130万已经暂估 | J25: =81232.86/1.06*0.1 -> 7663.4774
A26: 27 | C26: 画堂春锦苑一期 | D26: 画堂春锦苑防空地下室 | E26: 19583 | F26: 0.01 | G26: 19389.109 | H26: 0
A27: 28 | B27: 2023.4.3 | C27: 画堂春锦苑二期 | D27: 画堂春锦变更（1#-8#楼节能变更17#一层轴5-8轴变更） | E27: 23585 | F27: 0.06 | G27: 22250 | H27: 0
A28: 29 | B28: 2023.3.17 | C28: 画堂春锦苑一期 | D28: 画堂春锦苑-17#楼一层5轴- -8轴消防改造 | E28: 10000 | F28: 0.06 | G28: 9433.9623 | H28: 0
A29: 30 | C29: 画堂春锦苑二期 | D29: 画堂春锦苑-1#2#3#4#5#6#7#8#楼节能改造 | E29: 20000 | F29: 0.06 | G29: 18867.925 | H29: 0
A30: 31 | C30: 公共（二期） | D30: 1#2#出入口、1#5#7#基础优化、14#17#18#内部优化、4#6#地下车库变更 | E30: 90000 | F30: 0.06 | G30: 84905.66 | H30: 24000 | J30: =G30 -> 84905.66
A31: 32 | B31: 2023.8.11 | C31: 画堂春锦苑一期 | D31: 画堂春锦苑室外管网及配套 | E31: 4345 | F31: 0.06 | G31: 4099.0566 | H31: 0
A32: 33 | B32: 2023.6.25 | C32: 画堂春锦苑一期 | D32: 画堂春锦苑-14#楼地下室变更 | E32: 3523 | F32: 0.06 | G32: 3323.5849 | H32: 0
A33: 34 | B33: 2023.7 | C33: 画堂春锦苑（二期） | D33: 画堂春锦苑园林景观设计 | E33: 287000 | F33: 0.06 | G33: 270754.72 | H33: 38008.68 | I33: 发票已开
A34: 35 | C34: 画堂春锦苑 | D34: 画堂春锦苑地形图费 | E34: 20000 | F34: 0.06 | G34: 18867.925
A35: 36 | C35: 画堂春锦苑 | D35: 画堂春锦苑建筑红线图 | E35: 1378 | F35: 0.06 | G35: 1300
A36: 38 | B36: 2021.3.12 | C36: 画堂春锦苑 | D36: 44号小区拆迁建筑垃圾清运 | E36: =1860726-22753.5 -> 1837972.5 | F36: 0.01 | G36: 1819774.8 | H36: 0
A37: 39 | B37: 2021.12.17 | C37: 画堂春锦苑 | D37: 44#小区围挡制作 | E37: =469000-22809.6 -> 446190.4 | F37: 0.09 | G37: 409348.99 | H37: 0
A38: 40 | C38: 画堂春锦苑二期 | D38: 画堂春锦苑8#办理施工许可证 缴纳保函费 | E38: 13666.86 | F38: 0.06 | G38: 12893.264
A39: 42 | B39: 2022.4.11 | C39: 画堂春锦苑一期 | D39: 建设工程监理合同 画堂春锦苑9.10.11.12.13.14.15.17.18号楼 | E39: 586320 | F39: 0.06 | G39: 553132.08 | H39: 74050.32
A40: 43 | B40: 2022.6.18 | C40: 画堂春锦苑一期 | D40: 画堂春锦苑9#-12#住宅楼、13#-15#/17#18#商业楼、非人防车库 | F40: 0.09 | H40: 0
...

Sheet 一期暂估74468409.15明细表
M1: =K3-J3 -> 31437006
A2: 序号 | B2: 工程名称 | C2: 合同价 | D2: 现金已支付 | E2: 抵账已支付 | F2: 合计 | G2: 合同未付款 | J2: 已付款不含税金额 | K2: 合同总价不含税 | M2: 2024年四季度暂估成本数 | N2: 已取得房票
A3: 1 | B3: 画堂春锦苑10、12、14、15、17、18#建设工程 | C3: 52657168 | D3: 31325760 | E3: 5495079 | F3: 36820839 | G3: 15836328 | I3: 画堂春锦苑一期 | J3: 33780587 | K3: 65217593 | L3: =K3*0.1 -> 6521759.3 | M3: 31437006 | N3: =-(2464671.56+580886.24+662596.33+430027.52) -> -4138181.6
A4: 2 | B4: 画堂春锦苑17、18#楼商业展示区园林景观工程（杜奇志） | C4: 2565000 | D4: 1436400 | E4: 71619 | F4: 1508019 | G4: 1056981 | I4: 画堂春锦苑一期 | J4: 1383503.7 | K4: 2823853.2 | L4: =K4*0.1 -> 282385.32 | M4: 1440349.5 | N4: -82362.39
A5: 4 | B5: 画堂春锦苑9、11、13#楼及地下车库工程建设工程 | C5: 39491959 | D5: 22560845 | E5: 11385656 | F5: 33946501 | G5: 5545458.3 | I5: 画堂春锦苑一期 | J5: 31143579 | K5: 48912060 | L5: =K5*0.1 -> 4891206 | M5: 17768481
A6: 8 | B6: 画堂春锦苑17#、18#楼外墙装饰工程（刘品全） | C6: 4381614.6 | D6: 2546586 | E6: 0 | F6: 2546586 | G6: 1835028.6 | I6: 画堂春锦苑一期 | J6: 2336317.4 | K6: 4421812.9 | L6: =K6*0.1 -> 442181.29 | M6: 2085495.5 | N6: =-(291500.39+646333.03+361536.03) -> -1299369.4
A7: 11 | B7: 画堂春锦苑一期消防工程（建邦消防 巩红卫） | C7: 4200000 | D7: 1348717 | E7: 0 | F7: 1348717 | G7: 2851283 | I7: 画堂春锦苑一期 | J7: 1237355 | K7: 5009174.3 | L7: 0 | M7: 3771819.3
A8: 12 | B8: 画堂春锦苑13、14、15、17、18#楼铝合金门窗制作安装工程 | C8: 3070000 | D8: 1289400 | E8: 923958 | F8: 2213358 | G8: 856642 | I8: 画堂春锦苑一期 | J8: 2030603.7 | K8: 3379816.5 | L8: =K8*0.1 -> 337981.65 | M8: 1349212.8 | N8: =-190776.15 -> -190776.15
A9: 13 | B9: 画堂春锦苑9#10#11#12#楼铝合金门窗制作安装工程 | C9: 2721306 | D9: 1551144.8 | E9: 0 | F9: 1551144.8 | G9: 1170161.2 | I9: 画堂春锦苑一期 | J9: 1423068.6 | K9: 2995933.2 | L9: =K9*0.1 -> 299593.32 | M9: 1572864.6 | N9: =-(321100.92+103569.72) -> -424670.64
A10: 14 | B10: 画堂春锦9-12#楼、13、14、17#商业楼电梯供货及安装工程 | C10: 2913200 | D10: 1736740 | E10: 0 | F10: 1736740 | G10: 1176460 | I10: 画堂春锦苑一期 | J10: 1593339.4 | K10: 3207192.7 | L10: =K10*0.1 -> 320719.27 | M10: 1613853.2 | N10: -927811.01
A11: 18 | B11: 画堂春锦苑一期9#-12#、13#-15#17#18#、非人防车库 防火门、防盗门供货及安装（施 ） | C11: 1039172.5 | D11: 675461.25 | E11: 0 | F11: 675461.25 | G11: 363711.25 | I11: 画堂春锦苑一期 | J11: 619689.22 | K11: 1144043.1 | L11: =K11*0.1 -> 114404.31 | M11: 524353.9 | N11: -61948.62
A12: 22 | B12: 画堂春锦苑展示区水景改造工程!A1 | C12: 350000 | D12: 175000 | F12: 175000 | G12: 175000 | I12: 画堂春锦苑一期 | J12: 160550.46 | K12: 353211.01 | L12: =K12*0.1 -> 35321.101 | M12: 192660.55
A13: 23 | B13: 画堂春锦苑一期变配电（正式用电）工程'!A1 | C13: 6660000 | D13: 3307780 | E13: 0 | F13: 3307780 | G13: 3352220 | I13: 画堂春锦苑一期 | J13: 3034660.6 | K13: 7332110.1 | L13: 0 | M13: 4297449.5 | N13: -582298.17
A14: 28 | B14: 画堂春锦一期（9#-12#住宅楼13#-15#17#18#商业楼）室外管网（杜奇志） | C14: 1400000 | D14: 699999.79 | E14: 0 | F14: 699999.79 | G14: 700000.21 | I14: 画堂春锦苑一期 | J14: 642201.64 | K14: 1541284.4 | L14: =K14*0.1 -> 154128.44 | M14: 899082.76 | N14: -122018.35
A15: 29 | B15: 画堂春锦一期园林景观（杜奇志） | C15: 5500000 | D15: 2991935 | E15: 495946 | F15: 3487881 | G15: 2012119 | I15: 画堂春锦苑一期 | J15: 3199890.8 | K15: 6055045.9 | L15: =K15*0.1 -> 605504.59 | M15: 2855155 | N15: =-536977.43-471848.62 -> -1008826.1
A16: 31 | B16: 画堂春锦苑小区一期公共部位及门斗内装修工程!A1 | C16: 2150000 | D16: 1179722 | E16: 449110 | F16: 1628832 | G16: 521168 | I16: 画堂春锦苑一期 | J16: 1494341.3 | K16: 2366972.5 | L16: 0 | M16: 872631.19 | N16: -233707.34
A17: 33 | B17: 画堂春锦苑一期直梯、门斗、雨棚、连廊 外饰面装修 铝板（江通海） | C17: 1667613 | D17: 1149200 | E17: 0 | F17: 1149200 | G17: 518413 | I17: 画堂春锦苑一期 | J17: 1054311.9 | K17: 1835904.2 | L17: =K17*0.1 -> 183590.42 | M17: 781592.29 | N17: =-(123726.61+305984.15) -> -429710.76
A18: 35 | B18: 画堂春锦苑项目一期13#15#楼外墙装修工程（金克） | C18: 2335877 | D18: 1245992 | E18: 0 | F18: 1245992 | G18: 1089885 | I18: 画堂春锦苑一期 | J18: 1143111.9 | K18: 2571607.7 | L18: =K18*0.1 -> 257160.77 | M18: 1428495.8
A19: 36 | B19: 画堂春锦苑项目一期14#楼外墙装修工程（倪大伟） | C19: 2364289 | D19: 1342442 | E19: 709287 | F19: 2051729 | G19: 312560 | I19: 画堂春锦苑一期 | J19: 1882320.2 | K19: 2602887 | L19: =K19*0.1 -> 260288.7 | M19: 720566.79
A20: 37 | B20: 画堂春锦苑项目一期机械车位设备采购与安装（大洋泊车）'!A1 | C20: 3738000 | D20: 3551100 | E20: 0 | F20: 3551100 | G20: 186900 | I20: 画堂春锦苑一期 | J20: 3257889.9 | K20: 4115229.4 | L20: 0 | M20: 857339.45
B21: 画堂春锦苑一期弱电工程 | C21: 未预提冲减成本 | N21: -30957.48
B22: 画堂春锦苑项目玻璃栏板，采光井制作安装（120万元） | C22: 未预提冲减成本 | N22: -172529.36
B23: 画堂春锦苑17#楼售房部一楼内装修工程款 | C23: 未预提冲减成本 | N23: -95648.39
B24: 画堂春锦苑一期三网合一FTTH工程款 | C24: 未预提冲减成本 | N24: -14757.8
B25: 画堂春锦苑看房通道塔设工程 | C25: 未预提冲减成本 | N25: -7110.09
B26: 画堂春锦苑一期二期楼栋牌、单元牌、楼层牌、户室外牌安装工程 | C26: 未预提冲减成本 | N26: -59155.96
M27: =SUM(M3:M26) -> 74468409 | N27: =SUM(N3:N26) -> -9881839.7
N29: =N27+'[2]2024.12.31预提开发成本（与二分公司合同）-已红冲明细'!L40 -> -13225217
M30: =M27+'[2]2024.12.31预提开发成本（与二分公司合同）-已红冲明细'!W21+'[2]2024.12.31预提开发成本（与二分公司合同）-已红冲明细'!I29+22000000 -> 1.0117782e+08
M31: -68923067
M32: =M30+M31 -> 32254753
M33: =N27+'[2]2024.12.31预提开发成本（与二分公司合同）-已红冲明细'!L40 -> -13225217
M34: =M32+M33 -> 19029536
