Workbook

Sheet 工资汇总表
A2: 基本信息 | H2: 其他项核算 | N2: 应发核算 | R2: 社保、公积金及个税 | Y2: 实发总额 | Z2: 备注
A3: 单位名称 | B3: 月末人数 | C3: 月工资标准 | D3: 应出勤天数 | E3: 基本薪资 | F3: 绩效奖金 | G3: 年度奖金 | H3: 加班工资 | I3: 绩效考核 | J3: 假期工资 | K3: 其他 | L3: 佣金 | M3: 小计 | N3: 当月日均工资 | O3: 当月日均奖金 | P3: 实际出勤天数 | Q3: 应发总额 | R3: 养老金 | S3: 失业金 | T3: 医疗金 | U3: 大额医疗保险 | V3: 公积金 | W3: 税金 | X3: 小计
A4: 库尔勒创智源物业服务有限公司 | B4: =工资表!A8 -> 5 | C4: =工资表!E9 -> 24000 | E4: =工资表!G9 -> 15750 | F4: =工资表!H9 -> 8250 | L4: =工资表!N9 -> 10849.6 | M4: =工资表!O9 -> 10849.6 | Q4: =工资表!S9 -> 41213.236 | R4: =工资表!T9 -> 2027.6 | S4: =工资表!U9 -> 126.75 | T4: =工资表!V9 -> 506.9 | U4: =工资表!W9 -> 105.6 | V4: =工资表!X9 -> 1250 | W4: =工资表!Y9 -> 458.57 | X4: =工资表!Z9 -> 4475.42 | Y4: =工资表!AA9 -> 36737.816

Sheet 工资表
A1: 库尔勒创智源房地产经纪有限公司2026年3月工资表
A2: 序号 | B2: 基本信息 | J2: 其他项核算 | P2: 应发核算 | T2: 社保、公积金及个税 | AA2: 实发总额 | AB2: 备注
B3: 姓名 | C3: 岗位 | D3: 职务序列 | E3: 月工资标准 | F3: 应出勤天数 | G3: 基本薪资 | H3: 绩效奖金 | I3: 年度奖金 | J3: 加班工资 | K3: 绩效考核 | L3: 假期工资 | M3: 其他 | N3: 佣金 | O3: 小计 | P3: 当月日均工资 | Q3: 当月日均奖金 | R3: 实际出勤天数 | S3: 应发总额 | T3: 养老金 | U3: 失业金 | V3: 医疗金 | W3: 大额医疗保险 | X3: 公积金 | Y3: 税金 | Z3: 小计
A4: 1 | B4: 师艳莉 | C4: 招商主管 | D4: PM | E4: 7000 | F4: 11 | G4: =E4*VLOOKUP(D4,职务序列取数!B:E,2,0) -> 4900 | H4: =E4*VLOOKUP(D4,职务序列取数!B:E,3,0) -> 2100 | I4: =E4*VLOOKUP(D4,职务序列取数!B:E,4,0) -> 0 | O4: =SUM(J4:N4) -> 0 | P4: =G4/F4 -> 445.45455 | Q4: =H4/F4 -> 190.90909 | R4: =VLOOKUP(B4,考勤!B:AI,34,0) -> 21 | S4: =(P4*R4)+(Q4*R4)+O4 -> 13363.636 | T4: =405.52 -> 405.52 | U4: 25.35 | V4: =101.38 -> 101.38 | W4: 21.12 | X4: 250 | Y4: 196.81 | Z4: =SUM(T4:Y4) -> 1000.18 | AA4: =S4-Z4 -> 12363.456
A5: 2 | B5: 李秀莲 | C5: 置业顾问 | D5: PA | E5: 4000 | F5: 27 | G5: 2450 | H5: =E5-G5 -> 1550 | I5: =E5*VLOOKUP(D5,职务序列取数!B:E,4,0) -> 0 | N5: 1320.8 | O5: =SUM(J5:N5) -> 1320.8 | P5: =G5/F5 -> 90.740741 | Q5: =H5/F5 -> 57.407407 | R5: =VLOOKUP(B5,考勤!B:AI,34,0) -> 27 | S5: =(P5*R5)+(Q5*R5)+O5 -> 5320.8 | T5: =405.52 -> 405.52 | U5: 25.35 | V5: =101.38 -> 101.38 | W5: 21.12 | X5: 250 | Z5: =SUM(T5:Y5) -> 803.37 | AA5: =S5-Z5 -> 4517.43
A6: 3 | B6: 连阵阵 | C6: 置业顾问 | D6: PA | E6: 4000 | F6: 27 | G6: 2450 | H6: =E6-G6 -> 1550 | I6: =E6*VLOOKUP(D6,职务序列取数!B:E,4,0) -> 0 | O6: =SUM(J6:N6) -> 0 | P6: =G6/F6 -> 90.740741 | Q6: =H6/F6 -> 57.407407 | R6: =VLOOKUP(B6,考勤!B:AI,34,0) -> 27 | S6: =(P6*R6)+(Q6*R6)+O6 -> 4000 | T6: =405.52 -> 405.52 | U6: 25.35 | V6: =101.38 -> 101.38 | W6: 21.12 | X6: 250 | Z6: =SUM(T6:Y6) -> 803.37 | AA6: =S6-Z6 -> 3196.63
A7: 4 | B7: 米云鹤 | C7: 置业顾问 | D7: PM | E7: 5000 | F7: 27 | G7: =E7*VLOOKUP(D7,职务序列取数!B:E,2,0) -> 3500 | H7: =E7*VLOOKUP(D7,职务序列取数!B:E,3,0) -> 1500 | I7: =E7*VLOOKUP(D7,职务序列取数!B:E,4,0) -> 0 | N7: 9528.8 | O7: =SUM(J7:N7) -> 9528.8 | P7: =G7/F7 -> 129.62963 | Q7: =H7/F7 -> 55.555556 | R7: =VLOOKUP(B7,考勤!B:AI,34,0) -> 27 | S7: =(P7*R7)+(Q7*R7)+O7 -> 14528.8 | T7: =405.52 -> 405.52 | U7: 25.35 | V7: =101.38 -> 101.38 | W7: 21.12 | X7: 250 | Y7: 261.76 | Z7: =SUM(T7:Y7) -> 1065.13 | AA7: =S7-Z7 -> 13463.67
A8: 5 | B8: 张玉琴 | C8: 置业顾问 | D8: PA | E8: 4000 | F8: 27 | G8: 2450 | H8: =E8-G8 -> 1550 | I8: =E8*VLOOKUP(D8,职务序列取数!B:E,4,0) -> 0 | O8: =SUM(J8:N8) -> 0 | P8: =G8/F8 -> 90.740741 | Q8: =H8/F8 -> 57.407407 | R8: =VLOOKUP(B8,考勤!B:AI,34,0) -> 27 | S8: =(P8*R8)+(Q8*R8)+O8 -> 4000 | T8: =405.52 -> 405.52 | U8: 25.35 | V8: =101.38 -> 101.38 | W8: 21.12 | X8: 250 | Z8: =SUM(T8:Y8) -> 803.37 | AA8: =S8-Z8 -> 3196.63
B9: 合计 | E9: =SUM(E4:E8) -> 24000 | G9: =SUM(G4:G8) -> 15750 | H9: =SUM(H4:H8) -> 8250 | I9: =SUM(I4:I8) -> 0 | J9: =SUM(J4:J8) -> 0 | K9: =SUM(K4:K8) -> 0 | L9: =SUM(L4:L8) -> 0 | M9: =SUM(M4:M8) -> 0 | N9: =SUM(N4:N8) -> 10849.6 | O9: =SUM(O4:O8) -> 10849.6 | S9: =SUM(S4:S8) -> 41213.236 | T9: =SUM(T4:T8) -> 2027.6 | U9: =SUM(U4:U8) -> 126.75 | V9: =SUM(V4:V8) -> 506.9 | W9: =SUM(W4:W8) -> 105.6 | X9: =SUM(X4:X8) -> 1250 | Y9: =SUM(Y4:Y8) -> 458.57 | Z9: =SUM(Z4:Z8) -> 4475.42 | AA9: =SUM(AA4:AA8) -> 36737.816
A10: 注 | B10: 佣金列为1月佣金
B12: 单位领导： | I12: 分管领导： | Q12: 审核： | Y12: 制表：

Sheet 考勤
A1: 2026 | V1: 3 | X1: 月职工考勤表
B2: 单位: | C2: =工资汇总表!A4 -> 库尔勒创智源物业服务有限公司 | AK2: 46113
A3: 序号 | B3: 姓名 | C3: 职务工种 | D3: 出 勤 情 况 | AI3: 实际出勤天数 | AJ3: 公休节日天数 | AK3: 考 勤 天 数 | AZ3: 员工本人 签字
D4: =V1 -> 3 | T4: 月
D5: 1 | E5: 2 | F5: 3 | G5: 4 | H5: 5 | I5: 6 | J5: 7 | K5: 8 | L5: 9 | M5: 10 | N5: 11 | O5: 12 | P5: 13 | Q5: 14 | R5: 15 | S5: 16 | T5: 17 | U5: 18 | V5: 19 | W5: 20 | X5: 21 | Y5: 22 | Z5: 23 | AA5: 24 | AB5: 25 | AC5: 26 | AD5: 27 | AE5: 28 | AF5: 29 | AG5: 30 | AH5: 31 | AK5: 出勤√ | AL5: 出差 | AM5: 公休 | AN5: 病假 | AO5: 事假 | AP5: 旷工 | AQ5: 工伤 | AR5: 培训 | AS5: 冬休 | AT5: 休假 | AU5: 探亲 | AV5: 产假 | AW5: 陪护假 | AX5: 婚丧假 | AY5: 待岗
A6: 1 | B6: =工资表!B4 -> 师艳莉 | C6: =工资表!C4 -> 招商主管 | D6: 公休 | E6: √ | F6: √ | G6: √ | H6: √ | I6: √ | J6: 公休 | K6: 公休 | L6: √ | M6: √ | N6: √ | O6: √ | P6: √ | Q6: 公休 | R6: 公休 | S6: √ | T6: √ | U6: √ | V6: √ | W6: 公休 | X6: 公休 | Y6: 公休 | Z6: √ | AA6: √ | AB6: √ | AC6: √ | AD6: √ | AE6: 公休 | AF6: 公休 | AG6: √ | AH6: √ | AI6: =AK6+AL6+AR6 -> 21 | AJ6: =AM6 -> 10 | AK6: =COUNTIF($D6:$AH6,"√") -> 21 | AL6: =COUNTIF($D6:$AH6,"出差") -> 0 | AM6: =COUNTIF($D6:$AH6,"公休") -> 10 | AN6: =COUNTIF($D6:$AH6,"病假") -> 0 | AO6: =COUNTIF($D6:$AH6,"事假") -> 0 | AP6: =COUNTIF($D6:$AH6,"旷工") -> 0 | AQ6: =COUNTIF($D6:$AH6,"工伤") -> 0 | AR6: =COUNTIF($D6:$AH6,"培训") -> 0 | AS6: =COUNTIF($D6:$AH6,"冬休") -> 0 | AT6: =COUNTIF($D6:$AH6,"休假") -> 0 | AU6: =COUNTIF($D6:$AH6,"探亲") -> 0 | AV6: =COUNTIF($D6:$AH6,"产假") -> 0 | AW6: =COUNTIF($D6:$AH6,"陪护假") -> 0 | AX6: =COUNTIF($D6:$AH6,"婚丧假") -> 0 | AY6: =COUNTIF($D6:$AH6,"待岗") -> 0
A7: 2 | B7: =工资表!B5 -> 李秀莲 | C7: =工资表!C5 -> 置业顾问 | D7: √ | E7: √ | F7: √ | G7: √ | H7: √ | I7: 公休 | J7: √ | K7: √ | L7: 公休 | M7: √ | N7: √ | O7: √ | P7: √ | Q7: √ | R7: √ | S7: √ | T7: √ | U7: √ | V7: √ | W7: √ | X7: 公休 | Y7: √ | Z7: √ | AA7: √ | AB7: √ | AC7: √ | AD7: √ | AE7: √ | AF7: 公休 | AG7: √ | AH7: √ | AI7: =AK7+AL7+AR7 -> 27 | AJ7: =AM7 -> 4 | AK7: =COUNTIF($D7:$AH7,"√") -> 27 | AL7: =COUNTIF($D7:$AH7,"出差") -> 0 | AM7: =COUNTIF($D7:$AH7,"公休") -> 4
A8: 3 | B8: =工资表!B6 -> 连阵阵 | C8: =工资表!C6 -> 置业顾问 | D8: √ | E8: √ | F8: √ | G8: √ | H8: √ | I8: √ | J8: √ | K8: √ | L8: √ | M8: √ | N8: √ | O8: √ | P8: 公休 | Q8: √ | R8: √ | S8: √ | T8: √ | U8: √ | V8: 公休 | W8: 公休 | X8: √ | Y8: √ | Z8: √ | AA8: √ | AB8: √ | AC8: √ | AD8: √ | AE8: √ | AF8: √ | AG8: √ | AH8: 公休 | AI8: =AK8+AL8+AR8 -> 27 | AJ8: =AM8 -> 4 | AK8: =COUNTIF($D8:$AH8,"√") -> 27 | AL8: =COUNTIF($D8:$AH8,"出差") -> 0 | AM8: =COUNTIF($D8:$AH8,"公休") -> 4
A9: 4 | B9: =工资表!B7 -> 米云鹤 | C9: =工资表!C7 -> 置业顾问 | D9: √ | E9: √ | F9: √ | G9: √ | H9: √ | I9: √ | J9: √ | K9: √ | L9: √ | M9: √ | N9: √ | O9: √ | P9: 公休 | Q9: √ | R9: √ | S9: √ | T9: 公休 | U9: √ | V9: √ | W9: √ | X9: √ | Y9: √ | Z9: √ | AA9: √ | AB9: √ | AC9: √ | AD9: √ | AE9: 公休 | AF9: √ | AG9: 公休 | AH9: √ | AI9: =AK9+AL9+AR9 -> 27 | AJ9: =AM9 -> 4 | AK9: =COUNTIF($D9:$AH9,"√") -> 27 | AL9: =COUNTIF($D9:$AH9,"出差") -> 0 | AM9: =COUNTIF($D9:$AH9,"公休") -> 4
A10: 5 | B10: =工资表!B8 -> 张玉琴 | C10: =工资表!C8 -> 置业顾问 | D10: √ | E10: √ | F10: √ | G10: √ | H10: √ | I10: √ | J10: √ | K10: √ | L10: √ | M10: √ | N10: √ | O10: √ | P10: 公休 | Q10: √ | R10: √ | S10: 公休 | T10: 公休 | U10: √ | V10: √ | W10: √ | X10: √ | Y10: √ | Z10: √ | AA10: 公休 | AB10: √ | AC10: √ | AD10: √ | AE10: √ | AF10: √ | AG10: √ | AH10: √ | AI10: =AK10+AL10+AR10 -> 27 | AJ10: =AM10 -> 4 | AK10: =COUNTIF($D10:$AH10,"√") -> 27 | AL10: =COUNTIF($D10:$AH10,"出差") -> 0 | AM10: =COUNTIF($D10:$AH10,"公休") -> 4
B11: 注：
E12: 单位领导： | V12: 审核： | AI12: 制表：

Sheet 校验
A2: 序号 | B2: 姓名 | C2: 实际出勤天数 | D2: 月工资标准 | E2: 月度应发 | F2: 差额
A3: 1 | B3: =工资表!B4 -> 师艳莉 | C3: =工资表!R4 -> 21 | D3: =(VLOOKUP(B3,工资表!B4:G9,6,0)+VLOOKUP(B3,工资表!B4:H9,7,0))/工资表!F4*VLOOKUP(B3,考勤!B6:AI11,34,0) -> 13363.636 | E3: =VLOOKUP(B3,工资表!B4:S9,18,0) -> 13363.636 | F3: =D3-E3 -> 0 | G3: 病假扣款
B4: =工资表!B5 -> 李秀莲 | C4: =工资表!R5 -> 27 | D4: =(VLOOKUP(B4,工资表!B5:G10,6,0)+VLOOKUP(B4,工资表!B5:H10,7,0))/工资表!F5*VLOOKUP(B4,考勤!B7:AI12,34,0) -> 4000 | E4: =VLOOKUP(B4,工资表!B5:S10,18,0) -> 5320.8 | F4: =D4-E4 -> -1320.8 | G4: 销售提成
B5: =工资表!B6 -> 连阵阵 | C5: =工资表!R6 -> 27 | D5: =(VLOOKUP(B5,工资表!B6:G11,6,0)+VLOOKUP(B5,工资表!B6:H11,7,0))/工资表!F6*VLOOKUP(B5,考勤!B8:AI13,34,0) -> 4000 | E5: =VLOOKUP(B5,工资表!B6:S11,18,0) -> 4000 | F5: =D5-E5 -> 0 | G5: 销售提成
B6: =工资表!B7 -> 米云鹤 | C6: =工资表!R7 -> 27 | D6: =(VLOOKUP(B6,工资表!B7:G12,6,0)+VLOOKUP(B6,工资表!B7:H12,7,0))/工资表!F7*VLOOKUP(B6,考勤!B9:AI14,34,0) -> 5000 | E6: =VLOOKUP(B6,工资表!B7:S12,18,0) -> 14528.8 | F6: =D6-E6 -> -9528.8 | G6: 销售提成
B7: =工资表!B8 -> 张玉琴 | C7: =工资表!R8 -> 27 | D7: =(VLOOKUP(B7,工资表!B8:G13,6,0)+VLOOKUP(B7,工资表!B8:H13,7,0))/工资表!F8*VLOOKUP(B7,考勤!B10:AI15,34,0) -> 4000 | E7: =VLOOKUP(B7,工资表!B8:S13,18,0) -> 4000 | F7: =D7-E7 -> 0 | G7: 销售提成

Sheet 职务序列取数
B2: 职务序列 | C2: 月度基本工资比例 | D2: 月度绩效奖金比例 | E2: 年度奖金比例
B3: A1 | C3: 1 | D3: 0 | E3: 0
B4: A2 | C4: 0.375 | D4: 0.375 | E4: 0.25
B5: A3 | C5: 0.375 | D5: 0.375 | E5: 0.25
B6: A4 | C6: 0.375 | D6: 0.375 | E6: 0.25
B7: A5 | C7: 0.375 | D7: 0.375 | E7: 0.25
B8: M1 | C8: 0.51 | D8: 0.34 | E8: 0.15
B9: M2 | C9: 0.51 | D9: 0.34 | E9: 0.15
B10: M3 | C10: 0.51 | D10: 0.34 | E10: 0.15
B11: PM | C11: 0.7 | D11: 0.3 | E11: 0
B12: PB | C12: 0.8 | D12: 0.2 | E12: 0
B13: PA
