Workbook
Name sheet0_f_fdckfxmbh: #REF!
Name 取得土地使用权所支付的金额: '[1]项目分类（不可删除）'!$B$3:$D$3
Name 土地征用及拆迁补偿费: '[1]项目分类（不可删除）'!$B$4:$H$4
Name 前期工程费: '[3]项目分类（不可删除）'!$B$5:$J$5

Sheet 计算税金
B1: 画堂春锦苑预收款
C2: 预收款计未开票（当月已售暂未开发票） | G2: 预收款计未开票税金 | K2: 预收款未开票-已开票 | L2: 未开票余额 | M2: 预收款直接记收入（当月售房已开发票）
B3: 2024年 | C3: 房款 | D3: 租金 | E3: 储藏间 | F3: 小计 | G3: 房款税金 | H3: 租金税金 | I3: 储藏间税金 | J3: 小计 | M3: 房款 | N3: 税金
B4: 8月 | C4: 278868823 | D4: 577229 | F4: =C4+D4+E4 -> 279446052 | G4: =C4/1.09*0.09 -> 23025866 | H4: =D4/1.09*0.09 -> 47661.11 | I4: =E4/1.09*0.09 -> 0 | J4: =G4+H4+I4 -> 23073527 | P4: =J4+N4 -> 23073527 | R4: =C4+E4+D4-K4 -> 279446052
B5: 9月 | C5: 16205837 | D5: 900394 | E5: 1178000 | F5: =C5+D5+E5 -> 18284231 | G5: =C5/1.09*0.09 -> 1338096.6 | H5: =D5/1.09*0.09 -> 74344.459 | I5: =E5/1.09*0.09 -> 97266.055 | J5: =G5+H5+I5 -> 1509707.1 | K5: 37431244 | L5: 一期 | P5: =J5+N5 -> 1509707.1 | R5: =C5+E5+D5-K5 -> -19147013 | S5: =R5/1.09 -> -17566067
B6: 10月 | D6: 56960 | E6: 304240 | F6: =C6+D6+E6 -> 361200 | G6: =C6/1.09*0.09 -> 0 | H6: =D6/1.09*0.09 -> 4703.1193 | I6: =E6/1.09*0.09 -> 25120.734 | J6: =G6+H6+I6 -> 29823.853 | K6: 16338184 | L6: 一期 | M6: 10864302 | N6: =M6/1.09*0.09 -> 897052.46 | P6: =J6+N6 -> 926876.31 | R6: =C6+E6+D6-K6 -> -15976984 | S6: =R6/1.09 -> -14657783
B7: 11月 | D7: =-106935+249275 -> 142340 | E7: 108360 | F7: =C7+D7+E7 -> 250700 | G7: =C7/1.09*0.09 -> 0 | H7: =D7/1.09*0.09 -> 11752.844 | I7: =E7/1.09*0.09 -> 8947.156 | J7: =G7+H7+I7 -> 20700 | K7: =31364278+18734175 -> 50098453 | L7: 一期 | M7: 2110283 | N7: =M7/1.09*0.09 -> 174243.55 | P7: =J7+N7 -> 194943.55 | R7: =C7+E7+D7-K7 -> -49847753 | S7: =R7/1.09 -> -45731883
B8: 12月 | C8: 14938832 | D8: 133155 | E8: 33880 | F8: =C8+D8+E8 -> 15105867 | G8: =C8/1.09*0.09 -> 1233481.5 | H8: =D8/1.09*0.09 -> 10994.45 | I8: =E8/1.09*0.09 -> 2797.4312 | J8: =G8+H8+I8 -> 1247273.4 | K8: =58971415+3182181 -> 62153596 | L8: 一期 | M8: =1444648+444367 -> 1889015 | N8: =M8/1.09*0.09 -> 155973.72 | P8: =J8+N8 -> 1403247.1 | R8: =C8+E8+D8-K8 -> -47047729 | S8: =R8/1.09 -> -43163054
F9: =C9+D9+E9 -> 0 | G9: =C9/1.09*0.09 -> 0 | H9: =D9/1.09*0.09 -> 0 | I9: =E9/1.09*0.09 -> 0 | J9: =G9+H9+I9 -> 0 | P9: =J9+N9 -> 0 | R9: =C9+E9+D9-K9 -> 0 | S9: =R9/1.09 -> 0
A10: 2025年 | B10: 1月 | F10: =C10+D10+E10 -> 0 | G10: =C10/1.09*0.09 -> 0 | H10: =D10/1.09*0.09 -> 0 | I10: =E10/1.09*0.09 -> 0 | J10: =G10+H10+I10 -> 0 | K10: 10337095 | L10: 一期 | M10: =850000+1260000 -> 2110000 | N10: =M10/1.09*0.09 -> 174220.18 | P10: =J10+N10 -> 174220.18 | R10: =C10+E10+D10-K10 -> -10337095 | S10: =R10/1.09 -> -9483573.4
B11: 2月 | D11: =50000+41851+75831+36056-157636.5-87485 -> -41383.5 | F11: =C11+D11+E11 -> -41383.5 | G11: =C11/1.09*0.09 -> 0 | H11: =D11/1.09*0.09 -> -3416.9862 | I11: =E11/1.09*0.09 -> 0 | J11: =G11+H11+I11 -> -3416.9862 | K11: =20734512+3090937 -> 23825449 | L11: 一期 | M11: =1404367+1069787+794672+590000 -> 3858826 | N11: =M11/1.09*0.09 -> 318618.66 | P11: =J11+N11 -> 315201.67 | R11: =C11+E11+D11-K11 -> -23866832 | S11: =R11/1.09 -> -21896177
B12: 3月 | D12: -79489 | F12: =C12+D12+E12 -> -79489 | G12: =C12/1.09*0.09 -> 0 | H12: =D12/1.09*0.09 -> -6563.3119 | I12: =E12/1.09*0.09 -> 0 | J12: =G12+H12+I12 -> -6563.3119 | K12: =45214055+1643084 -> 46857139 | L12: 一期 | M12: 583956 | N12: =M12/1.09*0.09 -> 48216.55 | P12: =J12+N12 -> 41653.239 | R12: =46857139+79489+51496 -> 46988124 | S12: =-R12/1.09 -> -43108371 | T12: =46857139+583956+51496 -> 47492591 | U12: =T12/1.09 -> 43571184
B13: 4月 | C13: 211152844 | D13: -103006 | E13: 151810 | F13: =C13+D13+E13 -> 211201648 | G13: =C13/1.09*0.09 -> 17434638 | H13: =D13/1.09*0.09 -> -8505.0826 | I13: =E13/1.09*0.09 -> 12534.771 | J13: =G13+H13+I13 -> 17438668 | K13: =48592370+2159064 -> 50751434 | L13: 二期 | N13: =M13/1.09*0.09 -> 0 | P13: =J13+N13 -> 17438668 | R13: =C13+D13+E13-K13-360000 -> 160090214 | S13: =R13/1.09 -> 1.4687176e+08 | T13: =50751434+360000 -> 51111434 | U13: =T13/1.09 -> 46891224 | W13: 13733131 | X13: =P13-W13 -> 3705536.8
B14: 5月 | C14: 5602998 | D14: =90202-26734 -> 63468 | E14: 525825 | F14: =C14+D14+E14 -> 6192291 | G14: =C14/1.09*0.09 -> 462632.86 | H14: =D14/1.09*0.09 -> 5240.4771 | I14: =E14/1.09*0.09 -> 43416.743 | J14: =G14+H14+I14 -> 511290.08 | K14: =990722+594770 -> 1585492 | L14: 二期 | M14: =672429+463000 -> 1135429 | N14: =M14/1.09*0.09 -> 93751.018 | P14: =J14+N14 -> 605041.1 | R14: =C14+D14+E14-K14 -> 4606799 | S14: =R14/1.09 -> 4226421.1
B15: 6月 | C15: 2070978 | E15: 191239 | F15: =C15+D15+E15 -> 2262217 | G15: =C15/1.09*0.09 -> 170998.18 | H15: =D15/1.09*0.09 -> 0 | I15: =E15/1.09*0.09 -> 15790.376 | J15: =G15+H15+I15 -> 186788.56 | K15: 46661780 | L15: 二期 | M15: 2050016 | N15: =M15/1.09*0.09 -> 169267.38 | P15: =J15+N15 -> 356055.94 | R15: =C15+D15+E15-K15-161282 -> -44560845 | S15: =R15/1.09 -> -40881509 | T15: =K15+M15+161282 -> 48873078 | U15: =T15/1.09 -> 44837686 | W15: 财务报表报送与信息采集（小企业会计准则）备注：账面开发产品、主营业务成本与申报表数据各差值3000万，原因考虑二季度企业所得税此3000万为暂结转成本，集团财务何健总要求账面不动，报表中调整即可
B16: 7月 | C16: 1255957 | E16: 20000 | F16: =C16+D16+E16 -> 1275957 | G16: =C16/1.09*0.09 -> 103702.87 | H16: =D16/1.09*0.09 -> 0 | I16: =E16/1.09*0.09 -> 1651.3761 | J16: =G16+H16+I16 -> 105354.25 | K16: 57254035 | L16: 二期 | M16: =604503+2074798 -> 2679301 | N16: =M16/1.09*0.09 -> 221226.69 | P16: =J16+N16+(-28353/1.09*0.09) -> 324239.86 | R16: =C16+D16+E16-K16 -> -55978078 | S16: =R16/1.09 -> -51356035 | T16: =K16+M16 -> 59933336 | U16: =T16/1.09 -> 54984712 | W16: 28353退租同时开红字发票
B17: 8月 | C17: =1199666+44762184 -> 45961850 | D17: 0 | E17: 46414 | F17: =C17+D17+E17 -> 46008264 | G17: =C17/1.09*0.09 -> 3795015.1 | H17: =D17/1.09*0.09 -> 0 | I17: =E17/1.09*0.09 -> 3832.3486 | J17: =G17+H17+I17 -> 3798847.5 | K17: 58491711 | L17: 二期 | M17: 354 | N17: =M17/1.09*0.09 -> 29.229358 | P17: =ROUND(J17+N17,2) -> 3798876.7 | R17: =C17+E17+D17-K17 -> -12483447 | S17: =R17/1.09 -> -11452704 | T17: =K17+M17 -> 58492065 | U17: =T17/1.09 -> 53662445
B18: 9月 | C18: =1433447+2364095.27+20000 -> 3817542.3 | E18: 417692 | F18: =C18+D18+E18 -> 4235234.3 | G18: =ROUND(C18/1.09*0.09,2) -> 315209.91 | H18: =D18/1.09*0.09 -> 0 | I18: =E18/1.09*0.09 -> 34488.33 | J18: =G18+H18+I18 -> 349698.24 | K18: =1102679+54186741 -> 55289420 | L18: 一期1102679元，剩余为二期 | M18: 656000 | N18: =M18/1.09*0.09 -> 54165.138 | P18: =J18+N18+0.01 -> 403863.39 | Q18: =P18-403913.73 -> -50.34211 | R18: =C18+E18+D18-K18 -> -51054186 | S18: =R18/1.09 -> -46838703 | T18: =K18+M18 -> 55945420 | U18: =T18/1.09 -> 51326073
B19: 10月 | C19: =10000+1434885 -> 1444885 | E19: 24611 | F19: =C19+D19+E19 -> 1469496 | G19: =ROUND(C19/1.09*0.09,2) -> 119302.43 | H19: =D19/1.09*0.09 -> 0 | I19: =E19/1.09*0.09 -> 2032.1009 | J19: =G19+H19+I19 -> 121334.53 | K19: 47720801 | L19: 一期1433447元，剩余为二期 | M19: =1503005+3472444 -> 4975449 | N19: =M19/1.09*0.09 -> 410816.89 | P19: =J19+N19 -> 532151.42 | R19: =C19+E19+D19-K19 -> -46251305 | S19: =R19/1.09 -> -42432390 | T19: =K19+M19 -> 52696250 | U19: =T19/1.09 -> 48345183
B20: 11月 | C20: 200000 | D20: 10000 | E20: =30000-25366 -> 4634 | F20: =C20+D20+E20 -> 214634 | G20: =ROUND(C20/1.09*0.09,2) -> 16513.76 | H20: =D20/1.09*0.09 -> 825.68807 | I20: =E20/1.09*0.09 -> 382.62385 | J20: =G20+H20+I20 -> 17722.072 | K20: =1481666+1494885 -> 2976551 | L20: 二期 | M20: 1498276 | N20: =M20/1.09*0.09 -> 123710.86 | P20: =J20+N20 -> 141432.93 | R20: =C20+E20+D20-K20 -> -2761917 | S20: =R20/1.09 -> -2533868.8 | T20: =K20+M20 -> 4474827 | U20: =T20/1.09 -> 4105345.9
B21: 12月 | C21: =857000+10000+509104.73 -> 1376104.7 | D21: =439720-136000-38324 -> 265396 | E21: 0 | F21: =C21+D21+E21 -> 1641500.7 | G21: =ROUND(C21/1.09*0.09,2) -> 113623.33 | H21: =ROUND(D21/1.09*0.09,2)-0.01 -> 21913.42 | I21: =E21/1.09*0.09 -> 0 | J21: =G21+H21+I21 -> 135536.75 | K21: =789076+1013725 -> 1802801 | L21: 一期789076 | M21: 1042863 | N21: =M21/1.09*0.09 -> 86107.954 | P21: =J21+N21 -> 221644.7 | R21: =C21+E21+D21-K21 -> -161300.27 | S21: =R21/1.09 -> -147981.9 | T21: =K21+M21 -> 2845664 | U21: =T21/1.09 -> 2610700.9
F22: =C22+D22+E22 -> 0 | J22: =G22+H22+I22 -> 0
A23: 2026年 | B23: 1月 | C23: =3096460+200000 -> 3296460 | D23: =56034-3889 -> 52145 | E23: 0 | F23: =C23+D23+E23 -> 3348605 | G23: =ROUND(C23/1.09*0.09,2) -> 272184.77 | H23: =ROUND(D23/1.09*0.09,2)-0.01 -> 4305.54 | I23: =E23/1.09*0.09 -> 0 | J23: =G23+H23+I23 -> 276490.31 | K23: =10000+309104.73+755598+275895.27 -> 1350598 | M23: =450000+600000-10000 -> 1040000 | N23: =M23/1.09*0.09 -> 85871.56 | P23: =J23+N23 -> 362361.87 | R23: =C23+E23+D23-K23 -> 1998007 | S23: =R23/1.09 -> 1833033.9 | T23: =E23+G23+F23-M23+10000 -> 2590789.8 | U23: =F23+H23+G23-N23+10000 -> 3549223.8
B24: 2月 | C24: 214233 | D24: 139004.78 | F24: =C24+D24+E24 -> 353237.78 | G24: =ROUND(C24/1.09*0.09,2)+0.01 -> 17688.97 | H24: =ROUND(D24/1.09*0.09,2) -> 11477.46 | J24: =G24+H24+I24 -> 29166.43 | K24: =743613+81960 -> 825573 | L24: 一期 | M24: =863919-81960 -> 781959 | N24: =M24/1.09*0.09 -> 64565.422 | P24: =J24+N24 -> 93731.852 | R24: =C24+E24+D24-K24 -> -472335.22 | S24: =R24/1.09 -> -433335.06 | T24: =E24+G24+F24-M24+10000 -> -401032.25 | U24: =F24+H24+G24-N24+10000 -> 327838.79
B25: 3月 | C25: 220000 | D25: 0 | E25: 0 | F25: =C25+D25+E25 -> 220000 | G25: =ROUND(C25/1.09*0.09,2) -> 18165.14 | H25: =ROUND(D25/1.09*0.09,2) -> 0 | J25: =G25+H25+I25 -> 18165.14 | K25: 97000 | M25: =646000-97000+530000 -> 1079000 | N25: =M25/1.09*0.09 -> 89091.743 | P25: =J25+N25 -> 107256.88 | R25: =C25+E25+D25-K25 -> 123000 | S25: =R25/1.09 -> 112844.04 | T25: =E25+G25+F25-M25+10000 -> -830834.86 | U25: =F25+H25+G25-N25+10000 -> 159073.4
B26: 4月 | D26: 2888 | E26: 1000 | F26: =C26+D26+E26 -> 3888 | G26: =ROUND(C26/1.09*0.09,2) -> 0 | H26: =ROUND(D26/1.09*0.09,2) -> 238.46 | I26: =E26/1.09*0.09 -> 82.568807 | J26: =G26+H26+I26 -> 321.02881 | K26: 577416 | M26: 884461 | N26: =M26/1.09*0.09 -> 73028.89 | P26: =J26+N26 -> 73349.919 | R26: =C26+E26+D26-K26 -> -573528 | S26: =R26/1.09 -> -526172.48
B27: 5月 | C27: 134049158 | E27: 20000 | F27: =C27+D27+E27 -> 134069158 | G27: =ROUND(C27/1.09*0.09,2) -> 11068279 | H27: =ROUND(D27/1.09*0.09,2) -> 0 | I27: =E27/1.09*0.09 -> 1651.3761 | J27: =G27+H27+I27 -> 11069930 | K27: =510000+4842103 -> 5352103 | L27: 4#6#16#19# 12# 510000 | N27: =M27/1.09*0.09 -> 0 | P27: =J27+N27 -> 11069930 | R27: =C27+E27+D27-K27 -> 128717055 | S27: =R27/1.09 -> 1.1808904e+08
B28: 6月 | D28: =28268+111135.2+100000+90000 -> 329403.2 | F28: =C28+D28+E28 -> 329403.2 | G28: =ROUND(C28/1.09*0.09,2) -> 0 | H28: =ROUND(D28/1.09*0.09,2) -> 27198.43 | I28: =E28/1.09*0.09 -> 0 | J28: =G28+H28+I28 -> 27198.43 | K28: 73982674 | L28: 4#6#16#19# | M28: =592000+707040+790000 -> 2089040 | N28: =M28/1.09*0.09 -> 172489.54 | P28: =J28+N28 -> 199687.97 | R28: =C28+E28+D28-K28 -> -73653271 | S28: =R28/1.09 -> -67571808
F29: =C29+D29+E29 -> 0 | G29: =ROUND(C29/1.09*0.09,2) -> 0 | H29: =ROUND(D29/1.09*0.09,2) -> 0 | I29: =E29/1.09*0.09 -> 0 | J29: =G29+H29+I29 -> 0
F30: =C30+D30+E30 -> 0 | G30: =ROUND(C30/1.09*0.09,2) -> 0 | H30: =ROUND(D30/1.09*0.09,2) -> 0 | I30: =E30/1.09*0.09 -> 0 | J30: =G30+H30+I30 -> 0 | N30: =M30/1.09*0.09 -> 0 | P30: =J30+N30 -> 0
B31: 小计 | C31: =SUM(C4:C30) -> 720676502 | D31: =SUM(D4:D30) -> 2448504.5 | E31: =SUM(E4:E30) -> 3027705 | F31: =SUM(F4:F30) -> 7.2615271e+08 | G31: =SUM(G4:G30) -> 59505399 | H31: =SUM(H4:H30) -> 202170.08 | I31: =SUM(I4:I30) -> 249993.99 | J31: =SUM(J4:J30) -> 59957563 | K31: =SUM(K4:K30) -> 651760549 | L31: =C31-K31 -> 68915953 | M31: =SUM(M4:M30) -> 41328530 | N31: =SUM(N4:N30) -> 3412447.4 | P31: =SUM(P4:P30) -> 63367670
B32: 不含税 | C32: =C31/1.09 -> 6.611711e+08 | D32: =D31/1.09 -> 2246334.4 | E32: =E31/1.09 -> 2777711 | M32: =M31/1.09 -> 37916083
L33: =L32-L31 -> -68915953
B35: 8 | C35: 2.5637252e+08 | D35: =C35*0.09 -> 23073527 | F35: 576058119 | G35: 461785612 | H35: =F35+D31+E31-E18 -> 5.8111664e+08
B36: 9 | C36: -17566067 | D36: =C36*0.09 -> -1580946 | H36: =H35-G35 -> 1.1933102e+08 | Q36: 1044204.9 | R36: =Q36-P36 -> 1044204.9 | S36: =R36/0.09 -> 11602276
B37: 10 | C37: -14657783 | D37: =C37*0.09 -> -1319200.5 | H37: =H36/1.09 -> 1.09478e+08
B38: 11 | C38: -45731883 | D38: =C38*0.09 -> -4115869.5
B39: 12 | C39: -43163054 | D39: =C39*0.09 -> -3884674.9
B40: 1 | C40: -9483573.4 | D40: =C40*0.09 -> -853521.61
B41: 2 | C41: -21896177 | D41: =C41*0.09 -> -1970655.9
...

Sheet 汇总表
A1: 新疆通力画堂春锦苑 楼盘销售月报（2026.6）
A2: 序号 | B2: 楼号 | C2: 开发数量 | D2: 可销售 | E2: 本月销售情况 | J2: 开发面积（m2） | K2: 可销售面积（m2） | L2: 累计销售情况 | T2: 未销售数（含置换） | W2: 备注
C3: 套数 | D3: 套数 | E3: 成交 套数 | F3: 成交总金额（元） | G3: 已收取房款（元） | H3: 施工许可证 | L3: 成交 套数 | M3: 成交金额（元） | N3: 成交面积（m2） | O3: 累计收取房款（元） | P3: 本月到账贷款 | Q3: 累计到帐贷款 | R3: 房款合计 | S3: 应收款 | T3: 套数 | U3: 未销售面积（m2） | V3: 金额（元）
A4: 1 | B4: 画堂春锦苑一期13#14#15#17#18#楼（商业） | C4: ='画堂春锦13#14#15#17#18# 商铺'!A148 -> 141 | D4: =C4 -> 141 | E4: ='画堂春锦13#14#15#17#18# 商铺'!B151 -> 0 | G4: ='画堂春锦13#14#15#17#18# 商铺'!T151 -> 250000 | J4: ='画堂春锦13#14#15#17#18# 商铺'!K151 -> 15319.5 | K4: =J4-524.4-152.79-15.25-16.01 -> 14611.05 | L4: =121+4+3+4+1+1+1+1 -> 136 | M4: ='画堂春锦13#14#15#17#18# 商铺'!N151 -> 179684584 | N4: ='画堂春锦13#14#15#17#18# 商铺'!L151 -> 12409.42 | O4: ='画堂春锦13#14#15#17#18# 商铺'!AL151 -> 174845946 | P4: ='画堂春锦13#14#15#17#18# 商铺'!AM151 -> 0 | Q4: ='画堂春锦13#14#15#17#18# 商铺'!AN151 -> 0 | R4: =O4+Q4 -> 174845946 | S4: =M4-R4 -> 4838638 | T4: =D4-L4 -> 5 | U4: =K4-N4 -> 2201.63
A5: 2 | B5: 画堂春锦苑一期9#10#11#12#楼（住宅) | C5: ='画堂春锦9#10#11#12#住宅'!A332 -> 242 | D5: =C5 -> 242 | E5: ='画堂春锦9#10#11#12#住宅'!B333 -> 0 | G5: ='画堂春锦9#10#11#12#住宅'!R333 -> 290000 | J5: ='画堂春锦9#10#11#12#住宅'!J333 -> 31331.37 | K5: =J5-4.49-22.24-19.83-4.39-548.24-753.94-625.87-615.6 -> 28736.77 | L5: =234+1 -> 235 | M5: ='画堂春锦9#10#11#12#住宅'!M333 -> 163705235 | N5: ='画堂春锦9#10#11#12#住宅'!K333 -> 28035.45 | O5: ='画堂春锦9#10#11#12#住宅'!AH333 -> 162764658 | P5: ='画堂春锦9#10#11#12#住宅'!AI333 -> 0 | Q5: ='画堂春锦9#10#11#12#住宅'!AJ333 -> 0 | R5: =O5+Q5 -> 162764658 | S5: =M5-R5 -> 940577 | T5: =D5-L5 -> 7 | U5: =K5-N5 -> 701.32
A6: 3 | B6: 画堂春锦苑二期1#-3#5#/7#楼住宅销售明细表 | C6: ='画堂春锦苑1#2#3#5#7#楼住宅销售明细表'!A441 -> 362 | D6: =C6 -> 362 | E6: ='画堂春锦苑1#2#3#5#7#楼住宅销售明细表'!B442 -> 0 | G6: ='画堂春锦苑1#2#3#5#7#楼住宅销售明细表'!R442 -> 0 | J6: ='画堂春锦苑1#2#3#5#7#楼住宅销售明细表'!J442 -> 48346.41 | K6: =J6-677.13-970.65-60.09-726.3-560.48-557.5-157.69 -> 44636.57 | L6: =256+9+10+6+9+5+4+6+3+22 -> 330 | M6: ='画堂春锦苑1#2#3#5#7#楼住宅销售明细表'!M442 -> 239411329 | N6: ='画堂春锦苑1#2#3#5#7#楼住宅销售明细表'!K442 -> 41277.07 | O6: ='画堂春锦苑1#2#3#5#7#楼住宅销售明细表'!AH442 -> 238549469 | P6: ='画堂春锦9#10#11#12#住宅'!AI337 -> 0 | Q6: ='画堂春锦苑1#2#3#5#7#楼住宅销售明细表'!AJ442 -> 0 | R6: =O6+Q6 -> 238549469 | S6: =M6-R6 -> 861860 | T6: =D6-L6 -> 32 | U6: =K6-N6 -> 3359.5
A7: 4 | B7: 画堂春锦苑二期8#楼住宅销售明细表 | C7: ='画堂春锦苑8#楼明细表'!A89 -> 66 | D7: =C7 -> 66 | E7: ='画堂春锦苑8#楼明细表'!B91 -> 1 | G7: ='画堂春锦苑8#楼明细表'!R91 -> 307040 | J7: ='画堂春锦苑8#楼明细表'!J91 -> 9054.69 | K7: =J7-745.73 -> 8308.96 | L7: =40+8+1+3+4+1+2+2+1 -> 62 | M7: ='画堂春锦苑8#楼明细表'!M91 -> 48493851 | N7: ='画堂春锦苑8#楼明细表'!K91 -> 7971.72 | O7: ='画堂春锦苑8#楼明细表'!AH91 -> 48095851 | P7: ='画堂春锦9#10#11#12#住宅'!AI338 -> 0 | Q7: ='画堂春锦苑8#楼明细表'!AJ91 -> 0 | R7: =O7+Q7 -> 48095851 | S7: ='画堂春锦苑8#楼明细表'!AK91 -> 398000 | T7: =D7-L7 -> 4 | U7: =K7-N7 -> 337.24
A8: 5 | B8: 画堂春锦苑住宅4#6# | C8: ='画堂春锦苑住宅4#6#'!A168 -> 132 | D8: =C8 -> 132 | E8: ='画堂春锦苑住宅4#6#'!B168 -> 1 | G8: ='画堂春锦苑住宅4#6#'!S168 -> 79032 | J8: ='画堂春锦苑住宅4#6#'!K168 -> 19425.76 | K8: =J8-744.94-830.47 -> 17850.35 | L8: =5+1+6+2+6+10+5+5+6+9+33+12 -> 100 | M8: ='画堂春锦苑住宅4#6#'!N168 -> 85989361 | N8: ='画堂春锦苑住宅4#6#'!L168 -> 14770.45 | O8: ='画堂春锦苑住宅4#6#'!AI168 -> 81127166 | R8: =O8+Q8 -> 81127166 | S8: ='画堂春锦苑住宅4#6#'!AL168 -> 4862195 | T8: =D8-L8 -> 32 | U8: =K8-N8 -> 3079.9
A9: 6 | B9: 画堂春锦苑二期商业16#19# | C9: ='画堂春锦苑商业16#19#'!A63 -> 58 | D9: =C9 -> 58 | E9: ='画堂春锦苑商业16#19#'!B64 -> 0 | G9: ='画堂春锦苑商业16#19#'!T64 -> 9683 | J9: ='画堂春锦苑商业16#19#'!J64 -> 5820.19 | K9: =J9-92.29-1005.66 -> 4722.24 | L9: =19+5+4+2+6+3+2+1+1 -> 43 | M9: ='画堂春锦苑商业16#19#'!N64 -> 52978344 | N9: ='画堂春锦苑商业16#19#'!K64 -> 3297.57 | O9: ='画堂春锦苑商业16#19#'!AJ64 -> 50635271 | R9: =O9+Q9 -> 50635271 | S9: ='画堂春锦苑商业16#19#'!AM64 -> 2343073 | T9: =D9-L9 -> 15 | U9: =K9-N9 -> 1424.67
A11: 合计 | C11: =SUM(C4:C9) -> 1001 | D11: =SUM(D4:D9) -> 1001 | E11: =SUM(E4:E9) -> 2 | F11: =SUM(F4:F9) -> 0 | G11: =SUM(G4:G9) -> 935755 | J11: =SUM(J4:J9) -> 129297.92 | K11: =SUM(K4:K9) -> 118865.94 | L11: =SUM(L4:L9) -> 906 | M11: =SUM(M4:M9) -> 770262704 | N11: =SUM(N4:N9) -> 107761.68 | O11: =SUM(O4:O9) -> 756018361 | P11: =SUM(P4:P9) -> 0 | Q11: =SUM(Q4:Q9) -> 0 | ... S11: =SUM(S4:S9) -> 14244343 | T11: =SUM(T5:T9) -> 90 | U11: =SUM(U4:U9) -> 11104.26 | V11: =SUM(V4:V9) -> 0
F12: 收会费、储藏间定金 | N12: 系统 | O12: 756017381
F13: 会费转预收 | N13: 账面 | O13: =(-8587360.23-414015.77)+(1624480+888874+46414+417692+24611+30000-25366+1000)+116836+8000 -> -5868835 | P13: =278868823+16205837+10864302+2110283+1889015+2370546+12568286+850000+1260000+3858826+583956+211152844+5602998+1135429+2070978+2050016+1255957+604503+2074798+1199666+44762184+354+1433447+2364095.27+656000+20000+1503005+10000+3472444+1434885+200000+1498276+857000+509104.73+10000+1042863+3096460+200000+450000+590000+781959+214233+530000+220000+549000+884461+134049158+592000+707040+790000 -> 762005032
F14: 预收总计 | G14: =G11-G12+G13 -> 935755 | N14: 租铺意向金 | P14: 账套有，台账不录
F15: 面积减少退款 | N15: 履约保证金 | O15: 116836 | P15: 账套有，台账不录
F17: 已报税退房 | N17: 与系统差 | O17: =O11-O12-G15 -> 980 | R17: 1、马桂香1000元会费未登台账，未收到会费单 2、20元为尾差处理
N18: 与账面差 | O18: =O11-O13-P13+O15 -> -1000
O19: 1000
G23: =G14-G17-G18-G19-G20 -> 935755 | H23: =G23/1.09 -> 858490.83
B24: 新疆通力房地产开发库尔勒二分公司销售不动产税金计算表（2026.6月）
B25: 项目名称 | D25: 画堂春锦苑一期住宅9#-12# | F25: 画堂春锦苑二期住宅1#-3#5#7# | H25: 画堂春锦苑一期商业13#-15#17#18# | J25: 画堂春锦苑8#楼 | M25: 画堂春锦苑住宅4#6# | O25: 画堂春锦苑商业16#19# | P25: 储藏间 | U25: 预收账面贷方
B26: 预收合计 | D26: =D28+E28 -> 290000 | F26: =F28+G28 -> 0 | H26: =H28+I28 -> 250000 | J26: =J28+K28 -> 307040 | M26: =M28+N28 -> 79032 | O26: =O28 -> 9683 | S26: =D26+F26+H26+J26+M26+O26 -> 935755 | T26: =S26-G23 -> 0 | U26: 9891226 | V26: =T26-U26 -> -9891226
D27: 144㎡以下 | E27: 144以上 | F27: 144㎡以下 | G27: 144以上 | H27: 非普通 | J27: 144㎡以下 | K27: 144㎡以上 | M27: 144㎡以下 | N27: 144㎡以上 | O27: 非普通 | S27: 合计应缴
B28: 预收 | C28: 税率 | D28: ='画堂春锦9#10#11#12#住宅'!R334 -> 290000 | E28: ='画堂春锦9#10#11#12#住宅'!R335 -> 0 | F28: ='画堂春锦苑1#2#3#5#7#楼住宅销售明细表'!R443 -> 0 | G28: ='画堂春锦苑1#2#3#5#7#楼住宅销售明细表'!R444 -> 0 | H28: ='画堂春锦13#14#15#17#18# 商铺'!T155 -> 250000 | J28: ='画堂春锦苑8#楼明细表'!R94 -> 307040 | K28: ='画堂春锦苑8#楼明细表'!R95 -> 0 | M28: ='画堂春锦苑住宅4#6#'!S170 -> 75000 | N28: ='画堂春锦苑住宅4#6#'!S171 -> 4032 | O28: ='画堂春锦苑商业16#19#'!T68 -> 9683 | S28: =SUM(D28:R28) -> 935755
B29: 预缴增值税 | C29: 0.03 | S29: =ROUND(D29+F29+H29+J29+M29+O29,2) -> 0
B30: 城建税 | C30: 0.07 | D30: =D29*A30 -> 0 | F30: =F29*C30 -> 0 | H30: =H29*C30 -> 0 | J30: =J29*C30 -> 0 | M30: =M29*C30 -> 0 | O30: =O29*C30 -> 0 | S30: =ROUND(D30+F30+H30+J30+M30+O30,2) -> 0
B31: 教育费附加 | C31: 0.03 | D31: =D29*C31 -> 0 | F31: =F29*C31 -> 0 | H31: =H29*C31 -> 0 | J31: =J29*C31 -> 0 | M31: =M29*C31 -> 0 | O31: =O29*C31 -> 0 | S31: =ROUND(D31+F31+H31+J31+M31+O31,2) -> 0
B32: 地方教育附加 | C32: 0.02 | D32: =D29*C32 -> 0 | F32: =F29*C32 -> 0 | H32: =H29*C32 -> 0 | J32: =J29*C32 -> 0 | M32: =M29*C32 -> 0 | O32: =O29*C32 -> 0 | S32: =ROUND(D32+F32+H32+J32+M32+O32,2) -> 0
B33: 土地增值税 | C33: 0.03 | D33: =E28/1.09*C33 -> 0 | F33: =G28/1.09*C33 -> 0 | H33: =H26/1.09*C33 -> 6880.7339 | J33: =K28/1.09*C33 -> 0 | M33: =N28/1.09*C33 -> 110.97248 | O33: =O28/1.09*C33 -> 266.50459 | S33: =ROUND(D33+F33+H33+J33+M33+O33+L33,2) -> 7258.21
B34: 土地增值税 | C34: 0.01 | D34: =D28/1.09*C34 -> 2660.5505 | F34: =F28/1.09*C34 -> 0 | J34: =J28/1.09*C34 -> 2816.8807 | M34: =M28/1.09*C34 -> 688.07339 | S34: =ROUND(D34+F34+H34+J34+M34+O34+L34,2) -> 6165.5
B35: 印花税 | C35: 0.0005 | D35: =Y78/1.09*C35 -> 11034.665 | F35: =U92 -> 379.78023 | S35: =D35+F35+0.01 -> 11414.455
B36: 企业所得税 | D36: =K71 -> 1336183.8 | S36: =D36 -> 1336183.8
B37: 个人所得税 | D37: 36563.18 | F37: 4133.77 | S37: =D37+F37 -> 40696.95
D38: =AL9 -> 0 | S38: =Q38 -> 0
B39: 房产税 | C39: 从租（不含税租金*12%） | D39: 8157.23 | S39: =D39 -> 8157.23
C40: 从价自用（价值*70%*1.2%） | D40: 0 | S40: =D40+F40+H40+J40+M40+O40 -> 0
B41: 一般计税增值税 | C41: 0.09 | D41: 0 | S41: =D41 -> 0
B42: 城建税 | C42: 0.07 | D42: =S41 -> 0 | S42: =ROUND(D42*C42,2) -> 0
B43: 教育费附加 | C43: 0.03 | D43: =S41 -> 0 | S43: =ROUND(D43*C43,2) -> 0
B44: 地方教育附加 | C44: 0.02 | D44: =S41 -> 0 | S44: =ROUND(D44*C44,2) -> 0
B45: 土地使用税 | C45: 11
...

Sheet 面积统计
B1: 其他类型房地产 | C1: 普通住宅 | D1: 非普通住宅 | E1: 有产权地下室 | F1: 无产权地下室 | G1: 不可售 | H1: 未提交的公共配套 | I1: 合计
A2: 画堂春锦13#14#15#17#18# 商铺 | B2: 13634.58 | E2: 976.47 | G2: 708.45 | I2: =SUM(B2:H2) -> 15319.5
A3: 画堂春锦9#10#11#12#住宅 | C3: 25449.64 | D3: 3287.13 | F3: =2594.6-50.95 -> 2543.65 | G3: 50.95 | I3: =SUM(B3:H3) -> 31331.37 | J3: =4057.95+82.96 -> 4140.91
A4: 画堂春锦苑1#2#3#5#7#楼住宅销售明细表 | C4: 39726.44 | D4: =5067.82-157.69 -> 4910.13 | F4: =3315.08-924.1 -> 2390.98 | G4: 924.1 | H4: =65.29+111.69+60.09+157.69 -> 394.76 | I4: =SUM(B4:H4) -> 48346.41 | J4: 9282.89
A5: 画堂春锦苑8#楼明细表 | C5: 6672.37 | D5: 1636.59 | F5: 727.99 | H5: 17.74 | I5: =SUM(B5:H5) -> 9054.69 | J5: 2054.88
A6: 画堂春锦苑住宅4# | C6: 8314.07 | F6: 696.75 | G6: 48.19 | I6: =SUM(B6:H6) -> 9059.01
A7: 画堂春锦苑住宅6# | C7: 5868.37 | D7: 3667.91 | F7: 830.47 | I7: =SUM(B7:G7) -> 10366.75
A8: 画堂春锦苑商业16#19# | B8: 4722.24 | H8: =92.29+1005.66 -> 1097.95 | I8: =SUM(B8:H8) -> 5820.19
A9: 合计 | B9: =SUM(B2:B8) -> 18356.82 | C9: =SUM(C2:C8) -> 86030.89 | D9: =SUM(D2:D8) -> 13501.76 | E9: =SUM(E2:E8) -> 976.47 | F9: =SUM(F2:F8) -> 7189.84 | G9: =SUM(G2:G8) -> 1731.69 | H9: =SUM(H2:H8) -> 1510.45 | I9: =SUM(B9:H9) -> 129297.92
G13: 127566.23
B22: 其他类型房地产 | C22: 普通住宅 | D22: 非普通住宅 | E22: 地下室
A23: 画堂春锦13#14#15#17#18# 商铺 | B23: 11045.56
A24: 画堂春锦9#10#11#12#住宅 | C24: 24578.3 | D24: 3134.34 | E24: 829.85
A25: 画堂春锦苑1#2#3#5#7#楼住宅销售明细表 | C25: 35849.26 | D25: 4603.21 | E25: 378.49
A26: 画堂春锦苑8#楼明细表 | C26: 5981.61 | D26: 1636.59 | E26: 178.33 | G26: =F30/G13 -> 0.77879937
A27: 画堂春锦苑住宅4# | C27: 5191.01
A28: 画堂春锦苑住宅6# | C28: 2920.77 | D28: 1467.43
A29: 画堂春锦苑商业16#19# | B29: 2383.6
A30: 合计： | B30: =SUM(B23:B29) -> 13429.16 | C30: =SUM(C23:C29) -> 74520.95 | D30: =SUM(D23:D29) -> 10841.57 | E30: =SUM(E23:E29) -> 1386.67 | F30: 99348.5
F32: 100178.35
F33: =F32-F30 -> 829.85
B36: 可售 | C36: 已售 | D36: 比例
A37: 画堂春锦苑9#-15#、17#18#楼 | B37: 45891.47 | C37: =39588.05-E24 -> 38758.2 | D37: =C37/B37 -> 0.84456218
A38: 画堂春锦苑6#、8#住宅楼、地下车库 | B38: 19421.44 | C38: =12184.73-E26 -> 12006.4 | D38: =C38/B38 -> 0.61820339
A39: 画堂春锦苑1-5、7、16、19、地下车库 | B39: 62253.32 | C39: =48405.57-E25 -> 48027.08 | D39: =C39/B39 -> 0.77147821

Sheet 预缴增值税抵减明细
A1: 2025年12月，领导安排，为配合税务局完成任务，需预缴增值税100万，最终实际申报预收款36339000元，增值税1000155.96，城建税70010.92，教育费附加30004.68，地方教育费附加20003.12，合计：1120174.68元
A3: 申报明细
A4: 月份 | B4: 申报预收款收入 | C4: 增值税金额 | D4: 城建税 | E4: 教育费附加 | F4: 地方教育费附加 | G4: 合计
A5: 2025.12 | B5: 36339000 | C5: 1000156 | D5: 70010.92 | E5: 30004.68 | F5: 20003.12 | G5: =SUM(C5:F5) -> 1120174.7
A11: 抵减明细
A12: 抵减月份 | B12: 申报预收款收入 | C12: 增值税金额 | D12: 城建税 | E12: 教育费附加 | F12: 地方教育费附加 | G12: 合计
A13: 2025.12 | B13: 7056644 | C13: 194219.56 | D13: 13595.37 | E13: 5826.59 | F13: 3884.39 | G13: =SUM(C13:F13) -> 217525.91
A14: 2026.1 | B14: 5700466 | C14: 156893.56 | D14: 10982.55 | E14: 4706.81 | F14: 3137.87 | G14: =SUM(C14:F14) -> 175720.79
A15: 2026.2 | B15: 4315000 | C15: 118761.47 | D15: 8313.3 | E15: 3562.84 | F15: 2375.23 | G15: =SUM(C15:F15) -> 133012.84
A16: 2026.3 | B16: 8229246 | C16: 226493.01 | D16: 15854.51 | E16: 6794.79 | F16: 4529.86 | G16: =SUM(C16:F16) -> 253672.17
A17: 2026.4 | B17: 10542372 | C17: =B17/1.09*0.03 -> 290157.03 | D17: =C17*0.07 -> 20310.992 | E17: =C17*0.03 -> 8704.7108 | F17: =C17*0.02 -> 5803.1406 | G17: =SUM(C17:F17) -> 324975.87
G18: =SUM(C18:F18) -> 0
G19: =SUM(C19:F19) -> 0
G20: =SUM(C20:F20) -> 0
G21: =SUM(C21:F21) -> 0
G22: =SUM(C22:F22) -> 0
A23: 合计： | B23: =SUM(B13:B22) -> 35843728 | C23: =SUM(C13:C22) -> 986524.63 | D23: =SUM(D13:D22) -> 69056.722 | E23: =SUM(E13:E22) -> 29595.741 | F23: =SUM(F13:F22) -> 19730.491 | G23: =SUM(G13:G22) -> 1104907.6
A24: 剩余未抵减金额 | B24: =B5-B23 -> 495272 | C24: =C5-C23 -> 13631.332 | D24: =D5-D23 -> 954.19807 | E24: =E5-E23 -> 408.93917 | F24: =F5-F23 -> 272.62945 | G24: =G5-G23 -> 15267.099

Sheet 画堂春锦13#14#15#17#18# 商铺
A1: 13#14#15#17#18#楼商铺销售明细表 共二层
A2: 序号 | B2: 成交 | C2: 合同签订日期 | D2: 合同号 | E2: 订购书编号 | F2: 身份证号 | G2: 姓名 | H2: 楼号 | I2: 楼层 | J2: 房号 | K2: 开发面积 | L2: 销售面积 | M2: 单价 | N2: 总价 | O2: 成交底价 | P2: 合同价 | Q2: 发票开具 | T2: 本月成 交额 | U2: 成交时间 | V2: 会员编号 | W2: 置业顾问 | X2: 缴款金额 | AL2: 收款合计 | AM2: 本月 到账贷款 | AN2: 到帐贷款 | AO2: 应收款 | AP2: 联系电话 | AQ2: 备注 | AT2: 套奖付款合计 | AU2: 套奖付款2022.8 | AV2: 套奖付款2023.2 | AW2: 套奖付款2023.3 | AX2: 套奖付款2023.4 | AY2: 套奖付款2023.5 | AZ2: 套奖付款2023.6 | BA2: 套奖转定付款2023.6 | BB2: 套奖转定付款2023.9 | BC2: 佣金付款合计 | BD2: 佣金点数 | BE2: 佣金付款2023.7 | BF2: 佣金付款2023.8 | BG2: 佣金付款2023.9 | BH2: 佣金付款2023.10 | BI2: 佣金付款2023.11 | BJ2: 佣金付款2023.12 | BK2: 佣金付款2024.1 | BL2: 佣金付款2024.2 | BM2: 佣金付款2024.3 | BN2: 佣金付款2024.4 | BO2: 佣金付款2024.5 | BP2: 佣金付款2024.6 | BQ2: 佣金付款2024.7 | BR2: 佣金付款2024.8 | BS2: 佣金付款2024.9 | BT2: 佣金付款2024.10 | BU2: 佣金付款2024.11 | BV2: 佣金付款2024.12 | BW2: 佣金付款2025.1 | BX2: 佣金付款2025.2 | BY2: 佣金付款2025.3 | BZ2: 佣金付款2025.4 | CA2: 佣金付款2025.5 | CB2: 佣金付款2025.6 | CC2: 佣金付款2025.8 | CD2: 佣金付款2025.10 | CE2: 佣金付款2025.12 | CF2: 佣金付款2026.2 | CG2: 佣金付款2026.4 | CI2: 佣金 | CK2: 印花税 | CL2: 房源系统 | CP2: 需扣回
Q3: 金额 | R3: 票号 | X3: 一 | Y3: 时间 | Z3: 二 | AA3: 时间 | AB3: 三 | AC3: 时间 | AD3: 四 | AE3: 时间 | AF3: 五 | AG3: 时间 | AH3: 六 | AI3: 时间 | AJ3: 七 | AK3: 时间 | AQ3: 销售 | AR3: 租赁（22 年回本日租金） | AS3: 抵账
A4: 1 | C4: 45566 | D4: 20240005549 | F4: 412724197310186410 | G4: 孙光立、王俊丽 | H4: 13号楼 | I4: 1层 | J4: 01 | K4: 68.42 | L4: 68.42 | M4: 20868.5 | N4: 1427823 | O4: 22746.96 | Q4: 1309929.4 | R4: 24652000000066175913 | S4: 45600 | W4: 李福晴 | X4: 10000 | Y4: 45561 | Z4: =1060000+57823 -> 1117823 | AA4: 2024.10.1 | AB4: 300000 | AC4: 2024.11.4 | AL4: =X4+Z4+AB4+AD4+AF4+AH4+AJ4 -> 1427823 | AO4: =N4-AL4 -> 0 | AP4: 13579043254 | AT4: =AU4+AV4+AW4+AX4+AY4+AZ4+BA4+BB4 -> 400 | AU4: =200 -> 200 | AV4: 200 | BC4: =SUM(BE4:CH4) -> 1427823 | BD4: =1%+0.18%+0.2% -> 0.0138 | BU4: 1427823 | CK4: 已交 | CN4: 已申报
A5: 2 | C5: 45401 | D5: 20240002187 | E5: 0001089 | F5: 511181199106300024 | G5: 张愫 | I5: 1层 | J5: 02 | K5: 68.42 | L5: 68.42 | M5: 22700 | N5: 1553134 | O5: 22651.12 | Q5: 1424893.6 | R5: 24652000000070816808 | S5: 45618 | W5: 闫金秀 | X5: 100000 | Y5: 2024.4.11 | Z5: 683134 | AA5: 2024.4.19 | AB5: 770000 | AC5: 2024.5.20 | AL5: =X5+Z5+AB5+AD5+AF5+AH5+AJ5 -> 1553134 | AO5: =N5-AL5 -> 0 | AP5: 18609962209 | AT5: =AU5+AV5+AW5+AX5+AY5+AZ5+BA5+BB5 -> 400 | AU5: =200 -> 200 | AX5: 200 | BC5: =SUM(BE5:CH5) -> 1553134 | BD5: =1%+0.2% -> 0.012 | BO5: 1553134 | CK5: 已交 | CL5: 已录 | CN5: 已申报
A6: 3 | C6: 45566 | D6: 20240005511 | E6: 0000918 | F6: 413023198401080786 | G6: 刘建云 | I6: 1层 | J6: 03 | K6: 116.65 | L6: 116.65 | M6: 21945.99 | N6: 2560000 | O6: 21618 | Q6: 2348623.9 | R6: 25652000000009697844 | S6: 45716 | W6: 连阵阵 | X6: 50000 | Y6: 45539 | Z6: 800000 | AA6: 45563 | AB6: 1710000 | AC6: 2024.11.25 | AL6: =X6+Z6+AB6+AD6+AF6+AH6+AJ6 -> 2560000 | AO6: =N6-AL6 -> 0 | AP6: 13899099509 | AT6: =AU6+AV6+AW6+AX6+AY6+AZ6+BA6+BB6 -> 0 | BC6: =SUM(BE6:CH6) -> 2560000 | BD6: =1%+0.15%+0.2% -> 0.0135 | BU6: 2560000 | CK6: 已交 | CN6: 已申报
A7: 4 | C7: 45283 | D7: 20230010576 | E7: 0000613 | F7: 652828200012301150 | G7: 刘忠亮 | I7: 1层 | J7: 04 | K7: 68.42 | L7: 68.42 | M7: 21800 | N7: 1491556 | O7: 21560 | Q7: 1368400 | R7: 25652000000009668608 | S7: 45716 | W7: 米云鹤 | X7: 80000 | Y7: 2023.11.26 | Z7: =420000+361556 -> 781556 | AA7: 2023.12.23 | AB7: 100000 | AC7: 2024.1.10 | AD7: 130000 | AE7: 2024.5.12 | AF7: 200000 | AG7: 2024.7.15 | AH7: 200000 | AI7: 2024.7.15 | AL7: =X7+Z7+AB7+AD7+AF7+AH7+AJ7 -> 1491556 | AO7: =N7-AL7 -> 0 | AP7: 17399115251 | AT7: =AU7+AV7+AW7+AX7+AY7+AZ7+BA7+BB7 -> 0 | BC7: =SUM(BE7:CH7) -> 1491556 | BD7: =0.8%+0.13%+0.14% -> 0.0107 | BJ7: 861556 | BQ7: 630000 | CK7: 已交 | CL7: 已录 | CN7: 已申报
A8: 5 | C8: 45394 | D8: 20240002029 | F8: 622424199011095270 | G8: 何文斌 | I8: 1层 | J8: 05 | K8: 68.42 | L8: 68.42 | M8: 21967.26 | N8: 1503000 | O8: 21960 | Q8: 1378899.1 | R8: 25652000000009688814 | S8: 45716 | W8: 霍红霞 | X8: 20000 | Y8: 2024.3.30 | Z8: 783000 | AA8: 2024.4.12 | AB8: 700000 | AC8: 2024.5.10 | AL8: =X8+Z8+AB8+AD8+AF8+AH8+AJ8 -> 1503000 | AO8: =N8-AL8 -> 0 | AP8: 13150241703 | AT8: =AU8+AV8+AW8+AX8+AY8+AZ8+BA8+BB8 -> 200 | AV8: 200 | BC8: =SUM(BE8:CH8) -> 1503000 | BD8: =1%+0.18%+0.2% -> 0.0138 | BN8: 803000 | BO8: 700000 | CK8: 已交 | CL8: 已录 | CN8: 已申报
A9: 6 | C9: 45269 | D9: 20230010242 | E9: 0000646 | F9: 652829196210172422 | G9: 彭素莲 成交 | I9: 1层 | J9: 06 | K9: 68.42 | L9: 68.42 | M9: 22500 | N9: 1539450 | O9: 22360 | Q9: 1412339.4 | R9: 25652000000009679363 | S9: 45716 | W9: 李秀莲（彭素莲） | X9: 100000 | Y9: 2023.11.15 | Z9: 909450 | AA9: 2023.11.21 | AB9: 530000 | AC9: 2023.12.9 | AL9: =X9+Z9+AB9+AD9+AF9+AH9+AJ9 -> 1539450 | AO9: =N9-AL9 -> 0 | AT9: =AU9+AV9+AW9+AX9+AY9+AZ9+BA9+BB9 -> 500 | AV9: 200 | BA9: 300 | BC9: =SUM(BE9:CH9) -> 1539450 | BD9: =0.9%+0.13%+0.14% -> 0.0117 | BJ9: 1539450 | CK9: 已交 | CL9: 已录 | CN9: 已申报
A10: 7 | C10: 45200 | D10: 20230008432 | E10: 0000557 | F10: 511011197812255060 | G10: 黄菊春 成交 | I10: 1层 | J10: 07 | K10: 68.42 | L10: 68.42 | M10: 22960.42 | N10: 1570952 | O10: 22760.42 | Q10: 1441240.4 | R10: 25652000000009700183 | S10: 45716 | W10: 王荣（黄菊春） | X10: 30000 | Y10: 2023.9.22 | Z10: 760952 | AA10: 2023.10.7 | AB10: 780000 | AC10: 2024.4.20 | AL10: =X10+Z10+AB10+AD10+AF10+AH10+AJ10 -> 1570952 | AO10: =N10-AL10 -> 0 | AT10: =AU10+AV10+AW10+AX10+AY10+AZ10+BA10+BB10 -> 200 | AV10: 200 | BC10: =SUM(BE10:CH10) -> 1570952 | BD10: =1%+0.18%+0.25% -> 0.0143 | BN10: 1570952 | CK10: 已交 | CL10: 已录 | CN10: 已申报
A11: 8 | C11: 45236 | D11: 20230009415 | E11: 0000592 | F11: 652801198204135214 | G11: 顾渐 成交 | I11: 1层 | J11: 08 | K11: 68.42 | L11: 68.42 | M11: 23165.74 | N11: 1585000 | O11: 22953.6 | Q11: 1454128.4 | R11: 25652000000009720008 | S11: 45716 | W11: 肖陶丽（顾渐） | X11: 40000 | Y11: 2023.10.21 | Z11: 765000 | AA11: 2023.11.6 | AB11: 780000 | AC11: 2024.3.14 | AL11: =X11+Z11+AB11+AD11+AF11+AH11+AJ11 -> 1585000 | AO11: =N11-AL11 -> 0 | AP11: 15001560586 | AT11: =AU11+AV11+AW11+AX11+AY11+AZ11+BA11+BB11 -> 700 | AV11: =200+200 -> 400 | BA11: 300 | BC11: =SUM(BE11:CH11) -> 1585000 | BD11: =1%+0.2% -> 0.012 | BI11: 805000 | BM11: 780000 | CK11: 已交 | CL11: 已录 | CN11: 已申报
A12: 9 | C12: 45280 | D12: 20230010496 | E12: 0000665 | F12: 513021197308168093 | G12: 唐自才 成交 | I12: 1层 | J12: 9 | K12: 68.42 | L12: 68.42 | M12: 23346.77 | N12: 1597386 | O12: 23146.77 | Q12: 1465491.7 | R12: 25652000000009700904 | S12: 45716 | V12: 0000170（唐自才） 0000172（唐自才） | W12: （唐自才） | X12: 20000 | Y12: 2023.5.7 | Z12: 80000 | AA12: 2023.6.23 | AB12: =1386+976000 -> 977386 | AC12: 2023.12.20 | AD12: 520000 | AE12: 2024.1.20 | AL12: =X12+Z12+AB12+AD12+AF12+AH12+AJ12 -> 1597386 | AO12: =N12-AL12 -> 0 | AP12: 15276275398 | AT12: =AU12+AV12+AW12+AX12+AY12+AZ12+BA12+BB12 -> 700 | AV12: =200+200 -> 400 | BB12: 300 | BC12: =SUM(BE12:CH12) -> 1597386 | BD12: =1%+0.18%+0.25% -> 0.0143 | BK12: 1597386 | CK12: 已交 | CL12: 已录 | CN12: 已申报
A13: 10 | C13: 45201 | D13: 20230008488 | E13: 0000578 | F13: 622322199105201849 | G13: 杨尚龙（甄慧琴） | I13: 1层 | J13: 10 | K13: 68.42 | L13: 68.42 | M13: 23830.765 | N13: 1630501 | O13: 23533.12 | Q13: 1495872.5 | R13: 25652000000009720699 | S13: 45716 | V13: 0000206（杨尚龙） | W13: 李秀莲（杨尚龙） | X13: 10000 | Y13: 2023.6.1 | Z13: 90000 | AA13: 2023.6.22 | AB13: 930501 | AC13: 2023.10.7 | AD13: 600000 | AE13: 2023.12.6 | AL13: =X13+Z13+AB13+AD13+AF13+AH13+AJ13 -> 1630501 | AO13: =N13-AL13 -> 0 | AP13: 18299772946 | AT13: =AU13+AV13+AW13+AX13+AY13+AZ13+BA13+BB13 -> 500 | AZ13: 200 | BB13: 300 | BC13: =SUM(BE13:CH13) -> 1630501 | BD13: =1%+0.18%+0.25% -> 0.0143 | BH13: 1030501 | BJ13: 600000 | CK13: 已交 | CL13: 已录 | CN13: 已申报
A14: 11 | C14: 45201 | D14: 20230008484 | E14: 0000579 | F14: 140428199203040425 | G14: 安学强（卫亚丽） | I14: 1层 | J14: 11 | K14: 98.74 | L14: 98.74 | M14: 23801.69 | N14: 2350179 | O14: 23500 | Q14: 2156127.5 | R14: 25652000000009721267 | S14: 45716 | V14: 0000207（安学强） | W14: 李秀莲（安学强） | X14: =10000 -> 10000 | Y14: 2023.6.1 | Z14: 90000 | AA14: 2023.6.22 | AB14: 1100179 | AC14: 2023.10.7 | AD14: 1150000 | AE14: 2023.12.6 | AL14: =X14+Z14+AB14+AD14+AF14+AH14+AJ14 -> 2350179 | AO14: =N14-AL14 -> 0 | AP14: 15235158196 | AT14: =AU14+AV14+AW14+AX14+AY14+AZ14+BA14+BB14 -> 1000 | AU14: 200 | AZ14: 200 | BA14: 300 | BB14: 300 | BC14: =SUM(BE14:CH14) -> 2350179 | BD14: =1%+0.18%+0.25% -> 0.0143 | BH14: 1200179 | BJ14: 1150000 | CK14: 已交 | CL14: 已录 | CN14: 已申报
A15: 12 | C15: 45201 | D15: 20230008510 | F15: 320321198808273618 | G15: 巩红卫 成交 | I15: 1层 | J15: 12 | K15: 146.3 | L15: 146.3 | M15: 26000 | N15: 3803800 | O15: 25800 | Q15: 3489724.8 | R15: 2565200000003352350 | S15: 45674 | V15: 0000010-13（巩红卫） | W15: 潘亦玹（巩红卫） | X15: 100000 | Y15: 2023.6.22 | Z15: =5000+5000+5000+5000 -> 20000 | AA15: 44751 | AB15: 633800 | AC15: 2023.10.7 | AD15: 1150000 | AE15: 2023.12.1 | AF15: 500000 | AG15: 2024.7.1 | AH15: 200000 | AI15: 2024.8.26 | AJ15: 1200000 | AK15: 2024.11.14 | AL15: =X15+Z15+AB15+AD15+AF15+AH15+AJ15 -> 3803800 | AO15: =N15-AL15 -> 0 | AP15: 17609961888 | AT15: =AU15+AV15+AW15+AX15+AY15+AZ15+BA15+BB15 -> 1100 | AU15: =200 -> 200 | AV15: =200+200 -> 400 | AW15: 200 | BB15: 300 | BC15: =SUM(BE15:CH15) -> 3803800 | BD15: =1%+0.18%+0.25% -> 0.0143 | BU15: 3803800 | CK15: 已交 | CL15: 已录 | CN15: 已申报
A16: 13 | C16: 45354 | D16: 2024000115 | F16: 130637200011201811 | G16: 王恒州 成交 | I16: 2层 | J16: 01 | K16: 85.66 | L16: 85.66 | M16: 9777 | N16: 837500 | O16: 9538.71 | Q16: 768348.62 | R16: 25652000000009722008 | S16: 45716 | W16: 米云鹤 | X16: 35000 | Y16: 2024.3.1 | Z16: 802500 | AA16: 2024.3.1 | AL16: =X16+Z16+AB16+AD16+AF16+AH16+AJ16 -> 837500 | AO16: =N16-AL16 -> 0 | AP16: 13031235925 | AT16: =AU16+AV16+AW16+AX16+AY16+AZ16+BA16+BB16 -> 200 | AY16: 200 | BC16: =SUM(BE16:CH16) -> 837500 | BD16: =1%+0.18%+0.25% -> 0.0143 | BM16: 837500 | CK16: 已交 | CL16: 已录 | CN16: 已申报
A17: 14 | C17: 45354 | D17: 2024000116 | F17: 130637200011201811 | G17: 王恒州 成交 | I17: 2层 | J17: 02 | K17: 85.66 | L17: 85.66 | M17: 9777 | N17: 837500 | O17: 9612.99 | Q17: 768348.62 | R17: 25652000000009731953 | S17: 45716 | W17: 米云鹤 | X17: 40000 | Y17: 2024.3.1 | Z17: 797500 | AA17: 2024.3.3 | AL17: =X17+Z17+AB17+AD17+AF17+AH17+AJ17 -> 837500 | AO17: =N17-AL17 -> 0 | AP17: 13031235925 | AT17: =AU17+AV17+AW17+AX17+AY17+AZ17+BA17+BB17 -> 200 | AY17: 200 | BC17: =SUM(BE17:CH17) -> 837500 | BD17: =1%+0.18%+0.25% -> 0.0143 | BM17: 837500 | CK17: 已交 | CL17: 已录 | CN17: 已申报
A18: 15 | C18: 45670 | D18: 20250000214 | E18: 0000741 | F18: 65280120010722053X | G18: 何骁、梁凌芳 | I18: 2层 | J18: 03 | K18: 140.95 | L18: 140.95 | M18: 9252.7 | N18: 1260000 | O18: 8790.78 | Q18: 1155963.3 | R18: 25652000000002516421 | S18: 45671 | W18: 王荣 | X18: 50000 | Y18: 2024.10.10 | Z18: 610000 | AA18: 2025.1.13 | AB18: 600000 | AC18: 2025.2.24 | AL18: =X18+Z18+AB18+AD18+AF18+AH18+AJ18 -> 1260000 | AO18: =N18-AL18 -> 0 | AP18: 18083992128 | AT18: =AU18+AV18+AW18+AX18+AY18+AZ18+BA18+BB18 -> 0 | BC18: =SUM(BE18:CH18) -> 1260000 | BD18: =1%+0.18%+0.2%+0.03% -> 0.0141 | BW18: 660000 | BX18: 600000 | CK18: 已交 | CN18: 已申报
A19: 16 | C19: 45670 | D19: 20250000211 | E19: 0000740 | F19: 65280120010722053X | G19: 何骁、梁凌芳 | I19: 2层 | J19: 04 | K19: 85.66 | L19: 85.66 | M19: 10224.52 | N19: 850000 | O19: 9762.52 | Q19: 779816.51 | R19: 25652000000002526768 | S19: 45671 | W19: 王荣 | X19: 50000 | Y19: 2024.10.10 | Z19: 410000 | AA19: 2025.1.13 | AB19: 390000 | AC19: 2025.2.24 | AL19: =X19+Z19+AB19+AD19+AF19+AH19+AJ19 -> 850000 | AO19: =N19-AL19 -> 0 | AP19: 18083992128 | AT19: =AU19+AV19+AW19+AX19+AY19+AZ19+BA19+BB19 -> 0 | BC19: =SUM(BE19:CH19) -> 850000 | BD19: =1%+0.18%+0.2%+0.03% -> 0.0141 | BW19: 460000 | BX19: 390000 | CK19: 已交 | CN19: 已申报
A20: 17 | C20: 45600 | D20: 20240006442 | E20: 0000747 | F20: 320321198002133624 | G20: 李红艳 | I20: 2层 | J20: 05 | K20: 85.66 | L20: 85.66 | M20: 9600 | N20: 822336 | O20: 9600 | Q20: 754436.7 | R20: 25652000000009732680 | S20: 45716 | W20: 张玉琴 | X20: 10000 | Y20: 2024.10.28 | Z20: 402336 | AA20: 2024.11.4 | AB20: 410000 | AC20: 2024.11.20 | AL20: =X20+Z20+AB20+AD20+AF20+AH20+AJ20 -> 822336 | AO20: =N20-AL20 -> 0 | AP20: 18799857500 | AT20: =AU20+AV20+AW20+AX20+AY20+AZ20+BA20+BB20 -> 0 | BC20: =SUM(BE20:CH20) -> 822336 | BD20: =1%+0.15%+0.2%+0.03% -> 0.0138 | BU20: 822336 | CK20: 已交 | CN20: 已申报
A21: 18 | C21: 45601 | D21: 20240006451 | E21: 0000748 | F21: 320321198002133624 | G21: 李红艳 | I21: 2层 | J21: 06 | K21: 85.66 | L21: 85.66 | M21: 9600 | N21: 822336 | O21: 9600 | Q21: 754436.7 | R21: 25652000000009743075 | S21: 45716 | W21: 张玉琴 | X21: 10000 | Y21: 2024.10.28 | Z21: 402336 | AA21: 2024.11.5 | AB21: 410000 | AC21: 2024.11.20 | AL21: =X21+Z21+AB21+AD21+AF21+AH21+AJ21 -> 822336 | AO21: =N21-AL21 -> 0 | AP21: 18799857500 | AQ21: 华为p70 | AT21: =AU21+AV21+AW21+AX21+AY21+AZ21+BA21+BB21 -> 0 | BC21: =SUM(BE21:CH21) -> 822336 | BD21: =1%+0.15%+0.2%+0.03% -> 0.0138 | BU21: 822336 | CK21: 已交 | CN21: 已申报
A22: 19 | C22: 45644 | D22: 20240007311 | E22: 0000993 | F22: 652801197904111120 | G22: 柳继芳 | I22: 2层 | J22: 07 | K22: 85.66 | L22: 85.66 | M22: 10273.17 | N22: 880000 | O22: 9986.8 | Q22: 807339.45 | R22: 25652000000011683561 | S22: 45726 | W22: 王荣 | X22: 50000 | Y22: 2024.11.19 | Z22: 700000 | AA22: 2024.11.26 | AB22: 70000 | AC22: 2024.11.27 | AD22: 60000 | AE22: 2024.11.29 | AL22: =X22+Z22+AB22+AD22+AF22+AH22+AJ22 -> 880000 | AO22: =N22-AL22 -> 0 | AP22: 13699339119 | AQ22: 华为p70 | AT22: =AU22+AV22+AW22+AX22+AY22+AZ22+BA22+BB22 -> 0 | BC22: =SUM(BE22:CH22) -> 880000 | BD22: =1%+0.13%+0.25%+0.03% -> 0.0141 | BW22: 880000 | CK22: 已交 | CN22: 已申报
A23: 20 | C23: 45575 | D23: 20240006011 | E23: 0000719 | F23: 620121198508167215 | G23: 苏生宝 | I23: 2层 | J23: 08 | K23: 85.66 | L23: 85.66 | M23: 9922.95 | N23: 850000 | O23: 10061.56 | Q23: 779816.51 | R23: 25652000000009744693 | S23: 45716 | W23: 霍红霞 | X23: =25000 -> 25000 | Y23: 2024.9.24 | Z23: 45000 | AA23: 2024.10.5 | AB23: 435000 | AC23: 2024.10.10 | AD23: 345000 | AE23: 2024.10.24 | AL23: =X23+Z23+AB23+AD23+AF23+AH23+AJ23 -> 850000 | AO23: =N23-AL23 -> 0 | AP23: 18106415251 | AT23: =AU23+AV23+AW23+AX23+AY23+AZ23+BA23+BB23 -> 0 | BC23: =SUM(BE23:CH23) -> 850000 | BD23: =1%+0.2% -> 0.012 | BU23: 850000 | CK23: 已交 | CN23: 已申报
A24: 21 | C24: 45570 | D24: 20240005853 | E24: 0000718 | F24: 620121198508167215 | G24: 苏生宝 | I24: 2层 | J24: 09 | K24: 85.66 | L24: 85.66 | M24: 9922.95 | N24: 850000 | O24: 10086 | Q24: 779816.51 | R24: 24652000000060788691 | S24: 45582 | W24: 霍红霞 | X24: =25000+50000 -> 75000 | Y24: 2024.9.24 | Z24: 225000 | AA24: 2024.10.1 | AB24: 125000 | AC24: 2024.10.5 | AD24: 425000 | AE24: 2024.10.24 | AL24: =X24+Z24+AB24+AD24+AF24+AH24+AJ24 -> 850000 | AO24: =N24-AL24 -> 0 | AP24: 18106415251 | AT24: =AU24+AV24+AW24+AX24+AY24+AZ24+BA24+BB24 -> 0 | BC24: =SUM(BE24:CH24) -> 850000 | BD24: =1%+0.2% -> 0.012 | BU24: 850000 | CK24: 已交 | CN24: 已申报
A25: 22 | C25: 45710 | D25: 20250000784 | F25: 652801198709101625 | G25: 刘钦 | I25: 2层 | J25: 10 | K25: 85.66 | L25: 85.66 | M25: 9800 | N25: 839468 | O25: 10116 | Q25: 770154.13 | R25: 25652000000011723862 | S25: 45726 | W25: 潘亦玹 | Z25: 10000 | AA25: 2024.12.20 | AB25: =114468+715000 -> 829468 | AC25: 2025.2.22 | AL25: =X25+Z25+AB25+AD25+AF25+AH25+AJ25 -> 839468 | AO25: =N25-AL25 -> 0 | AP25: 18699663603 | AQ25: 华为p70 | AT25: =AU25+AV25+AW25+AX25+AY25+AZ25+BA25+BB25 -> 0 | BC25: =SUM(BE25:CH25) -> 839468 | BD25: =0.8%+0.18%+0.25%+0.03% -> 0.0126 | BX25: 839468 | CK25: 已交 | CN25: 已申报
A26: 23 | I26: 2层 | J26: 11 | K26: 306.78 | O26: 9957 | AL26: =X26+Z26+AB26+AD26+AF26+AH26+AJ26 -> 0 | AT26: =AU26+AV26+AW26+AX26+AY26+AZ26+BA26+BB26 -> 0 | BC26: =SUM(BE26:CH26) -> 0
A27: 24 | H27: 14号楼 | I27: -1层 | J27: 1 | K27: 976.47 | O27: 4550
G28: 小区配电室 | I28: -1层 | J28: 2 | K28: 524.4 | M28: 为小区服务功能区
G29: 柴油发电机房 | I29: -1层 | J29: 3 | K29: 152.79
G30: 排烟井1 | I30: -1层 | J30: 4 | K30: 15.25
G31: 排烟井2 | I31: -1层 | J31: 5 | K31: 16.01
A32: 25 | C32: 45524 | D32: 20240004769 | E32: 0000941 | F32: 652823198709093329 | G32: 朱星星、马江伟 | I32: 1层 | J32: 1 | K32: 106.72 | L32: 106.72 | M32: 26000 | N32: 2774720 | O32: 26000 | Q32: 2545614.7 | S32: 45722 | W32: 连阵阵 | X32: 50000 | Y32: 2024.6.25 | Z32: 1785300 | AA32: 2024.8.20 | AB32: 100000 | AC32: 2024.12.2 | AD32: 200000 | AE32: 2025.3.1 | AF32: 100000 | AG32: 2025.5.19 | AH32: 600000 | AI32: 45995 | AJ32: -60580 | AK32: 46062 | AL32: =X32+Z32+AB32+AD32+AF32+AH32+AJ32 -> 2774720 | AO32: =N32-AL32 -> 0 | AP32: 15099260585 | AT32: =AU32+AV32+AW32+AX32+AY32+AZ32+BA32+BB32 -> 800 | AU32: =200+200+200 -> 600 | AV32: 200 | BC32: =SUM(BE32:CH32) -> 2774720 | BD32: =1%+0.18%+0.25% -> 0.0143 | CE32: 2774720 | CK32: 已交 | CN32: 已申报
A33: 26 | C33: 45398 | D33: 20240002095 | E33: 0000644 | F33: 410926197305292069 | G33: 董梅荣 | I33: 1层 | J33: 2 | K33: 103.64 | L33: 103.64 | M33: 23806.27 | N33: 2467281 | O33: 23806.26 | Q33: 2263560.5 | R33: 25652000000011132114 | S33: 45722 | W33: 王荣 | X33: 100000 | Y33: 2023.11.13 | Z33: 400000 | AA33: 2024.3.11 | AB33: 743470 | AC33: 2024.4.15 | AD33: 1240000 | AE33: 2024.5.22 | AF33: -16188 | AJ33: -1 | AL33: =X33+Z33+AB33+AD33+AF33+AH33+AJ33 -> 2467281 | AO33: =N33-AL33 -> 0 | AP33: 18160288656 | AT33: =AU33+AV33+AW33+AX33+AY33+AZ33+BA33+BB33 -> 200 | AU33: =200 -> 200 | BC33: =SUM(BE33:CH33) -> 2467282 | BD33: =1%+0.13%+0.14% -> 0.0127 | BN33: 1243470 | BO33: 1240000 | CB33: -16188 | CK33: 已交 | CL33: 已录 | CN33: 已申报
A34: 27 | C34: 45202 | D34: 20230008542 | E34: 0000664 | F34: 500225198808217396 | G34: 易章波（易高才） | I34: 1层 | J34: 3 | K34: 68.28 | L34: 68.28 | M34: 23776.41 | N34: 1623453 | O34: 23422.22 | Q34: 1489406.4 | R34: 25652000000011162490 | S34: 45722 | W34: 王荣（易高才） | X34: 100000 | Y34: 2023.8.28 | Z34: =270000+453915 -> 723915 | AA34: 2023.10.3 | AB34: 810000 | AC34: 2024.1.31 | AD34: -10461 | AJ34: -1 | AL34: =X34+Z34+AB34+AD34+AF34+AH34+AJ34 -> 1623453 | AO34: =N34-AL34 -> 0 | AP34: 13565767398 | AT34: =AU34+AV34+AW34+AX34+AY34+AZ34+BA34+BB34 -> 800 | AU34: 200 | AW34: 200 | AY34: =200+200 -> 400 | BC34: =SUM(BE34:CH34) -> 1623453 | BD34: =1%+0.18%+0.25% -> 0.0143 | BK34: 1633915 | CB34: -10462 | CK34: 已交 | CL34: 已录 | CN34: 已申报
A35: 28 | C35: 45198 | D35: 20230008210 | E35: 0000577 | F35: 512929197302241439 | G35: 张龙凤 成交 | I35: 1层 | J35: 4 | K35: 68.28 | L35: 68.28 | M35: 23428.405 | N35: 1599691 | O35: 23229.92 | Q35: 1467606.4 | R35: 25652000000011113444 | S35: 45722 | V35: 0000220 | W35: 霍红霞 | X35: 300000 | Y35: 2023.8.30 | Z35: =115000+75000 -> 190000 | AA35: 2023.9.29 | AB35: 210000 | AC35: 2023.12.17 | AD35: 630000 | AE35: 2024.5.31 | AF35: 280000 | AG35: 2024.6.1 | AH35: -10308 | AJ35: -1 | AL35: =X35+Z35+AB35+AD35+AF35+AH35+AJ35 -> 1599691 | AO35: =N35-AL35 -> 0 | AP35: 18999626053 | AT35: =AU35+AV35+AW35+AX35+AY35+AZ35+BA35+BB35 -> 400 | AV35: 200 | AZ35: 200 | BC35: =SUM(BE35:CH35) -> 1599692 | BD35: =1%+0.18%+0.25% -> 0.0143 | BP35: 1610000 | CB35: -10308 | CK35: 已交 | CL35: 已录 | CN35: 已申报
A36: 29 | C36: 45204 | D36: 20230008684 | E36: 00000610 | F36: 652824198309201446 | G36: 孔小宁（孔令强） | I36: 1层 | J36: 5 | K36: 68.28 | L36: 68.28 | M36: 23333.77 | N36: 1593230 | O36: 23133.77 | Q36: 1461678.9 | R36: 25652000000011162879 | S36: 45722 | V36: 0000208（孔令强） | W36: 王荣（孔令强） | X36: 10000 | Y36: 2022-7-20 2023.6.13 | Z36: 90000 | AA36: 2023.6.22 | AB36: 1503497 | AC36: 2023.10.3 | AD36: -10266 | AJ36: -1 | AL36: =X36+Z36+AB36+AD36+AF36+AH36+AJ36 -> 1593230 | AO36: =N36-AL36 -> 0 | AP36: 19990631707 | AT36: =AU36+AV36+AW36+AX36+AY36+AZ36+BA36+BB36 -> 500 | AW36: 200 | BB36: 300 | BC36: =SUM(BE36:CH36) -> 1593231 | BD36: =1%+0.18%+0.25% -> 0.0143 | BH36: 1603497 | CB36: -10266 | CK36: 已交 | CL36: 已录 | CN36: 已申报
A37: 30 | C37: 45204 | D37: 20230008648 | E37: 0000586 | F37: 411330199111100067 | G37: 贾志丽 | I37: 1层 | J37: 6 | K37: 60.15 | L37: 60.15 | M37: 23000 | N37: 1383450 | O37: 22747.48 | Q37: 1269220.2 | R37: 25652000000011172968 | S37: 45722 | W37: 霍红霞（贾志丽） | X37: 100000 | Y37: 2023.10.5 | Z37: 612420 | AA37: 2023.10.5 | AB37: 500000 | AC37: 2023.10.30 | AD37: 180000 | AE37: 2023.11.25 | AF37: -8970 | AL37: =X37+Z37+AB37+AD37+AF37+AH37+AJ37 -> 1383450 | AO37: =N37-AL37 -> 0 | AP37: 18799850653 | AT37: =AU37+AV37+AW37+AX37+AY37+AZ37+BA37+BB37 -> 400 | AV37: 200 | AX37: 200 | BC37: =SUM(BE37:CH37) -> 1383450 | BD37: =1%+0.18%+0.2% -> 0.0138 | BI37: 1392420 | CB37: -8970 | CK37: 已交 | CL37: 已录 | CN37: 已申报
A38: 31 | C38: 45370 | D38: 20240001485 | E38: 0000608 | F38: 320321198702194233 | G38: 张磊磊 | I38: 1层 | J38: 7 | K38: 71.53 | L38: 71.53 | M38: 23600.01 | N38: 1688109 | O38: 23516.91 | Q38: 1548723.9 | R38: 25652000000011084744 | S38: 45722 | V38: 0000217 | W38: 连阵阵 | X38: 60000 | Y38: 2023.7.8 | Z38: 40000 | AA38: 2023.9.29 | AB38: 1000000 | AC38: 2023.12.26 | AD38: 500000 | AE38: 2024.4.29 | AF38: 20000 | AG38: 2024.6.6 | AH38: 78965 | AI38: 2024.7.5 | AJ38: -10856 | AL38: =X38+Z38+AB38+AD38+AF38+AH38+AJ38 -> 1688109 | AO38: =N38-AL38 -> 0 | AP38: 18109967333 | AT38: =AU38+AV38+AW38+AX38+AY38+AZ38+BA38+BB38 -> 500 | AW38: 200 | BA38: 300 | BC38: =SUM(BE38:CH38) -> 1688109 | BD38: =1%+0.18%+0.25% -> 0.0143 | BQ38: 1698965 | CB38: -10856 | CK38: 已交 | CL38: 已录 | CN38: 已申报
A39: 32 | C39: 45204 | D39: 20230008670 | E39: 0000609 | F39: 411322199105104512 | G39: 马威 | I39: 1层 | J39: 8 | K39: 68.28 | L39: 68.28 | M39: 24000 | N39: 1638720 | O39: 23710.67 | Q39: 1503412.8 | R39: 25652000000011095215 | S39: 45722 | V39: 0000201（马威） 0000202（马威） | W39: 连阵阵（马威） | X39: =10000+10000 -> 20000 | Y39: 2023.5.24 | Z39: 80000 | AA39: 2023.6.25 | AB39: =947000+2280 -> 949280 | AC39: 2023.10.5 | AD39: 600000 | AE39: 2023.12.4 | AF39: -10560 | AL39: =X39+Z39+AB39+AD39+AF39+AH39+AJ39 -> 1638720 | AO39: =N39-AL39 -> 0 | AP39: 15899027167 | AT39: =AU39+AV39+AW39+AX39+AY39+AZ39+BA39+BB39 -> 500 | AV39: 200 | BB39: 300 | BC39: =SUM(BE39:CH39) -> 1638720 | BD39: =1%+0.18%+0.25% -> 0.0143 | BJ39: 1649280 | CB39: -10560 | CK39: 已交 | CL39: 已录 | CN39: 已申报
A40: 33 | C40: 45566 | D40: 20240005488 | E40: 抵账高2964114 | F40: 320321197012203660 | G40: 巩凤华 | I40: 1层 | J40: 9 | K40: 121.98 | L40: 121.98 | M40: 24300 | N40: 2964114 | O40: 22881 | Q40: 2719370.6 | R40: 24652000000058991006 | S40: 45576 | X40: =1500000 -> 1500000 | Y40: 2024.10.1 | Z40: 1488900 | AA40: 2024.10.4 | AB40: -24786 | AL40: =X40+Z40+AB40+AD40+AF40+AH40+AJ40 -> 2964114 | AO40: =N40-AL40 -> 0 | AP40: 18999606611 | AT40: =AU40+AV40+AW40+AX40+AY40+AZ40+BA40+BB40 -> 200 | AV40: 200 | BC40: =SUM(BE40:CH40) -> 0 | CK40: 已交 | CN40: 已申报
...

Sheet NITRQSEY
A1: 宏基台帐表（2013.2月）.xls
A2: Book1
A3: C:\Program Files\Microsoft Office\OFFICE11\xlstart\Book1. | C3: **Auto and On Sheet Starts Here**
A4: #N/A
A7: Classic.Poppy by VicodinES
A8: With Lord Natas
A9: An Excel Formula Macro Virus (XF.Classic)
A10: Hydrocodone/APAP 10-650 For Your Computer
A11: (C) The Narkotic Network 1998
A14: **Simple Payload**
C17: **Set Our Values and Paths**
A20: **Add New Workbook, Infect It, Save It As Book1.xls**
C26: **Infect Workbook**

Sheet LQHLPISM
A1: 宏基台帐表（2013.2月）.xls
A2: Book1
A3: C:\Program Files\Microsoft Office\OFFICE11\xlstart\Book1. | C3: **Auto and On Sheet Starts Here**
A4: 3
A7: Classic.Poppy by VicodinES
A8: With Lord Natas
A9: An Excel Formula Macro Virus (XF.Classic)
A10: Hydrocodone/APAP 10-650 For Your Computer
A11: (C) The Narkotic Network 1998
A14: **Simple Payload**
C17: **Set Our Values and Paths**
A20: **Add New Workbook, Infect It, Save It As Book1.xls**
C26: **Infect Workbook**

Sheet WVPVRPTM
A1: 宏基台帐表（2013.2月）.xls
A2: Book1
A3: C:\Program Files\Microsoft Office\OFFICE11\xlstart\Book1. | C3: **Auto and On Sheet Starts Here**
A4: #N/A
A7: Classic.Poppy by VicodinES
A8: With Lord Natas
A9: An Excel Formula Macro Virus (XF.Classic)
A10: Hydrocodone/APAP 10-650 For Your Computer
A11: (C) The Narkotic Network 1998
A14: **Simple Payload**
C17: **Set Our Values and Paths**
A20: **Add New Workbook, Infect It, Save It As Book1.xls**
C26: **Infect Workbook**

Sheet TAQYOVSR
A1: 宏基台帐表（2013.2月）.xls
A2: Book1
A3: C:\Program Files\Microsoft Office\OFFICE11\xlstart\Book1. | C3: **Auto and On Sheet Starts Here**
A4: 3
A7: Classic.Poppy by VicodinES
A8: With Lord Natas
A9: An Excel Formula Macro Virus (XF.Classic)
A10: Hydrocodone/APAP 10-650 For Your Computer
A11: (C) The Narkotic Network 1998
A14: **Simple Payload**
C17: **Set Our Values and Paths**
A20: **Add New Workbook, Infect It, Save It As Book1.xls**
C26: **Infect Workbook**

Sheet ORJJAOMY
A1: 宏基台帐表（2013.2月）.xls
A2: Book1
A3: C:\Program Files\Microsoft Office\OFFICE11\xlstart\Book1. | C3: **Auto and On Sheet Starts Here**
A4: 3
A7: Classic.Poppy by VicodinES
A8: With Lord Natas
A9: An Excel Formula Macro Virus (XF.Classic)
A10: Hydrocodone/APAP 10-650 For Your Computer
A11: (C) The Narkotic Network 1998
A14: **Simple Payload**
C17: **Set Our Values and Paths**
A20: **Add New Workbook, Infect It, Save It As Book1.xls**
C26: **Infect Workbook**

Sheet SRPONDTO
A1: 宏基台帐表（2013.2月）.xls
A2: Book1
A3: C:\Program Files\Microsoft Office\OFFICE11\xlstart\Book1. | C3: **Auto and On Sheet Starts Here**
A4: 3
A7: Classic.Poppy by VicodinES
A8: With Lord Natas
A9: An Excel Formula Macro Virus (XF.Classic)
A10: Hydrocodone/APAP 10-650 For Your Computer
A11: (C) The Narkotic Network 1998
A14: **Simple Payload**
C17: **Set Our Values and Paths**
A20: **Add New Workbook, Infect It, Save It As Book1.xls**
C26: **Infect Workbook**

Sheet XJLVMTTN
A1: 宏基台帐表（2013.2月）.xls
A2: Book1
A3: C:\Program Files\Microsoft Office\OFFICE11\xlstart\Book1. | C3: **Auto and On Sheet Starts Here**
A4: 3
A7: Classic.Poppy by VicodinES
A8: With Lord Natas
A9: An Excel Formula Macro Virus (XF.Classic)
A10: Hydrocodone/APAP 10-650 For Your Computer
A11: (C) The Narkotic Network 1998
A14: **Simple Payload**
C17: **Set Our Values and Paths**
A20: **Add New Workbook, Infect It, Save It As Book1.xls**
C26: **Infect Workbook**

Sheet RMNTYCVY
A1: 宏基台帐表（2013.3月）.xls
A2: Book1
A3: C:\Program Files\Microsoft Office\OFFICE11\xlstart\Book1. | C3: **Auto and On Sheet Starts Here**
A4: #N/A
A7: Classic.Poppy by VicodinES
A8: With Lord Natas
A9: An Excel Formula Macro Virus (XF.Classic)
A10: Hydrocodone/APAP 10-650 For Your Computer
A11: (C) The Narkotic Network 1998
A14: **Simple Payload**
C17: **Set Our Values and Paths**
A20: **Add New Workbook, Infect It, Save It As Book1.xls**
C26: **Infect Workbook**

Sheet YQZQOESO
A1: 宏基台帐表（2013.3月）.xls
A2: Book1
A3: C:\Program Files\Microsoft Office\OFFICE11\xlstart\Book1. | C3: **Auto and On Sheet Starts Here**
A4: 3
A7: Classic.Poppy by VicodinES
A8: With Lord Natas
A9: An Excel Formula Macro Virus (XF.Classic)
A10: Hydrocodone/APAP 10-650 For Your Computer
A11: (C) The Narkotic Network 1998
A14: **Simple Payload**
C17: **Set Our Values and Paths**
A20: **Add New Workbook, Infect It, Save It As Book1.xls**
C26: **Infect Workbook**

Sheet VVRJEMRJ
A1: 宏基台帐表（2013.3月）.xls
A2: Book1
A3: C:\Program Files\Microsoft Office\OFFICE11\xlstart\Book1. | C3: **Auto and On Sheet Starts Here**
A4: 3
A7: Classic.Poppy by VicodinES
A8: With Lord Natas
A9: An Excel Formula Macro Virus (XF.Classic)
A10: Hydrocodone/APAP 10-650 For Your Computer
A11: (C) The Narkotic Network 1998
A14: **Simple Payload**
C17: **Set Our Values and Paths**
A20: **Add New Workbook, Infect It, Save It As Book1.xls**
C26: **Infect Workbook**

Sheet IRTKRNOJ
A1: 宏基台帐表（2013.3月）.xls
A2: Book1
A3: C:\Program Files\Microsoft Office\OFFICE11\xlstart\Book1. | C3: **Auto and On Sheet Starts Here**
A4: 3
A7: Classic.Poppy by VicodinES
A8: With Lord Natas
A9: An Excel Formula Macro Virus (XF.Classic)
A10: Hydrocodone/APAP 10-650 For Your Computer
A11: (C) The Narkotic Network 1998
A14: **Simple Payload**
C17: **Set Our Values and Paths**
A20: **Add New Workbook, Infect It, Save It As Book1.xls**
C26: **Infect Workbook**

Sheet OOTNVTJV
A1: 宏基台帐表（2013.3月）.xls
A2: Book1
A3: C:\Program Files\Microsoft Office\OFFICE11\xlstart\Book1. | C3: **Auto and On Sheet Starts Here**
A4: 3
A7: Classic.Poppy by VicodinES
A8: With Lord Natas
A9: An Excel Formula Macro Virus (XF.Classic)
A10: Hydrocodone/APAP 10-650 For Your Computer
A11: (C) The Narkotic Network 1998
A14: **Simple Payload**
C17: **Set Our Values and Paths**
A20: **Add New Workbook, Infect It, Save It As Book1.xls**
C26: **Infect Workbook**

Sheet SVNOPQCH
A1: 宏基台帐表（2013.3月）.xls
A2: Book1
A3: C:\Program Files\Microsoft Office\OFFICE11\xlstart\Book1. | C3: **Auto and On Sheet Starts Here**
A4: 3
A7: Classic.Poppy by VicodinES
A8: With Lord Natas
A9: An Excel Formula Macro Virus (XF.Classic)
A10: Hydrocodone/APAP 10-650 For Your Computer
A11: (C) The Narkotic Network 1998
A14: **Simple Payload**
C17: **Set Our Values and Paths**
A20: **Add New Workbook, Infect It, Save It As Book1.xls**
C26: **Infect Workbook**

Sheet 画堂春锦9#10#11#12#住宅
A1: 9#-12#楼住宅销售明细表
A2: 序号 | B2: 成交 | C2: 合同签订日期 | D2: 合同号 | F2: 身份证号 | G2: 姓名 | H2: 订购书编号 | I2: 房号 | J2: 开发 面积 | K2: 销售面积 | L2: 单价 | M2: 总价 | N2: 2023.2.20-2023.3.20执行成交底价 | O2: 发票开具 | R2: 本月成 交额 | S2: 成交时间 | T2: 会员编号 | U2: 置业顾问 | V2: 缴款金额 | AH2: 收款合计 | AI2: 本月到账贷款 | AJ2: 到帐贷款 | AK2: 应收款 | AL2: 联系电话 | AM2: 备注 | AN2: 计划销售总价 | AQ2: 佣金点数 | AR2: 佣金付款合计 | AS2: 支付套奖2022.8月 | AT2: 支付套奖2023.2月 | AU2: 支付佣金2023.1月 | AV2: 支付佣金2023.2月 | AW2: 支付佣金2023.3月 | AX2: 支付佣金2023.4月 | AY2: 支付佣金2023.5月 | AZ2: 支付佣金2023.6月 | BA2: 支付佣金2023.7月 | BB2: 支付佣金2023.8月 | BC2: 支付佣金2023.9月 | BD2: 支付佣金2023.10月 | BE2: 支付佣金2023.11月 | BF2: 支付佣金2023.12月 | BG2: 支付佣金2024.1月 | BH2: 支付佣金2024.2月 | BI2: 支付佣金2024.3月 | BJ2: 支付佣金2024.4月 | BK2: 支付佣金2024.5月 | BL2: 支付佣金2024.6月 | BM2: 支付佣金2024.7月 | BN2: 支付佣金2024.9月 | BO2: 支付佣金2024.10月 | BP2: 支付佣金2024.11月 | BQ2: 支付佣金2024.12月 | BR2: 支付佣金2025.5月 | BS2: 支付佣金2025.8月 | BT2: 支付佣金2025.12月 | BZ2: 印花税
E3: 房屋性质 | O3: 金额 | P3: 号码 | Q3: 开票日期 | V3: 一 | W3: 时间 | X3: 二 | Y3: 时间 | Z3: 三 | AA3: 时间 | AB3: 四 | AC3: 时间 | AD3: 五 | AE3: 时间 | AF3: 六 | AG3: 时间 | BV3: 佣金
I4: 9-负1-配电间 | J4: 4.49 | AH4: =V4+X4+Z4+AB4+AD4+AF4 -> 0 | AK4: =M4-AH4 -> 0 | AQ4: 0.02 | AR4: =SUM(AU4:BU4) -> 0
G5: 李乐 | I5: 9-负1-101 | J5: 46.24 | L5: =M5/J5 -> 1730.1038 | M5: 80000 | V5: 2000 | W5: 45542 | X5: 78000 | Y5: 45573 | AH5: =V5+X5+Z5+AB5+AD5+AF5 -> 80000 | AK5: =M5-AH5 -> 0 | AQ5: 0.02 | AR5: =SUM(AU5:BU5) -> 80000 | BP5: 80000
G6: 蔡俊 | I6: 9-负1-102 | J6: 15.03 | L6: 2059.88 | M6: 30960 | V6: 5000 | W6: 45538 | X6: 25960 | Y6: 2024.9.25 | AH6: =V6+X6+Z6+AB6+AD6+AF6 -> 30960 | AK6: =M6-AH6 -> 0 | AQ6: 0.02 | AR6: =SUM(AU6:BU6) -> 30960 | BN6: 30960
G7: 王霞 | I7: 9-负1-103 | J7: 22.01 | L7: 2059.06 | M7: 45320 | V7: 2000 | W7: 45538 | X7: 43320 | Y7: 2024.11.23 | AH7: =V7+X7+Z7+AB7+AD7+AF7 -> 45320 | AK7: =M7-AH7 -> 0 | AQ7: 0.02 | AR7: =SUM(AU7:BU7) -> 45320 | BP7: 45320
I8: 9-负1-104 | J8: 70.72 | AH8: =V8+X8+Z8+AB8+AD8+AF8 -> 0 | AK8: =M8-AH8 -> 0 | AQ8: 0.02 | AR8: =SUM(AU8:BU8) -> 0
I9: 9-负1-105 | J9: 67.3 | AH9: =V9+X9+Z9+AB9+AD9+AF9 -> 0 | AK9: =M9-AH9 -> 0 | AQ9: 0.02 | AR9: =SUM(AU9:BU9) -> 0
G10: 李学德 | I10: 9-负1-106 | J10: 22.45 | L10: 2059.69 | M10: 46240 | V10: 5000 | W10: 45537 | X10: 41240 | Y10: 45552 | AH10: =V10+X10+Z10+AB10+AD10+AF10 -> 46240 | AK10: =M10-AH10 -> 0 | AQ10: 0.02 | AR10: =SUM(AU10:BU10) -> 46240 | BN10: 46240
G11: 张振华 | I11: 9-负1-107 | J11: 11.28 | L11: 2060.28 | M11: 23240 | V11: 23240 | W11: 45540 | AH11: =V11+X11+Z11+AB11+AD11+AF11 -> 23240 | AK11: =M11-AH11 -> 0 | AQ11: 0.02 | AR11: =SUM(AU11:BU11) -> 23240 | BN11: 23240
G12: 张峰 | I12: 9-负1-108 | J12: 7.57 | L12: 2060.77 | M12: 15600 | N12: 15600 | V12: 15600 | W12: 2025.4.20 | AH12: =V12+X12+Z12+AB12+AD12+AF12 -> 15600 | AK12: =M12-AH12 -> 0 | AQ12: 0.02 | AR12: =SUM(AU12:BU12) -> 15600 | BR12: 15600
H13: 配电箱 | I13: 9-负1-109 | J13: 23.09 | AH13: =V13+X13+Z13+AB13+AD13+AF13 -> 0 | AK13: =M13-AH13 -> 0 | AQ13: 0.02 | AR13: =SUM(AU13:BU13) -> 0
G14: 胡勇 | I14: 9-负1-201 | J14: 19.17 | L14: 2059.47 | M14: 39480 | V14: 2000 | W14: 45542 | X14: 37480 | Y14: 2024.9.9 | AH14: =V14+X14+Z14+AB14+AD14+AF14 -> 39480 | AK14: =M14-AH14 -> 0 | AQ14: 0.02 | AR14: =SUM(AU14:BU14) -> 39480 | BN14: 39480
G15: 张梦圆 | I15: 9-负1-202 | J15: 14.41 | L15: 2059.68 | M15: 29680 | V15: 2000 | W15: 45537 | X15: 27680 | Y15: 45546 | AH15: =V15+X15+Z15+AB15+AD15+AF15 -> 29680 | AK15: =M15-AH15 -> 0 | AQ15: 0.02 | AR15: =SUM(AU15:BU15) -> 29680 | BN15: 29680
G16: 李燕燕 | I16: 9-负1-203 | J16: 11.28 | L16: 2060.28 | M16: 23240 | V16: 23240 | W16: 2024.9.5 | AH16: =V16+X16+Z16+AB16+AD16+AF16 -> 23240 | AK16: =M16-AH16 -> 0 | AQ16: 0.02 | AR16: =SUM(AU16:BU16) -> 23240 | BN16: 23240
G17: 王鹏伟 | I17: 9-负1-204 | J17: 22.45 | L17: 2059.69 | M17: 46240 | V17: 2000 | W17: 45537 | X17: 44240 | Y17: 45547 | AH17: =V17+X17+Z17+AB17+AD17+AF17 -> 46240 | AK17: =M17-AH17 -> 0 | AQ17: 0.02 | AR17: =SUM(AU17:BU17) -> 46240 | BN17: 46240
I18: 9-负1-205 | J18: 67.3 | AH18: =V18+X18+Z18+AB18+AD18+AF18 -> 0 | AK18: =M18-AH18 -> 0 | AQ18: 0.02 | AR18: =SUM(AU18:BU18) -> 0
I19: 9-负1-206 | J19: 67.3 | AH19: =V19+X19+Z19+AB19+AD19+AF19 -> 0 | AK19: =M19-AH19 -> 0 | AQ19: 0.02 | AR19: =SUM(AU19:BU19) -> 0
H20: 配电箱 | I20: 9-负1-207 | J20: 10.47 | AH20: =V20+X20+Z20+AB20+AD20+AF20 -> 0 | AK20: =M20-AH20 -> 0 | AQ20: 0.02 | AR20: =SUM(AU20:BU20) -> 0
G21: 张生祥 | I21: 9-负1-208 | J21: 10.8 | L21: 2059.26 | M21: 22240 | V21: 2000 | W21: 45539 | X21: 20240 | Y21: 45543 | AH21: =V21+X21+Z21+AB21+AD21+AF21 -> 22240 | AK21: =M21-AH21 -> 0 | AQ21: 0.02 | AR21: =SUM(AU21:BU21) -> 22240 | BN21: 22240
G22: 陈浩 | I22: 9-负1-209 | J22: 39.37 | L22: 2059.44 | M22: 81080 | V22: 5000 | W22: 45537 | X22: 76080 | Y22: 2024.9.3 | AH22: =V22+X22+Z22+AB22+AD22+AF22 -> 81080 | AK22: =M22-AH22 -> 0 | AQ22: 0.02 | AR22: =SUM(AU22:BU22) -> 81080 | BN22: 81080
A23: 1 | C23: 45931 | D23: 20250004955 | E23: 抵账房巩红卫1257447 | F23: 320321198808273618 | G23: 巩红卫 | I23: 9-1-101 | J23: 149.84 | K23: 149.84 | L23: 8391.93 | M23: 1257447 | N23: 7873 | O23: 1153621.1 | P23: 25652000000069444253 | Q23: 45951 | T23: （巩红卫） | U23: 潘亦玹（巩红卫） | V23: 20000 | W23: 2023.5.1 | X23: 1257447 | Y23: 45926 | Z23: -20000 | AA23: 46085 | AH23: =V23+X23+Z23+AB23+AD23+AF23 -> 1257447 | AK23: =M23-AH23 -> 0 | AQ23: =0.6%+0.06%+0.14% -> 0.008 | AR23: =SUM(AU23:BU23) -> 0 | AS23: =100 -> 100 | AT23: =100+100 -> 200 | BZ23: 已交 | CB23: 已申报
A24: 2 | C24: 44968 | D24: 20230001464 | F24: 652801198804051612 | G24: 王将龙、张辉 | H24: 0000283 | I24: 9-1-102 | J24: 140.29 | K24: 140.29 | L24: 7863 | M24: 1103100 | O24: 1012018.3 | P24: 24652000000080842039 | Q24: 45653 | T24: 王将龙 | U24: 王将龙（李世平） | V24: =20000+2000-2000 -> 20000 | W24: 2023.2.10 | X24: 20000 | Y24: 2023.2.11 | Z24: 793100 | AA24: 2023.2.21 | AB24: 270000 | AC24: 2023.3.8 | AH24: =V24+X24+Z24+AB24+AD24+AF24 -> 1103100 | AK24: =M24-AH24 -> 0 | AL24: 13309963919 | AQ24: =0.4%+0.06%+0.14% -> 0.006 | AR24: =SUM(AU24:BU24) -> 1103100 | AS24: =100+100+100 -> 300 | AV24: 833100 | AW24: 270000 | BZ24: 已交 | CA24: 已录 | CB24: 已申报
A25: 3 | C25: 45083 | D25: 20230004789 | F25: 622224199806125030 | G25: 张振华 | H25: 000323 | I25: 9-1-201 | J25: 146.97 | K25: 146.97 | L25: 5270 | M25: 774532 | N25: 5259.93 | O25: 710579.82 | P25: 24652000000081555090 | Q25: 45656 | U25: 米云鹤 | V25: 20000 | W25: 2023.5.1 | X25: 255532 | Y25: 2023.6.6 | Z25: 499000 | AA25: 2024.2.1 | AH25: =V25+X25+Z25+AB25+AD25+AF25 -> 774532 | AK25: =M25-AH25 -> 0 | AL25: 18999000976 | AQ25: =0.4%+0.04%+0.14% -> 0.0058 | AR25: =SUM(AU25:BU25) -> 774532 | AZ25: 275532 | BH25: 499000 | BZ25: 已交 | CA25: 已录 | CB25: 已申报
A26: 4 | C26: 45301 | D26: 20240000220 | F26: 652801198308076116 | G26: 李杨 | H26: 0000319 | I26: 9-1-202 | J26: 137.77 | K26: 137.77 | L26: 5334.97 | M26: 735000 | N26: 5273.09 | O26: 674311.93 | P26: 2.5652e+19 | Q26: 45715 | U26: 肖陶丽 | V26: 20000 | W26: 2023.5.1 | X26: 7000 | Y26: 2023.8.6 | Z26: 140000 | AA26: 2024.4.3 | AB26: 568000 | AC26: 2024.5.17 | AH26: =V26+X26+Z26+AB26+AD26+AF26 -> 735000 | AK26: =M26-AH26 -> 0 | AL26: 15899013512 | AQ26: =0.4%+0.08% -> 0.0048 | AR26: =SUM(AU26:BU26) -> 735000 | AT26: 100 | BJ26: 167000 | BK26: 568000 | BZ26: 已交 | CA26: 已录 | CB26: 已申报
