Workbook

Sheet 工资汇总表
A2: 基本信息 | H2: 其他项核算 | N2: 应发核算 | R2: 社保、公积金及个税 | Y2: 实发总额 | Z2: 备注
A3: 单位名称 | B3: 月末人数 | C3: 月工资标准 | D3: 应出勤天数 | E3: 基本薪资 | F3: 绩效奖金 | G3: 年度奖金 | H3: 加班工资 | I3: 绩效考核 | J3: 假期工资 | K3: 其他 | L3: 佣金 | M3: 小计 | N3: 当月日均工资 | O3: 当月日均奖金 | P3: 实际出勤天数 | Q3: 应发总额 | R3: 养老金 | S3: 失业金 | T3: 医疗金 | U3: 大额医疗保险 | V3: 公积金 | W3: 税金 | X3: 小计
A4: 新疆通力房地产开发有限公司库尔勒分公司 | B4: =工资表!#REF! -> #REF! | C4: =工资表!E10 -> 10000 | E4: =工资表!G10 -> 4800 | F4: =工资表!H10 -> 5200 | K4: =工资表!M10 -> 800 | L4: =工资表!N10 -> 40817.35 | M4: =工资表!O10 -> 41617.35 | Q4: =工资表!S10 -> 51617.35 | R4: =工资表!T10 -> 405.52 | S4: =工资表!U10 -> 25.35 | T4: =工资表!V10 -> 101.38 | U4: =工资表!W10 -> 21.12 | W4: =工资表!Y10 -> 0 | X4: =工资表!Z10 -> 803.37 | Y4: =工资表!AA10 -> 50813.98

Sheet 工资表
A1: 新疆通力房地产开发有限公司库尔勒分公司2026年6月工资表
A3: 序号 | B3: 基本信息 | J3: 其他项核算 | P3: 应发核算 | T3: 社保、公积金及个税 | AA3: 实发总额 | AB3: 备注
B4: 姓名 | C4: 岗位 | D4: 职务 序列 | E4: 月工资 标准 | F4: 应出 勤天 | G4: 基本 薪资 | H4: 绩效 奖金 | I4: 年度 奖金 | J4: 加班 工资 | K4: 绩效 考核 | L4: 假期 工资 | M4: 其他 | N4: 佣金 | O4: 小计 | P4: 日均 工资 | Q4: 日均 奖金 | R4: 实际 出勤 | S4: 应发总额 | T4: 养老金 | U4: 失业金 | V4: 医疗金 | W4: 大额 医保 | X4: 公积金 | Y4: 税金 | Z4: 小计
A5: 1 | B5: 余晓川 | C5: 法人代表 | F5: 21 | M5: 800 | O5: =SUM(J5:N5) -> 800 | P5: =G5/F5 -> 0 | Q5: =H5/F5 -> 0 | R5: =VLOOKUP(B5,考勤!B:AI,34,0) -> 21 | S5: =ROUND((P5*R5)+(Q5*R5)+O5,2) -> 800 | Z5: =SUM(T5:Y5) -> 0 | AA5: =ROUND(S5-Z5,2) -> 800
A6: 2 | B6: 陈江玲 | C6: 置业顾问 | D6: PA | E6: =4000+1000 -> 5000 | F6: 26 | G6: 2400 | H6: =E6-G6 -> 2600 | N6: 31870.72 | O6: =SUM(J6:N6) -> 31870.72 | P6: =G6/F6 -> 92.307692 | Q6: =H6/F6 -> 100 | R6: =VLOOKUP(B6,考勤!B:AI,34,0) -> 26 | S6: =ROUND((P6*R6)+(Q6*R6)+O6,2) -> 36870.72 | X6: 250 | Z6: =SUM(T6:Y6) -> 250 | AA6: =ROUND(S6-Z6,2) -> 36620.72
A7: 3 | B7: 石金 | C7: 营销经理 | D7: PA | N7: 592.77 | O7: =SUM(J7:N7) -> 592.77 | S7: =ROUND((P7*R7)+(Q7*R7)+O7,2) -> 592.77 | AA7: =ROUND(S7-Z7,2) -> 592.77
A8: 4 | B8: 任良彦 | C8: 营销副经理 | D8: PB | N8: 5431.26 | O8: =SUM(J8:N8) -> 5431.26 | S8: =ROUND((P8*R8)+(Q8*R8)+O8,2) -> 5431.26 | AA8: =ROUND(S8-Z8,2) -> 5431.26
A9: 5 | B9: 胡正辉 | C9: 置业顾问 | D9: PA | E9: =4000+1000 -> 5000 | F9: 26 | G9: 2400 | H9: =E9-G9 -> 2600 | N9: 2922.6 | O9: =SUM(J9:N9) -> 2922.6 | P9: =G9/F9 -> 92.307692 | Q9: =H9/F9 -> 100 | R9: =VLOOKUP(B9,考勤!B:AI,34,0) -> 26 | S9: =ROUND((P9*R9)+(Q9*R9)+O9,2) -> 7922.6 | T9: 405.52 | U9: 25.35 | V9: =101.38 -> 101.38 | W9: 21.12 | Z9: =SUM(T9:Y9) -> 553.37 | AA9: =ROUND(S9-Z9,2) -> 7369.23
B10: 合计 | E10: =SUM(E5:E9) -> 10000 | G10: =SUM(G5:G9) -> 4800 | H10: =SUM(H5:H9) -> 5200 | I10: =SUM(I5:I9) -> 0 | J10: =SUM(J5:J9) -> 0 | K10: =SUM(K5:K9) -> 0 | L10: =SUM(L5:L9) -> 0 | M10: =SUM(M5:M9) -> 800 | N10: =SUM(N5:N9) -> 40817.35 | ... Q10: =SUM(Q5:Q9) -> 200 | S10: =SUM(S5:S9) -> 51617.35 | T10: =SUM(T5:T9) -> 405.52 | U10: =SUM(U5:U9) -> 25.35 | V10: =SUM(V5:V9) -> 101.38 | W10: =SUM(W5:W9) -> 21.12 | X10: =SUM(X5:X9) -> 250 | Y10: =SUM(Y5:Y9) -> 0 | Z10: =SUM(Z5:Z9) -> 803.37 | AA10: =SUM(AA5:AA9) -> 50813.98
A11: 注： 自2026年2月1日起，由陈江玲、胡正辉直播。佣金为2026年5月佣金。
B12: 单位领导： | K12: 分管领导： | S12: 审核： | AA12: 制表：

Sheet 考勤
A1: 2026 | V1: 6 | X1: 月职工考勤表
A2: 2026 | B2: 单位: | C2: =工资汇总表!A4 -> 新疆通力房地产开发有限公司库尔勒分公司 | AK2: 46206
A3: 序号 | B3: 姓名 | C3: 职务工种 | D3: 出 勤 情 况 | AI3: 实际出勤天数 | AJ3: 公休节日天数 | AK3: 考 勤 天 数 | AZ3: 员工本人 签字
D4: =V1 -> 6 | T4: 月
D5: 1 | E5: 2 | F5: 3 | G5: 4 | H5: 5 | I5: 6 | J5: 7 | K5: 8 | L5: 9 | M5: 10 | N5: 11 | O5: 12 | P5: 13 | Q5: 14 | R5: 15 | S5: 16 | T5: 17 | U5: 18 | V5: 19 | W5: 20 | X5: 21 | Y5: 22 | Z5: 23 | AA5: 24 | AB5: 25 | AC5: 26 | AD5: 27 | AE5: 28 | AF5: 29 | AG5: 30 | AH5: 31 | AK5: 出勤√ | AL5: 出差 | AM5: 公休 | AN5: 病假 | AO5: 事假 | AP5: 旷工 | AQ5: 工伤 | AR5: 培训 | AS5: 冬休 | AT5: 休假 | AU5: 探亲 | AV5: 产假 | AW5: 陪护假 | AX5: 婚丧假 | AY5: 待岗
A6: 1 | B6: =工资表!B5 -> 余晓川 | C6: =工资表!C5 -> 法人代表 | D6: √ | E6: √ | F6: √ | G6: √ | H6: √ | I6: 公休 | J6: 公休 | K6: √ | L6: √ | M6: √ | N6: √ | O6: √ | P6: 公休 | Q6: 公休 | R6: √ | S6: √ | T6: √ | U6: √ | V6: 公休 | W6: 公休 | X6: 公休 | Y6: √ | Z6: √ | AA6: √ | AB6: √ | AC6: √ | AD6: 公休 | AE6: 公休 | AF6: √ | AG6: √ | AI6: =AK6+AL6+AR6 -> 21 | AJ6: =AM6 -> 9 | AK6: =COUNTIF($D6:$AH6,"√") -> 21 | AL6: =COUNTIF($D6:$AH6,"出差") -> 0 | AM6: =COUNTIF($D6:$AH6,"公休") -> 9 | AN6: =COUNTIF($D6:$AH6,"病假") -> 0 | AO6: =COUNTIF($D6:$AH6,"事假") -> 0 | AP6: =COUNTIF($D6:$AH6,"旷工") -> 0 | AQ6: =COUNTIF($D6:$AH6,"工伤") -> 0 | AR6: =COUNTIF($D6:$AH6,"培训") -> 0 | AS6: =COUNTIF($D6:$AH6,"冬休") -> 0 | AT6: =COUNTIF($D6:$AH6,"休假") -> 0 | AU6: =COUNTIF($D6:$AH6,"探亲") -> 0 | AV6: =COUNTIF($D6:$AH6,"产假") -> 0 | AW6: =COUNTIF($D6:$AH6,"陪护假") -> 0 | AX6: =COUNTIF($D6:$AH6,"婚丧假") -> 0 | AY6: =COUNTIF($D6:$AH6,"待岗") -> 0
A7: 3 | B7: =工资表!B6 -> 陈江玲 | C7: =工资表!C6 -> 置业顾问 | D7: √ | E7: √ | F7: √ | G7: √ | H7: √ | I7: √ | J7: √ | K7: 公休 | L7: √ | M7: √ | N7: √ | O7: √ | P7: √ | Q7: √ | R7: √ | S7: √ | T7: √ | U7: 公休 | V7: √ | W7: √ | X7: √ | Y7: √ | Z7: √ | AA7: √ | AB7: 公休 | AC7: √ | AD7: √ | AE7: √ | AF7: √ | AG7: 公休 | AI7: =AK7+AL7+AR7 -> 26 | AJ7: =AM7 -> 4 | AK7: =COUNTIF($D7:$AH7,"√") -> 26 | AL7: =COUNTIF($D7:$AH7,"出差") -> 0 | AM7: =COUNTIF($D7:$AH7,"公休") -> 4 | AN7: =COUNTIF($D7:$AH7,"病假") -> 0 | AO7: =COUNTIF($D7:$AH7,"事假") -> 0 | AP7: =COUNTIF($D7:$AH7,"旷工") -> 0 | AQ7: =COUNTIF($D7:$AH7,"工伤") -> 0 | AR7: =COUNTIF($D7:$AH7,"培训") -> 0 | AS7: =COUNTIF($D7:$AH7,"冬休") -> 0 | AT7: =COUNTIF($D7:$AH7,"休假") -> 0 | AU7: =COUNTIF($D7:$AH7,"探亲") -> 0 | AV7: =COUNTIF($D7:$AH7,"产假") -> 0 | AW7: =COUNTIF($D7:$AH7,"陪护假") -> 0 | AX7: =COUNTIF($D7:$AH7,"婚丧假") -> 0 | AY7: =COUNTIF($D7:$AH7,"待岗") -> 0
A8: 4 | B8: =工资表!B9 -> 胡正辉 | C8: =工资表!C9 -> 置业顾问 | D8: √ | E8: √ | F8: √ | G8: 公休 | H8: √ | I8: √ | J8: √ | K8: √ | L8: √ | M8: √ | N8: 公休 | O8: √ | P8: √ | Q8: √ | R8: √ | S8: √ | T8: √ | U8: 公休 | V8: √ | W8: √ | X8: √ | Y8: √ | Z8: √ | AA8: √ | AB8: √ | AC8: 公休 | AD8: √ | AE8: √ | AF8: √ | AG8: √ | AI8: =AK8+AL8+AR8 -> 26 | AJ8: =AM8 -> 4 | AK8: =COUNTIF($D8:$AH8,"√") -> 26 | AL8: =COUNTIF($D8:$AH8,"出差") -> 0 | AM8: =COUNTIF($D8:$AH8,"公休") -> 4 | AN8: =COUNTIF($D8:$AH8,"病假") -> 0 | AO8: =COUNTIF($D8:$AH8,"事假") -> 0 | AP8: =COUNTIF($D8:$AH8,"旷工") -> 0 | AQ8: =COUNTIF($D8:$AH8,"工伤") -> 0 | AR8: =COUNTIF($D8:$AH8,"培训") -> 0 | AS8: =COUNTIF($D8:$AH8,"冬休") -> 0 | AT8: =COUNTIF($D8:$AH8,"休假") -> 0 | AU8: =COUNTIF($D8:$AH8,"探亲") -> 0 | AV8: =COUNTIF($D8:$AH8,"产假") -> 0 | AW8: =COUNTIF($D8:$AH8,"陪护假") -> 0 | AX8: =COUNTIF($D8:$AH8,"婚丧假") -> 0 | AY8: =COUNTIF($D8:$AH8,"待岗") -> 0
B9: 注：
E10: 单位领导： | V10: 审核： | AI10: 制表：

Sheet 校验
A2: 序号 | B2: 姓名 | C2: 实际出勤天数 | D2: 月工资标准 | E2: 月度应发 | F2: 差额 | G2: 备注
A3: 1 | B3: =工资表!#REF! -> #REF! | C3: =工资表!#REF! -> #REF! | D3: =(VLOOKUP(B3,工资表!#REF!,6,0)+VLOOKUP(B3,工资表!#REF!,7,0))/工资表!#REF!*VLOOKUP(B3,考勤!#REF!,34,0) -> #REF! | E3: =VLOOKUP(B3,工资表!#REF!,18,0) -> #REF! | F3: =D3-E3 -> #REF!
A4: 2 | B4: =工资表!B5 -> 余晓川 | C4: =工资表!R5 -> 21 | D4: =(VLOOKUP(B4,工资表!B5:G5,6,0)+VLOOKUP(B4,工资表!B5:H5,7,0))/工资表!F5*VLOOKUP(B4,考勤!B6:AI6,34,0) -> 0 | E4: =VLOOKUP(B4,工资表!B5:S5,18,0) -> 800 | F4: =D4-E4 -> -800 | G4: 补贴
A5: 3 | B5: =工资表!#REF! -> #REF! | C5: =工资表!#REF! -> #REF! | D5: =(VLOOKUP(B5,工资表!#REF!,6,0)+VLOOKUP(B5,工资表!#REF!,7,0))/工资表!#REF!*VLOOKUP(B5,考勤!B8:AI8,34,0) -> #REF! | E5: =VLOOKUP(B5,工资表!#REF!,18,0) -> #REF! | F5: =D5-E5 -> #REF! | G5: 佣金
A6: 4 | B6: =工资表!B6 -> 陈江玲 | C6: =工资表!R6 -> 26 | D6: =(VLOOKUP(B6,工资表!B6:G6,6,0)+VLOOKUP(B6,工资表!B6:H6,7,0))/工资表!F6*VLOOKUP(B6,考勤!#REF!,34,0) -> #REF! | E6: =VLOOKUP(B6,工资表!B6:S6,18,0) -> 36870.72 | F6: =D6-E6 -> #REF!
A7: 5 | B7: =工资表!#REF! -> #REF! | C7: =工资表!#REF! -> #REF! | D7: =(VLOOKUP(B7,工资表!#REF!,6,0)+VLOOKUP(B7,工资表!#REF!,7,0))/工资表!#REF!*VLOOKUP(B7,考勤!#REF!,34,0) -> #REF! | E7: =VLOOKUP(B7,工资表!#REF!,18,0) -> #REF! | F7: =D7-E7 -> #REF! | G7: 佣金
A8: 6 | B8: =工资表!#REF! -> #REF! | C8: =工资表!#REF! -> #REF! | D8: =(VLOOKUP(B8,工资表!#REF!,6,0)+VLOOKUP(B8,工资表!#REF!,7,0))/工资表!#REF!*VLOOKUP(B8,考勤!#REF!,34,0) -> #REF! | E8: =VLOOKUP(B8,工资表!#REF!,18,0) -> #REF! | F8: =D8-E8 -> #REF! | G8: 佣金
A9: 7 | B9: =工资表!#REF! -> #REF! | C9: =工资表!#REF! -> #REF! | D9: =(VLOOKUP(B9,工资表!#REF!,6,0)+VLOOKUP(B9,工资表!#REF!,7,0))/工资表!#REF!*VLOOKUP(B9,考勤!#REF!,34,0) -> #REF! | E9: =VLOOKUP(B9,工资表!#REF!,18,0) -> #REF! | F9: =D9-E9 -> #REF! | G9: 佣金
A10: 8 | B10: =工资表!#REF! -> #REF! | C10: =工资表!#REF! -> #REF! | D10: =(VLOOKUP(B10,工资表!#REF!,6,0)+VLOOKUP(B10,工资表!#REF!,7,0))/工资表!#REF!*VLOOKUP(B10,考勤!#REF!,34,0) -> #REF! | E10: =VLOOKUP(B10,工资表!#REF!,18,0) -> #REF! | F10: =D10-E10 -> #REF! | G10: 佣金
A11: 9 | B11: =工资表!B9 -> 胡正辉 | C11: =工资表!R9 -> 26 | D11: =(VLOOKUP(B11,工资表!B9:G9,6,0)+VLOOKUP(B11,工资表!B9:H9,7,0))/工资表!F9*VLOOKUP(B11,考勤!#REF!,34,0) -> #REF! | E11: =VLOOKUP(B11,工资表!B9:S9,18,0) -> 7922.6 | F11: =D11-E11 -> #REF!
A12: 10 | B12: =工资表!#REF! -> #REF! | C12: =工资表!#REF! -> #REF! | D12: =(VLOOKUP(B12,工资表!#REF!,6,0)+VLOOKUP(B12,工资表!#REF!,7,0))/工资表!#REF!*VLOOKUP(B12,考勤!#REF!,34,0) -> #REF! | E12: =VLOOKUP(B12,工资表!#REF!,18,0) -> #REF! | F12: =D12-E12 -> #REF!

Sheet 职务序列取数
B2: 职务序列 | C2: 月度基本工资比例 | D2: 月度绩效奖金比例 | E2: 年度奖金比例
B3: A1 | C3: 1 | D3: 0 | E3: 0
B4: A2 | C4: 0.375 | D4: 0.375 | E4: 0.25
B5: A3 | C5: 0.375 | D5: 0.375 | E5: 0.25
B6: A4 | C6: 0.375 | D6: 0.375 | E6: 0.25
B7: A5 | C7: 0.375 | D7: 0.375 | E7: 0.25
B8: M1 | C8: 0.48 | D8: 0.32 | E8: 0.2
B9: M2 | C9: 0.48 | D9: 0.32 | E9: 0.2
B10: M3 | C10: 0.48 | D10: 0.32 | E10: 0.2
B11: PM | C11: 0.7 | D11: 0.3 | E11: 0
B12: PB | C12: 0.8 | D12: 0.2 | E12: 0
B13: PA
