Workbook
Name sheet0_f_fdckfxmbh: #REF!
Name 取得土地使用权所支付的金额: '[1]项目分类（不可删除）'!$B$3:$D$3
Name 土地征用及拆迁补偿费: '[1]项目分类（不可删除）'!$B$4:$H$4

Sheet 计算税金
B1: 画堂春锦苑预收款
C2: 预收款计未开票 | G2: 预收款计未开票税金 | K2: 预收款未开票-已开票 | L2: 未开票余额 | M2: 预收款直接记收入
B3: 2024年 | C3: 房款 | D3: 租金 | E3: 储藏间 | F3: 小计 | G3: 房款税金 | H3: 租金税金 | I3: 储藏间税金 | J3: 小计 | M3: 房款 | N3: 税金
B4: 8月 | C4: 278868823 | D4: 577229 | F4: =C4+D4+E4 -> 279446052 | G4: =C4/1.09*0.09 -> 23025866 | H4: =D4/1.09*0.09 -> 47661.11 | I4: =E4/1.09*0.09 -> 0 | J4: =G4+H4+I4 -> 23073527 | P4: =J4+N4 -> 23073527
B5: 9月 | C5: 16205837 | D5: 900394 | E5: 1178000 | F5: =C5+D5+E5 -> 18284231 | G5: =C5/1.09*0.09 -> 1338096.6 | H5: =D5/1.09*0.09 -> 74344.459 | I5: =E5/1.09*0.09 -> 97266.055 | J5: =G5+H5+I5 -> 1509707.1 | K5: 37431244 | P5: =J5+N5 -> 1509707.1
B6: 10月 | D6: 56960 | E6: 304240 | F6: =C6+D6+E6 -> 361200 | G6: =C6/1.09*0.09 -> 0 | H6: =D6/1.09*0.09 -> 4703.1193 | I6: =E6/1.09*0.09 -> 25120.734 | J6: =G6+H6+I6 -> 29823.853 | K6: 16338184 | M6: 10864302 | N6: =M6/1.09*0.09 -> 897052.46 | P6: =J6+N6 -> 926876.31
B7: 11月 | D7: =-106935+249275 -> 142340 | E7: 108360 | F7: =C7+D7+E7 -> 250700 | G7: =C7/1.09*0.09 -> 0 | H7: =D7/1.09*0.09 -> 11752.844 | I7: =E7/1.09*0.09 -> 8947.156 | J7: =G7+H7+I7 -> 20700 | K7: =31364278+18734175 -> 50098453 | M7: 2110283 | N7: =M7/1.09*0.09 -> 174243.55 | P7: =J7+N7 -> 194943.55
B8: 12月 | C8: 14938832 | D8: 133155 | E8: 33880 | F8: =C8+D8+E8 -> 15105867 | G8: =C8/1.09*0.09 -> 1233481.5 | H8: =D8/1.09*0.09 -> 10994.45 | I8: =E8/1.09*0.09 -> 2797.4312 | J8: =G8+H8+I8 -> 1247273.4 | K8: =58971415+3182181 -> 62153596 | M8: =1444648+444367 -> 1889015 | N8: =M8/1.09*0.09 -> 155973.72 | P8: =J8+N8 -> 1403247.1
P9: =J9+N9 -> 0
P10: =J10+N10 -> 0
P11: =J11+N11 -> 0
B12: 小计 | C12: =SUM(C4:C11) -> 310013492 | D12: =SUM(D4:D11) -> 1810078 | E12: =SUM(E4:E11) -> 1624480 | F12: =SUM(F4:F11) -> 313448050 | G12: =SUM(G4:G11) -> 25597444 | H12: =SUM(H4:H11) -> 149455.98 | I12: =SUM(I4:I11) -> 134131.38 | J12: =SUM(J4:J11) -> 25881032 | K12: =SUM(K4:K11) -> 166021477 | L12: =C12-K12 -> 143992015 | M12: =SUM(M4:M11) -> 14863600 | N12: =SUM(N4:N11) -> 1227269.7 | P12: =SUM(P4:P11) -> 27108301
H16: =C12+M12 -> 324877092
H17: 306110626
H18: =H16-H17 -> 18766466

Sheet 汇总表
A1: 新疆通力画堂春锦苑 楼盘销售月报（2024.12）
A2: 序号 | B2: 楼号 | C2: 开发数量 | D2: 可销售 | E2: 本月销售情况 | J2: 开发面积（m2） | K2: 可销售面积（m2） | L2: 累计销售情况 | T2: 未销售数（含置换） | W2: 备注
C3: 套数 | D3: 套数 | E3: 成交 套数 | F3: 成交总金额（元） | G3: 已收取房款（元） | H3: 施工许可证 | L3: 成交 套数 | M3: 成交金额（元） | N3: 成交面积（m2） | O3: 累计收取房款（元） | P3: 本月到账贷款 | Q3: 累计到帐贷款 | R3: 房款合计 | S3: 应收款 | T3: 套数 | U3: 未销售面积（m2） | V3: 金额（元）
A4: 1 | B4: 画堂春锦苑一期13#14#15#17#18#楼（商业） | C4: ='画堂春锦13#14#15#17#18# 商铺'!A148 -> 141 | D4: =C4 -> 141 | E4: ='画堂春锦13#14#15#17#18# 商铺'!B151 -> 3 | G4: ='画堂春锦13#14#15#17#18# 商铺'!T151 -> 4092229 | J4: ='画堂春锦13#14#15#17#18# 商铺'!K151 -> 15319.5 | K4: =J4-524.4-152.79-15.25-16.01 -> 14611.05 | L4: =121+4 -> 125 | M4: ='画堂春锦13#14#15#17#18# 商铺'!N151 -> 165714080 | N4: ='画堂春锦13#14#15#17#18# 商铺'!L151 -> 10769.82 | O4: ='画堂春锦13#14#15#17#18# 商铺'!AL151 -> 151464283 | P4: ='画堂春锦13#14#15#17#18# 商铺'!AM151 -> 0 | Q4: ='画堂春锦13#14#15#17#18# 商铺'!AN151 -> 0 | R4: =O4+Q4 -> 151464283 | S4: =M4-R4 -> 14249797 | T4: =D4-L4 -> 16 | U4: =K4-N4 -> 3841.23
A5: 2 | B5: 画堂春锦苑一期9#10#11#12#楼（住宅) | C5: ='画堂春锦9#10#11#12#住宅'!A332 -> 242 | D5: =C5 -> 242 | E5: ='画堂春锦9#10#11#12#住宅'!B333 -> 0 | G5: ='画堂春锦9#10#11#12#住宅'!R333 -> 2002987 | J5: ='画堂春锦9#10#11#12#住宅'!J333 -> 31331.37 | K5: =J5-4.49-22.24-19.83-4.39-548.24-753.94-625.87-615.6 -> 28736.77 | L5: =225 -> 225 | M5: ='画堂春锦9#10#11#12#住宅'!M333 -> 159591395 | N5: ='画堂春锦9#10#11#12#住宅'!K333 -> 27181.73 | O5: ='画堂春锦9#10#11#12#住宅'!AH333 -> 155954393 | P5: ='画堂春锦9#10#11#12#住宅'!AI333 -> 0 | Q5: ='画堂春锦9#10#11#12#住宅'!AJ333 -> 0 | R5: =O5+Q5 -> 155954393 | S5: =M5-R5 -> 3637002 | T5: =D5-L5 -> 17 | U5: =K5-N5 -> 1555.04 | AD5: 税目 | AE5: 摘要 | AF5: 税金所属期 | AG5: 计税数m² （1） | AH5: 标准 （2） | AI5: 税额 （1）*（2） | AJ5: 备注
A6: 3 | B6: 画堂春锦苑二期1#-3#5#/7#楼住宅销售明细表 | C6: ='画堂春锦苑1#2#3#5#7#楼住宅销售明细表'!A439 -> 362 | D6: =C6 -> 362 | E6: ='画堂春锦苑1#2#3#5#7#楼住宅销售明细表'!B440 -> 9 | G6: ='画堂春锦苑1#2#3#5#7#楼住宅销售明细表'!R440 -> 7956921 | J6: ='画堂春锦苑1#2#3#5#7#楼住宅销售明细表'!J440 -> 48195.5 | K6: =J6-693.5-949.92-60.09-743.78-560.48-557.5 -> 44630.23 | L6: =256+9 -> 265 | M6: ='画堂春锦苑1#2#3#5#7#楼住宅销售明细表'!M440 -> 202447482 | N6: ='画堂春锦苑1#2#3#5#7#楼住宅销售明细表'!K440 -> 36462.34 | O6: ='画堂春锦苑1#2#3#5#7#楼住宅销售明细表'!AH440 -> 183526817 | P6: ='画堂春锦9#10#11#12#住宅'!AI337 -> 0 | Q6: ='画堂春锦苑1#2#3#5#7#楼住宅销售明细表'!AJ440 -> 0 | R6: =O6+Q6 -> 183526817 | S6: =M6-R6 -> 18920665 | T6: =D6-L6 -> 97 | U6: =K6-N6 -> 8167.89 | AD6: 工会经费 | AE6: 2024.10.1-2024.12.31 | AG6: =144632+133147+142991 -> 420770 | AH6: 0.02 | AI6: =AG6*AH6 -> 8415.4
A7: 4 | B7: 画堂春锦苑二期8#楼住宅销售明细表 | C7: ='画堂春锦苑8#楼明细表'!A89 -> 66 | D7: =C7 -> 66 | E7: ='画堂春锦苑8#楼明细表'!B91 -> 1 | G7: ='画堂春锦苑8#楼明细表'!R91 -> 5863000 | J7: ='画堂春锦苑8#楼明细表'!J91 -> 9054.69 | K7: =J7-745.73 -> 8308.96 | L7: =40+8 -> 48 | M7: ='画堂春锦苑8#楼明细表'!M91 -> 37042983 | N7: ='画堂春锦苑8#楼明细表'!K91 -> 6166.21 | O7: ='画堂春锦苑8#楼明细表'!AH91 -> 31435199 | P7: ='画堂春锦9#10#11#12#住宅'!AI338 -> 0 | Q7: ='画堂春锦苑8#楼明细表'!AJ91 -> 0 | R7: =O7+Q7 -> 31435199 | S7: ='画堂春锦苑8#楼明细表'!AK91 -> 5607784 | T7: =D7-L7 -> 18 | U7: =K7-N7 -> 2142.75
A8: 5 | B8: 画堂春锦苑住宅4#6# | C8: ='画堂春锦苑住宅4#6#'!A168 -> 132 | D8: =C8 -> 132 | E8: ='画堂春锦苑住宅4#6#'!B168 -> 6 | G8: ='画堂春锦苑住宅4#6#'!R168 -> 1964000 | J8: ='画堂春锦苑住宅4#6#'!J168 -> 19425.76 | K8: =J8-744.94-830.47 -> 17850.35 | L8: =5+1 -> 6 | M8: ='画堂春锦苑住宅4#6#'!M168 -> 10613083 | N8: ='画堂春锦苑住宅4#6#'!K168 -> 1663.21 | O8: ='画堂春锦苑住宅4#6#'!AH168 -> 2810708 | R8: =O8+Q8 -> 2810708 | T8: =D8-L8 -> 126 | U8: =K8-N8 -> 16187.14
A9: 6 | B9: 画堂春锦苑二期商业16#19#（入会） | C9: ='画堂春锦苑商业16#19#'!A63 -> 58 | D9: =C9 -> 58 | E9: ='画堂春锦苑商业16#19#'!B64 -> 4 | G9: ='画堂春锦苑商业16#19#'!R64 -> 5075653 | J9: ='画堂春锦苑商业16#19#'!J64 -> 5820.19 | K9: =J9-92.29-1005.66 -> 4722.24 | M9: ='画堂春锦苑商业16#19#'!M64 -> 31523674 | O9: ='画堂春锦苑商业16#19#'!AH64 -> 9187653 | T9: =D9-L9 -> 58
A11: 合计 | C11: =SUM(C4:C9) -> 1001 | D11: =SUM(D4:D9) -> 1001 | E11: =SUM(E4:E9) -> 23 | F11: =SUM(F4:F9) -> 0 | G11: =SUM(G4:G9) -> 26954790 | J11: =SUM(J4:J9) -> 129147.01 | K11: =SUM(K4:K9) -> 118859.6 | L11: =SUM(L4:L9) -> 669 | M11: =SUM(M4:M9) -> 606932697 | N11: =SUM(N4:N9) -> 82243.31 | O11: =SUM(O4:O9) -> 534379053 | P11: =SUM(P4:P9) -> 0 | Q11: =SUM(Q4:Q9) -> 0 | ... S11: =SUM(S4:S9) -> 42415248 | T11: =SUM(T5:T9) -> 316 | U11: =SUM(U4:U9) -> 31894.05 | V11: =SUM(V4:V9) -> 0
F12: 收会费、储藏间定金 | G12: =165000+28880 -> 193880 | N12: 系统 | O12: =534167417+213551 -> 534380968 | R12: 马桂香1000元会费未登台账，未收到会费单
F13: 会费转预收 | G13: =4000000+5000+1 -> 4005001 | N13: 账面 | O13: =207552911+1624480+451489+12000 -> 209640880 | P13: =278868823+16205837+10864302+2110283+1889015+2370546+12568286 -> 324877092
F14: 预收总计 | G14: =G11-G12+G13 -> 30765911 | N14: 租铺意向金 | P14: 账套有，台账不录
F15: 面积减少退款 | G15: =-2916-24569 -> -27485 | H15: 商业面积差24569 住宅面积差2916 | N15: 履约保证金 | O15: 162489 | P15: 账套有，台账不录
F16: 已报税退房 | G16: =20000+30000 -> 50000 | H16: 银行存款日记账SGRJZ2680退胡胜国画堂春锦苑定金 银行存款日记账SGRJZ2680退凌亚彬画堂春锦苑定金 | N16: 与系统差 | O16: =O11-O12-G15 -> 25570 | P16: 面积差退款，系统未减少24570
G17: 20000 | H17: 银行存款日记账SGRJZ2680退屈淑红画堂春锦苑定金 | N17: 与账面差 | O17: =O11-O13-P13+O14+O15 -> 23570
G19: 20000 | H19: 银行存款日记账SGRJZ2680退画高彬堂春锦苑定金
G20: 20000 | H20: 银行存款日记账SGRJZ2680退胡胜国画堂春锦苑定金
G22: =G14-G16-G17-G18-G19-G20 -> 30655911
B23: 新疆通力房地产开发库尔勒二分公司销售不动产税金计算表（2024.11月）
B24: 项目名称 | D24: 画堂春锦苑一期住宅9#-12# | F24: 画堂春锦苑二期住宅1#-3#5#7# | H24: 画堂春锦苑一期商业13#-15#17#18# | J24: 画堂春锦苑8#楼 | L24: 储藏间 | M24: 画堂春锦苑住宅4#6# | O24: 画堂春锦苑商业16#19# | Z24: 画堂春锦苑游泳池设备房设备安装工程专业施工分包合同 | AA24: 乌鲁木齐捷顺达工贸有限公司 | AB24: 195000 | AC24: 0.0003 | AD24: =AB24*AC24 -> 58.5 | AJ24: 2024.10.1 | AK24: 20240005549 | AM24: 412724197310186410 | AN24: 孙光立、王俊丽 | AO24: 1427823
B25: 预收合计 | D25: =D27+E27 -> 1974108 | F25: =F27+G27 -> 7956921 | H25: =H27+I27 -> 4042229 | J25: =J27+K27 -> 5823000 | L25: =L27 -> 28880 | M25: =M27+N27 -> 1944000 | O25: =O27 -> 8915653 | S25: =D25+F25+H25+J25+M25+O25 -> 30655911 | Z25: 画堂春锦苑4#6#住宅楼16#19#商业楼房产测绘项目 | AA25: 新疆科达宏祥测绘有限公司 | AB25: 14926.87 | AC25: 0.0003 | AD25: =AB25*AC25 -> 4.478061 | AJ25: 2024.10.1 | AK25: 20240005511 | AL25: 0000918 | AM25: 413023198401080786 | AN25: 刘建云 | AO25: 2560000
D26: 144㎡以下 | E26: 144以上 | F26: 144㎡以下 | G26: 144以上 | H26: 非普通 | J26: 144㎡以下 | K26: 144㎡以上 | L26: 储藏间 | M26: 144㎡以下 | N26: 144㎡以上 | O26: 非普通 | S26: 合计应缴 | Z26: 画堂春锦苑竣工测量建设项目测绘技术服务 | AA26: 新疆天拓空间信息测绘有限公司 | AB26: 31200 | AC26: 0.0003 | AD26: =AB26*AC26 -> 9.36 | AJ26: 2024.11.4 | AK26: 20240006442 | AL26: 0000747 | AM26: 320321198002133624 | AN26: 李红艳 | AO26: 822336
B27: 预收 | C27: 税率 | D27: ='画堂春锦9#10#11#12#住宅'!R334 -> 1974108 | E27: ='画堂春锦9#10#11#12#住宅'!R335 -> 0 | F27: ='画堂春锦苑1#2#3#5#7#楼住宅销售明细表'!R441-G18 -> 7279799 | G27: ='画堂春锦苑1#2#3#5#7#楼住宅销售明细表'!R442 -> 677122 | H27: ='画堂春锦13#14#15#17#18# 商铺'!T155-G16 -> 4042229 | J27: ='画堂春锦苑8#楼明细表'!R94-G17-G20 -> 4308000 | K27: ='画堂春锦苑8#楼明细表'!R95 -> 1515000 | L27: ='画堂春锦9#10#11#12#住宅'!R337 -> 28880 | M27: ='画堂春锦苑住宅4#6#'!R170-G19 -> 849000 | N27: ='画堂春锦苑住宅4#6#'!R171 -> 1095000 | O27: ='画堂春锦苑商业16#19#'!R68 -> 8915653 | Z27: 画堂春锦苑隔离墩采购及安装合同 | AA27: 巴州青橄榄电子科技有限公司 | AB27: 9450 | AC27: 0.0003 | AD27: =AB27*AC27 -> 2.835 | AJ27: 2024.11.5 | AK27: 20240006451 | AL27: 0000748 | AM27: 320321198002133624 | AN27: 李红艳 | AO27: 822336
B28: 预缴增值税 | C28: 0.03 | F28: =F25/1.09*C28 -> 218997.83 | J28: =J25/1.09*C28 -> 160266.06 | M28: =M25/1.09*C28 -> 53504.587 | O28: =O27/1.09*C28 -> 245384.94 | S28: =D28+F28+H28+J28+M28+O28 -> 678153.41 | Z28: 房产测绘合同 | AA28: 库尔勒天平房地产评估有限责任公司 | AB28: 4641.44 | AC28: 0.0003 | AD28: =AB28*AC28 -> 1.392432 | AJ28: 2024.10.10 | AK28: 20240006011 | AL28: 0000719 | AM28: 620121198508167215 | AN28: 苏生宝 | AO28: 850000
B29: 城建税 | C29: 0.07 | F29: =F28*C29 -> 15329.848 | H29: =H28*C29 -> 0 | J29: =J28*C29 -> 11218.624 | M29: =M28*C29 -> 3745.3211 | O29: =O28*C29 -> 17176.946 | S29: =D29+F29+H29+J29+M29+O29 -> 47470.739 | Z29: 画堂春锦苑停车设备采购及安装工程专业施工成本合同 | AA29: 巴州方程视广告有限公司 | AB29: 117640 | AC29: 0.0003 | AD29: =AB29*AC29 -> 35.292 | AJ29: 2024.10.5 | AK29: 20240005853 | AL29: 0000718 | AM29: 620121198508167215 | AN29: 苏生宝 | AO29: 850000
B30: 教育费附加 | C30: 0.03 | D30: =D28*C30 -> 0 | F30: =F28*C30 -> 6569.9348 | H30: =H28*C30 -> 0 | J30: =J28*C30 -> 4807.9817 | M30: =M28*C30 -> 1605.1376 | O30: =O28*C30 -> 7361.5483 | S30: =D30+F30+H30+J30+M30+O30 -> 20344.602 | Z30: 地名数字门牌制作合同 | AA30: 新疆中准标准化服务有限责任公司 | AB30: 26930 | AC30: 0.0003 | AD30: =AB30*AC30 -> 8.079 | AJ30: 2024.10.1 | AK30: 20240005488 | AL30: 抵账高2964114 | AM30: 320321197012203660 | AN30: 巩凤华 | AO30: 2964114
B31: 地方教育附加 | C31: 0.02 | D31: =D28*C31 -> 0 | F31: =F28*C31 -> 4379.9565 | H31: =H28*C31 -> 0 | J31: =J28*C31 -> 3205.3211 | M31: =M28*C31 -> 1070.0917 | O31: =O28*C31 -> 4907.6989 | S31: =D31+F31+H31+J31+M31+O31 -> 13563.068 | Z31: 画堂春锦苑IC卡单项付费电表采购 | AA31: 库尔勒亿恒拓电力器材经营部 | AB31: 25956 | AC31: 0.0003 | AD31: =AB31*AC31 -> 7.7868 | AJ31: 2024.10.1 | AK31: 20240005606 | AL31: 0001087 | AM31: 652801200110273712 | AN31: 牛燕 | AO31: 1178483
B32: 土地增值税 | C32: 0.03 | F32: =G27/1.09*C32 -> 18636.385 | H32: =H25/1.09*C32 -> 111254.01 | J32: =K27/1.09*C32 -> 41697.248 | M32: =N27/1.09*C32 -> 30137.615 | O32: =O27/1.09*C32 -> 245384.94 | S32: =D32+F32+H32+J32+M32+O32 -> 447110.2 | Z32: 画堂春锦苑游泳池设备用房桩基基础施工工程专业施工承包合同 | AA32: 山东长龙三辉建设工程有限公司 | AB32: 120000 | AC32: 0.0003 | AD32: =AB32*AC32 -> 36 | AJ32: 2024.10.22 | AK32: 20240006221 | AM32: 61042198909210094 | AN32: 张依涵 凌亚彬 退 | AO32: 1089787
B33: 土地增值税 | C33: 0.01 | D33: =D27/1.09*C33 -> 18111.083 | F33: =F27/1.09*C33 -> 66787.147 | J33: =J27/1.09*C33 -> 39522.936 | M33: =M27/1.09*0.01 -> 7788.9908 | S33: =D33+F33+H33+J33+M33+O33 -> 132210.16 | Z33: 画堂春锦苑二期交付围挡工程专业施工分包合同 | AA33: 新疆汇坤建设工程有限公司 | AB33: 82875 | AC33: 0.0003 | AD33: =AB33*AC33 -> 24.8625 | AJ33: 2024.10.1 | AK33: 20240005533 | AM33: 510626199311195624 | AN33: 唐晓霜 | AO33: 682460
B34: 印花税 | C34: 0.0005 | D34: =AO122*C34 -> 41724.34 | F34: =AD40 -> 251.93468 | S34: =D34+F34+H34+J34+M34+O34 -> 41976.275 | Z34: 画堂春锦苑13#14#16#17#19#商业电梯监控采购及安装工程专业施工承包合同 | AA34: 巴州青橄榄电子科技有限公司 | AB34: 34762.96 | AC34: 0.0003 | AD34: =AB34*AC34 -> 10.428888 | AJ34: 2024.10.2 | AK34: 20240005663 | AL34: 0000706 | AM34: 450902199407142761 | AN34: 黄婷 | AO34: 910000
B35: 个人所得税 | D35: 9909.72 | S35: =D35 -> 9909.72 | Z35: 画堂春锦苑挑檐防水维修（局部）工程专业施工分包合同（13#-15#17#18#） | AA35: 新疆汇坤建设工程有限公司 | AB35: 40000 | AC35: 0.0003 | AD35: =AB35*AC35 -> 12 | AJ35: 2024.10.2 | AK35: 20240005641 | AL35: 0000726 | AM35: 62222519850915032X | AN35: 郭莉莉 | AO35: 1548800
B36: 房产税 | C36: 从租（不含税租金*12%） | D36: =AH51 -> 6922.9578 | S36: =D36+F36+H36+J36+M36+O36 -> 6922.9578 | Z36: 画堂春锦苑停车护栏采购及安装工程专业施工承包合同 | AA36: 巴州方程视广告有限公司 | AB36: 10400 | AC36: 0.0003 | AD36: =AB36*AC36 -> 3.12 | AJ36: 2024.10.3 | AK36: 20240005749 | AL36: 0000732 | AM36: 362323197903237815 | AN36: 王德中 | AO36: 403970
C37: 从价自用（价值*70%*1.2%） | S37: =D37+F37+H37+J37+M37+O37 -> 0 | Z37: 画堂春锦苑门斗亮化工程专业施工承包合同（1-12#楼门斗亮化） | AA37: 巴州方程视广告有限公司 | AB37: 72000 | AC37: 0.0003 | AD37: =AB37*AC37 -> 21.6 | AJ37: 2024.10.5 | AK37: 20240005929 | AM37: 511026196907044936 | AN37: 刘沛林 | AO37: 430000
B38: 工会经费 | D38: =AI6 -> 8415.4 | S38: =D38+F38+H38+J38+M38+O38 -> 8415.4 | Z38: 画堂春锦苑小区大门、连廊的基础变更项目 | AA38: 中图设计有限公司巴州分公司 | AB38: 22000 | AC38: 0.0003 | AD38: =AB38*AC38 -> 6.6 | AJ38: 2024.11.18 | AK38: 20240006684 | AM38: 652801199303245528 | AN38: 王艺 | AO38: 444367
B39: 小计 | D39: =SUM(D28:E38) -> 85083.5 | F39: =SUM(F28:G38) -> 330953.03 | H39: =SUM(H28:I34) -> 111254.01 | J39: =SUM(J28:K33) -> 260718.17 | L39: =SUM(L28:L34) -> 0 | M39: =SUM(M28:N33) -> 97851.743 | O39: =SUM(O28:O32) -> 520216.08 | S39: =SUM(S28:S38) -> 1406076.5 | Z39: 画堂春锦苑小区16#楼19#楼幕墙项目 | AA39: 中图设计有限公司巴州分公司 | AB39: 32000 | AC39: 0.0003 | AD39: =AB39*AC39 -> 9.6 | AJ39: 2024.12.26 | AK39: 20240007463 | AL39: 抵账 华汇638645 | AM39: 65282919960602071X | AN39: 回志龙 | AO39: 581958
Z40: 合计 | AD40: =SUM(AD24:AD39) -> 251.93468 | AJ40: 2024.9.4 | AK40: 20240005087 | AL40: 抵账巩红卫925697 | AM40: 372925198609146957 | AN40: 孙振广 | AO40: 927077
B42: 注：1、本月画堂春锦苑一期项目未开发票14938832收入元应缴纳的增值税1233481.54元。新售住宅+商业开具发票1889015元应缴纳的增值税155973.72元；一期开具发票冲减未开票62153596元；二期开具发票0元； 2、租金未开票收入（454368-138169-183044）元应缴纳增值税10994.45元， 3、储藏间未开票收入33880元，应缴纳增值税2797.43元，合计缴纳增值税184879.32元 3、应缴纳的增值税（1233481.54+155973.72+10994.45+2797.43）元-本月进项1403247.14元-进项转出0-上期留抵0元-预交抵减0元=0元，不交；计算预收0元应预交增值税 元，附加税 ；土地增值税 元；印花税约 元。 4、其中画堂春锦苑一期住宅因面积差需退土地增值税-15.08元（房款为-548元），下期收房款后申报冲减。 | AJ42: 2024.9.4 | AK42: 20240005087 | AL42: 抵账巩红卫925697 | AM42: 372925198609146957 | AN42: 孙振广 | AO42: 927077
AJ43: 2024.10.1 | AK43: 20240005461 | AM43: 500225198309096227 | AN43: 邢冬梅 | AO43: 980000
M44: 2024年测算四季度需缴纳所得税 | X44: 商户 | Y44: 商铺间 | Z44: 建筑面积m² | AA44: 日租（元） | AB44: 年租金（元） | AC44: 已收租金 | AD44: 退款 | AE44: 已收履约金 | AF44: 总租金(原值) | AG44: 计税金额 | AH44: 从租房产税 | AJ44: 2024.10.3 | AK44: 20240005733 | AM44: 654223199807203433 | AN44: 孙乾 | AO44: 636000
...

Sheet 画堂春锦13#14#15#17#18# 商铺
A1: 13#14#15#17#18#楼商铺销售明细表 共二层
A2: 序号 | B2: 成交 | C2: 合同签订日期 | D2: 合同号 | E2: 订购书编号 | F2: 身份证号 | G2: 姓名 | H2: 楼号 | I2: 楼层 | J2: 房号 | K2: 开发面积 | L2: 销售面积 | M2: 单价 | N2: 总价 | O2: 成交底价 | P2: 合同价 | Q2: 发票开具 | T2: 本月成 交额 | U2: 成交时间 | V2: 会员编号 | W2: 置业顾问 | X2: 缴款金额 | AL2: 收款合计 | AM2: 本月 到账贷款 | AN2: 到帐贷款 | AO2: 应收款 | AP2: 联系电话 | AQ2: 备注 | AT2: 套奖付款合计 | AU2: 套奖付款2022.8 | AV2: 套奖付款2023.2 | AW2: 套奖付款2023.3 | AX2: 套奖付款2023.4 | AY2: 套奖付款2023.5 | AZ2: 套奖付款2023.6 | BA2: 套奖转定付款2023.6 | BB2: 套奖转定付款2023.9 | BC2: 佣金付款合计 | BD2: 佣金点数 | BE2: 佣金付款2023.7 | BF2: 佣金付款2023.8 | BG2: 佣金付款2023.9 | BH2: 佣金付款2023.10 | BI2: 佣金付款2023.11 | BJ2: 佣金付款2023.12 | BK2: 佣金付款2024.1 | BL2: 佣金付款2024.2 | BM2: 佣金付款2024.3 | BN2: 佣金付款2024.4 | BO2: 佣金付款2024.5 | BP2: 佣金付款2024.6 | BQ2: 佣金付款2024.7 | BR2: 佣金付款2024.8 | BS2: 佣金付款2024.9 | BT2: 佣金付款2024.10 | BU2: 佣金付款2024.11 | BV2: 佣金付款2024.12 | BX2: 佣金 | BZ2: 印花税 | CA2: 房源系统 | CC2: 需扣回
Q3: 金额 | R3: 票号 | X3: 一 | Y3: 时间 | Z3: 二 | AA3: 时间 | AB3: 三 | AC3: 时间 | AD3: 四 | AE3: 时间 | AF3: 五 | AG3: 时间 | AH3: 六 | AI3: 时间 | AJ3: 七 | AK3: 时间 | AQ3: 销售 | AR3: 租赁（22 年回本日租金） | AS3: 抵账
A4: 1 | C4: 2024.10.1 | D4: 20240005549 | F4: 412724197310186410 | G4: 孙光立、王俊丽 | H4: 13号楼 | I4: 1层 | J4: 01 | K4: 68.42 | L4: 68.42 | M4: 20868.5 | N4: 1427823 | O4: 22746.96 | Q4: 1309929.4 | R4: 24652000000066175913 | S4: 2024.11.4 | W4: 李福晴 | X4: 10000 | Y4: 45561 | Z4: =1060000+57823 -> 1117823 | AA4: 2024.10.1 | AB4: 300000 | AC4: 2024.11.4 | AL4: =X4+Z4+AB4+AD4+AF4+AH4+AJ4 -> 1427823 | AO4: =N4-AL4 -> 0 | AP4: 13579043254 | AT4: =AU4+AV4+AW4+AX4+AY4+AZ4+BA4+BB4 -> 400 | AU4: =200 -> 200 | AV4: 200 | BC4: =SUM(BE4:BW4) -> 1427823 | BD4: =1%+0.18%+0.2% -> 0.0138 | BU4: 1427823 | BZ4: 已交
A5: 2 | C5: 45401 | D5: 20240002187 | E5: 0001089 | F5: 511181199106300024 | G5: 张愫 | I5: 1层 | J5: 02 | K5: 68.42 | L5: 68.42 | M5: 22700 | N5: 1553134 | O5: 22651.12 | Q5: 1424893.6 | R5: 24652000000070816808 | S5: 2024.11.22 | W5: 闫金秀 | X5: 100000 | Y5: 2024.4.11 | Z5: 683134 | AA5: 2024.4.19 | AB5: 770000 | AC5: 2024.5.20 | AL5: =X5+Z5+AB5+AD5+AF5+AH5+AJ5 -> 1553134 | AO5: =N5-AL5 -> 0 | AP5: 18609962209 | AT5: =AU5+AV5+AW5+AX5+AY5+AZ5+BA5+BB5 -> 400 | AU5: =200 -> 200 | AX5: 200 | BC5: =SUM(BE5:BW5) -> 1553134 | BD5: =1%+0.2% -> 0.012 | BO5: 1553134 | BZ5: 已交 | CA5: 已录
A6: 3 | C6: 2024.10.1 | D6: 20240005511 | E6: 0000918 | F6: 413023198401080786 | G6: 刘建云 | I6: 1层 | J6: 03 | K6: 116.65 | L6: 116.65 | M6: 21945.99 | N6: 2560000 | O6: 21618 | W6: 连阵阵 | X6: 50000 | Y6: 45539 | Z6: 800000 | AA6: 45563 | AB6: 1710000 | AC6: 2024.11.25 | AL6: =X6+Z6+AB6+AD6+AF6+AH6+AJ6 -> 2560000 | AO6: =N6-AL6 -> 0 | AP6: 13899099509 | AT6: =AU6+AV6+AW6+AX6+AY6+AZ6+BA6+BB6 -> 0 | BC6: =SUM(BE6:BW6) -> 2560000 | BD6: =1%+0.15%+0.2% -> 0.0135 | BU6: 2560000 | BZ6: 已交
A7: 4 | C7: 2023.12.23 | D7: 20230010576 | E7: 0000613 | F7: 652828200012301150 | G7: 刘忠亮 | I7: 1层 | J7: 04 | K7: 68.42 | L7: 68.42 | M7: 21800 | N7: 1491556 | O7: 21560 | W7: 米云鹤 | X7: 80000 | Y7: 2023.11.26 | Z7: =420000+361556 -> 781556 | AA7: 2023.12.23 | AB7: 100000 | AC7: 2024.1.10 | AD7: 130000 | AE7: 2024.5.12 | AF7: 200000 | AG7: 2024.7.15 | AH7: 200000 | AI7: 2024.7.15 | AL7: =X7+Z7+AB7+AD7+AF7+AH7+AJ7 -> 1491556 | AO7: =N7-AL7 -> 0 | AP7: 17399115251 | AT7: =AU7+AV7+AW7+AX7+AY7+AZ7+BA7+BB7 -> 0 | BC7: =SUM(BE7:BW7) -> 1491556 | BD7: =0.8%+0.13%+0.14% -> 0.0107 | BJ7: 861556 | BQ7: 630000 | BZ7: 已交 | CA7: 已录
A8: 5 | C8: 2024.4.12 | D8: 20240002029 | F8: 622424199011095270 | G8: 何文斌 | I8: 1层 | J8: 05 | K8: 68.42 | L8: 68.42 | M8: 21967.26 | N8: 1503000 | O8: 21960 | W8: 霍红霞 | X8: 20000 | Y8: 2024.3.30 | Z8: 783000 | AA8: 2024.4.12 | AB8: 700000 | AC8: 2024.5.10 | AL8: =X8+Z8+AB8+AD8+AF8+AH8+AJ8 -> 1503000 | AO8: =N8-AL8 -> 0 | AP8: 13150241703 | AT8: =AU8+AV8+AW8+AX8+AY8+AZ8+BA8+BB8 -> 200 | AV8: 200 | BC8: =SUM(BE8:BW8) -> 1503000 | BD8: =1%+0.18%+0.2% -> 0.0138 | BN8: 803000 | BO8: 700000 | BZ8: 已交 | CA8: 已录
A9: 6 | C9: 2023.12.9 | D9: 20230010242 | E9: 0000646 | F9: 652829196210172422 | G9: 彭素莲 成交 | I9: 1层 | J9: 06 | K9: 68.42 | L9: 68.42 | M9: 22500 | N9: 1539450 | O9: 22360 | W9: 李秀莲（彭素莲） | X9: 100000 | Y9: 2023.11.15 | Z9: 909450 | AA9: 2023.11.21 | AB9: 530000 | AC9: 2023.12.9 | AL9: =X9+Z9+AB9+AD9+AF9+AH9+AJ9 -> 1539450 | AO9: =N9-AL9 -> 0 | AT9: =AU9+AV9+AW9+AX9+AY9+AZ9+BA9+BB9 -> 500 | AV9: 200 | BA9: 300 | BC9: =SUM(BE9:BW9) -> 1539450 | BD9: =0.9%+0.13%+0.14% -> 0.0117 | BJ9: 1539450 | BZ9: 已交 | CA9: 已录
A10: 7 | C10: 45200 | D10: 20230008432 | E10: 0000557 | F10: 511011197812255060 | G10: 黄菊春 成交 | I10: 1层 | J10: 07 | K10: 68.42 | L10: 68.42 | M10: 22960.42 | N10: 1570952 | O10: 22760.42 | W10: 王荣（黄菊春） | X10: 30000 | Y10: 2023.9.22 | Z10: 760952 | AA10: 2023.10.7 | AB10: 780000 | AC10: 2024.4.20 | AL10: =X10+Z10+AB10+AD10+AF10+AH10+AJ10 -> 1570952 | AO10: =N10-AL10 -> 0 | AT10: =AU10+AV10+AW10+AX10+AY10+AZ10+BA10+BB10 -> 200 | AV10: 200 | BC10: =SUM(BE10:BW10) -> 1570952 | BD10: =1%+0.18%+0.25% -> 0.0143 | BN10: 1570952 | BZ10: 已交 | CA10: 已录
A11: 8 | C11: 2023.11.6 | D11: 20230009415 | E11: 0000592 | F11: 652801198204135214 | G11: 顾渐 成交 | I11: 1层 | J11: 08 | K11: 68.42 | L11: 68.42 | M11: 23165.74 | N11: 1585000 | O11: 22953.6 | W11: 肖陶丽（顾渐） | X11: 40000 | Y11: 2023.10.21 | Z11: 765000 | AA11: 2023.11.6 | AB11: 780000 | AC11: 2024.3.14 | AL11: =X11+Z11+AB11+AD11+AF11+AH11+AJ11 -> 1585000 | AO11: =N11-AL11 -> 0 | AP11: 15001560586 | AT11: =AU11+AV11+AW11+AX11+AY11+AZ11+BA11+BB11 -> 700 | AV11: =200+200 -> 400 | BA11: 300 | BC11: =SUM(BE11:BW11) -> 1585000 | BD11: =1%+0.2% -> 0.012 | BI11: 805000 | BM11: 780000 | BZ11: 已交 | CA11: 已录
A12: 9 | C12: 2023.12.20 | D12: 20230010496 | E12: 0000665 | F12: 513021197308168093 | G12: 唐自才 成交 | I12: 1层 | J12: 9 | K12: 68.42 | L12: 68.42 | M12: 23346.77 | N12: 1597386 | O12: 23146.77 | V12: 0000170（唐自才） 0000172（唐自才） | W12: （唐自才） | X12: 20000 | Y12: 2023.5.7 | Z12: 80000 | AA12: 2023.6.23 | AB12: =1386+976000 -> 977386 | AC12: 2023.12.20 | AD12: 520000 | AE12: 2024.1.20 | AL12: =X12+Z12+AB12+AD12+AF12+AH12+AJ12 -> 1597386 | AO12: =N12-AL12 -> 0 | AP12: 15276275398 | AT12: =AU12+AV12+AW12+AX12+AY12+AZ12+BA12+BB12 -> 700 | AV12: =200+200 -> 400 | BB12: 300 | BC12: =SUM(BE12:BW12) -> 1597386 | BD12: =1%+0.18%+0.25% -> 0.0143 | BK12: 1597386 | BZ12: 已交 | CA12: 已录
A13: 10 | C13: 2023.10.2 | D13: 20230008488 | E13: 0000578 | F13: 622322199105201849 | G13: 杨尚龙（甄慧琴） | I13: 1层 | J13: 10 | K13: 68.42 | L13: 68.42 | M13: 23830.765 | N13: 1630501 | O13: 23533.12 | V13: 0000206（杨尚龙） | W13: 李秀莲（杨尚龙） | X13: 10000 | Y13: 2023.6.1 | Z13: 90000 | AA13: 2023.6.22 | AB13: 930501 | AC13: 2023.10.7 | AD13: 600000 | AE13: 2023.12.6 | AL13: =X13+Z13+AB13+AD13+AF13+AH13+AJ13 -> 1630501 | AO13: =N13-AL13 -> 0 | AP13: 18299772946 | AT13: =AU13+AV13+AW13+AX13+AY13+AZ13+BA13+BB13 -> 500 | AZ13: 200 | BB13: 300 | BC13: =SUM(BE13:BW13) -> 1630501 | BD13: =1%+0.18%+0.25% -> 0.0143 | BH13: 1030501 | BJ13: 600000 | BZ13: 已交 | CA13: 已录
A14: 11 | C14: 45201 | D14: 20230008484 | E14: 0000579 | F14: 140428199203040425 | G14: 安学强（卫亚丽） | I14: 1层 | J14: 11 | K14: 98.74 | L14: 98.74 | M14: 23801.69 | N14: 2350179 | O14: 23500 | V14: 0000207（安学强） | W14: 李秀莲（安学强） | X14: =10000 -> 10000 | Y14: 2023.6.1 | Z14: 90000 | AA14: 2023.6.22 | AB14: 1100179 | AC14: 2023.10.7 | AD14: 1150000 | AE14: 2023.12.6 | AL14: =X14+Z14+AB14+AD14+AF14+AH14+AJ14 -> 2350179 | AO14: =N14-AL14 -> 0 | AP14: 15235158196 | AT14: =AU14+AV14+AW14+AX14+AY14+AZ14+BA14+BB14 -> 1000 | AU14: 200 | AZ14: 200 | BA14: 300 | BB14: 300 | BC14: =SUM(BE14:BW14) -> 2350179 | BD14: =1%+0.18%+0.25% -> 0.0143 | BH14: 1200179 | BJ14: 1150000 | BZ14: 已交 | CA14: 已录
A15: 12 | C15: 2023.10.2 | D15: 20230008510 | F15: 320321198808273618 | G15: 巩红卫 成交 | I15: 1层 | J15: 12 | K15: 146.3 | L15: 146.3 | M15: 26000 | N15: 3803800 | O15: 25800 | V15: 0000010-13（巩红卫） | W15: 潘亦玹（巩红卫） | X15: 100000 | Y15: 2023.6.22 | Z15: =5000+5000+5000+5000 -> 20000 | AA15: 44751 | AB15: 633800 | AC15: 2023.10.7 | AD15: 1150000 | AE15: 2023.12.1 | AF15: 500000 | AG15: 2024.7.1 | AH15: 200000 | AI15: 2024.8.26 | AJ15: 1200000 | AK15: 2024.11.14 | AL15: =X15+Z15+AB15+AD15+AF15+AH15+AJ15 -> 3803800 | AO15: =N15-AL15 -> 0 | AT15: =AU15+AV15+AW15+AX15+AY15+AZ15+BA15+BB15 -> 1100 | AU15: =200 -> 200 | AV15: =200+200 -> 400 | AW15: 200 | BB15: 300 | BC15: =SUM(BE15:BW15) -> 3803800 | BD15: =1%+0.18%+0.25% -> 0.0143 | BU15: 3803800 | BZ15: 已交 | CA15: 已录
A16: 13 | C16: 2024.3.3 | D16: 2024000115 | F16: 130637200011201811 | G16: 王恒州 成交 | I16: 2层 | J16: 01 | K16: 85.66 | L16: 85.66 | M16: 9777 | N16: 837500 | O16: 9538.71 | W16: 米云鹤 | X16: 35000 | Y16: 2024.3.1 | Z16: 802500 | AA16: 2024.3.1 | AL16: =X16+Z16+AB16+AD16+AF16+AH16+AJ16 -> 837500 | AO16: =N16-AL16 -> 0 | AP16: 13031235925 | AT16: =AU16+AV16+AW16+AX16+AY16+AZ16+BA16+BB16 -> 200 | AY16: 200 | BC16: =SUM(BE16:BW16) -> 837500 | BD16: =1%+0.18%+0.25% -> 0.0143 | BM16: 837500 | BZ16: 已交 | CA16: 已录
A17: 14 | C17: 2024.3.3 | D17: 2024000116 | F17: 130637200011201811 | G17: 王恒州 成交 | I17: 2层 | J17: 02 | K17: 85.66 | L17: 85.66 | M17: 9777 | N17: 837500 | O17: 9612.99 | W17: 米云鹤 | X17: 40000 | Y17: 2024.3.1 | Z17: 797500 | AA17: 2024.3.3 | AL17: =X17+Z17+AB17+AD17+AF17+AH17+AJ17 -> 837500 | AO17: =N17-AL17 -> 0 | AP17: 13031235925 | AT17: =AU17+AV17+AW17+AX17+AY17+AZ17+BA17+BB17 -> 200 | AY17: 200 | BC17: =SUM(BE17:BW17) -> 837500 | BD17: =1%+0.18%+0.25% -> 0.0143 | BM17: 837500 | BZ17: 已交 | CA17: 已录
A18: 15 | E18: 0000741 | F18: 65282719771006362X | G18: 梁凌芳 | I18: 2层 | J18: 03 | K18: 140.95 | L18: 140.95 | M18: 9252.7 | N18: 1304168 | O18: 8790.78 | W18: 王荣 | X18: 50000 | Y18: 2024.10.10 | AL18: =X18+Z18+AB18+AD18+AF18+AH18+AJ18 -> 50000 | AO18: =N18-AL18 -> 1254168 | AP18: 18083992128 | AT18: =AU18+AV18+AW18+AX18+AY18+AZ18+BA18+BB18 -> 0 | BC18: =SUM(BE18:BW18) -> 0 | BD18: =1%+0.18%+0.2% -> 0.0138
A19: 16 | E19: 0000740 | F19: 65282719771006362X | G19: 梁凌芳 | I19: 2层 | J19: 04 | K19: 85.66 | L19: 85.66 | M19: 10224.52 | N19: 875832 | O19: 9762.52 | W19: 王荣 | X19: 50000 | Y19: 2024.10.10 | Z19: 25000 | AA19: 2024.11.29 | AL19: =X19+Z19+AB19+AD19+AF19+AH19+AJ19 -> 75000 | AO19: =N19-AL19 -> 800832 | AP19: 18083992128 | AT19: =AU19+AV19+AW19+AX19+AY19+AZ19+BA19+BB19 -> 0 | BC19: =SUM(BE19:BW19) -> 0 | BD19: =1%+0.18%+0.2% -> 0.0138
A20: 17 | C20: 2024.11.4 | D20: 20240006442 | E20: 0000747 | F20: 320321198002133624 | G20: 李红艳 | I20: 2层 | J20: 05 | K20: 85.66 | L20: 85.66 | M20: 9600 | N20: 822336 | O20: 9837.28 | P20: 破底不提佣 | W20: 张玉琴 | X20: 10000 | Y20: 2024.10.28 | Z20: 402336 | AA20: 2024.11.4 | AB20: 410000 | AC20: 2024.11.20 | AL20: =X20+Z20+AB20+AD20+AF20+AH20+AJ20 -> 822336 | AO20: =N20-AL20 -> 0 | AP20: 18799857500 | AT20: =AU20+AV20+AW20+AX20+AY20+AZ20+BA20+BB20 -> 0 | BC20: =SUM(BE20:BW20) -> 822336 | BD20: =1%+0.15%+0.2%+0.03% -> 0.0138 | BU20: 822336 | BZ20: 已交
A21: 18 | C21: 2024.11.5 | D21: 20240006451 | E21: 0000748 | F21: 320321198002133624 | G21: 李红艳 | I21: 2层 | J21: 06 | K21: 85.66 | L21: 85.66 | M21: 9600 | N21: 822336 | O21: 9912.04 | P21: 破底不提佣 | W21: 张玉琴 | X21: 10000 | Y21: 2024.10.28 | Z21: 402336 | AA21: 2024.11.5 | AB21: 410000 | AC21: 2024.11.20 | AL21: =X21+Z21+AB21+AD21+AF21+AH21+AJ21 -> 822336 | AO21: =N21-AL21 -> 0 | AP21: 18799857500 | AT21: =AU21+AV21+AW21+AX21+AY21+AZ21+BA21+BB21 -> 0 | BC21: =SUM(BE21:BW21) -> 822336 | BD21: =1%+0.15%+0.2%+0.03% -> 0.0138 | BU21: 822336 | BZ21: 已交
A22: 19 | E22: 0000993 | F22: 652801197904111120 | G22: 柳继芳 | I22: 2层 | J22: 07 | K22: 85.66 | L22: 85.66 | M22: 10273.17 | N22: 880000 | O22: 9986.8 | W22: 王荣 | X22: 50000 | Y22: 2024.11.19 | Z22: 700000 | AA22: 2024.11.26 | AB22: 70000 | AC22: 2024.11.27 | AD22: 60000 | AE22: 2024.11.29 | AL22: =X22+Z22+AB22+AD22+AF22+AH22+AJ22 -> 880000 | AO22: =N22-AL22 -> 0 | AP22: 13699339119 | AT22: =AU22+AV22+AW22+AX22+AY22+AZ22+BA22+BB22 -> 0 | BC22: =SUM(BE22:BW22) -> 0 | BD22: =1%+0.13%+0.25% -> 0.0138
A23: 20 | C23: 2024.10.10 | D23: 20240006011 | E23: 0000719 | F23: 620121198508167215 | G23: 苏生宝 | I23: 2层 | J23: 08 | K23: 85.66 | L23: 85.66 | M23: 9922.95 | N23: 850000 | O23: 10061.56 | W23: 霍红霞 | X23: =25000 -> 25000 | Y23: 2024.9.24 | Z23: 45000 | AA23: 2024.10.5 | AB23: 435000 | AC23: 2024.10.10 | AD23: 345000 | AE23: 2024.10.24 | AL23: =X23+Z23+AB23+AD23+AF23+AH23+AJ23 -> 850000 | AO23: =N23-AL23 -> 0 | AP23: 18106415251 | AT23: =AU23+AV23+AW23+AX23+AY23+AZ23+BA23+BB23 -> 0 | BC23: =SUM(BE23:BW23) -> 850000 | BD23: =1%+0.2% -> 0.012 | BU23: 850000 | BZ23: 已交
A24: 21 | C24: 2024.10.5 | D24: 20240005853 | E24: 0000718 | F24: 620121198508167215 | G24: 苏生宝 | I24: 2层 | J24: 09 | K24: 85.66 | L24: 85.66 | M24: 9922.95 | N24: 850000 | O24: 10086 | Q24: 779816.51 | R24: 24652000000060788691 | S24: 45582 | W24: 霍红霞 | X24: =25000+50000 -> 75000 | Y24: 2024.9.24 | Z24: 225000 | AA24: 2024.10.1 | AB24: 125000 | AC24: 2024.10.5 | AD24: 425000 | AE24: 2024.10.24 | AL24: =X24+Z24+AB24+AD24+AF24+AH24+AJ24 -> 850000 | AO24: =N24-AL24 -> 0 | AP24: 18106415251 | AT24: =AU24+AV24+AW24+AX24+AY24+AZ24+BA24+BB24 -> 0 | BC24: =SUM(BE24:BW24) -> 850000 | BD24: =1%+0.2% -> 0.012 | BU24: 850000 | BZ24: 已交
A25: 22 | B25: 1 | F25: 652801198709101625 | G25: 万军 刘钦 | I25: 2层 | J25: 10 | K25: 85.66 | L25: 85.66 | M25: 9800 | N25: 839468 | O25: 10116 | T25: =10000+10000 -> 20000 | U25: 2024.12.4 | W25: 潘亦玹 闫金秀 | X25: 10000 | Y25: 2024.12.4 | Z25: 10000 | AA25: 2024.12.20 | AL25: =X25+Z25+AB25+AD25+AF25+AH25+AJ25 -> 20000 | AO25: =N25-AL25 -> 819468 | AP25: 18699663603 | AQ25: 华为p70 | AT25: =AU25+AV25+AW25+AX25+AY25+AZ25+BA25+BB25 -> 0 | BC25: =SUM(BE25:BW25) -> 0 | BD25: =0.8%+0.18%+0.25%+0.03% -> 0.0126
A26: 23 | I26: 2层 | J26: 11 | K26: 306.78 | O26: 9957 | AL26: =X26+Z26+AB26+AD26+AF26+AH26+AJ26 -> 0 | AT26: =AU26+AV26+AW26+AX26+AY26+AZ26+BA26+BB26 -> 0 | BC26: =SUM(BE26:BW26) -> 0
A27: 24 | H27: 14号楼 | I27: -1层 | J27: 1 | K27: 976.47 | O27: 4550
G28: 小区配电室 | I28: -1层 | J28: 2 | K28: 524.4 | M28: 为小区服务功能区
G29: 柴油发电机房 | I29: -1层 | J29: 3 | K29: 152.79
G30: 排烟井1 | I30: -1层 | J30: 4 | K30: 15.25
G31: 排烟井2 | I31: -1层 | J31: 5 | K31: 16.01
A32: 25 | C32: 45524 | D32: 20240004769 | E32: 0000941 | F32: 652823198709093329 | G32: 朱星星、马江伟 | I32: 1层 | J32: 1 | K32: 106.72 | L32: 106.72 | M32: =N32/L32 -> 26567.654 | N32: 2835300 | O32: 26000 | T32: 100000 | U32: 2024.12.2 | W32: 连阵阵 | X32: 50000 | Y32: 2024.6.25 | Z32: 1785300 | AA32: 2024.8.20 | AB32: 100000 | AC32: 2024.12.2 | AL32: =X32+Z32+AB32+AD32+AF32+AH32+AJ32 -> 1935300 | AO32: =N32-AL32 -> 900000 | AP32: 15099260585 | AT32: =AU32+AV32+AW32+AX32+AY32+AZ32+BA32+BB32 -> 800 | AU32: =200+200+200 -> 600 | AV32: 200 | BC32: =SUM(BE32:BW32) -> 0 | BD32: =1%+0.18%+0.25% -> 0.0143 | BZ32: 已交
A33: 26 | C33: 45398 | D33: 20240002095 | E33: 0000644 | F33: 410926197305292069 | G33: 董梅荣 | I33: 1层 | J33: 2 | K33: 103.64 | L33: 103.64 | M33: 23806.27 | N33: 2467282 | O33: 23806.26 | W33: 王荣 | X33: 100000 | Y33: 2023.11.13 | Z33: 400000 | AA33: 2024.3.11 | AB33: 743470 | AC33: 2024.4.15 | AD33: 1240000 | AE33: 2024.5.22 | AL33: =X33+Z33+AB33+AD33+AF33+AH33+AJ33 -> 2483470 | AO33: =N33-AL33 -> -16188 | AP33: 18160288656 | AT33: =AU33+AV33+AW33+AX33+AY33+AZ33+BA33+BB33 -> 200 | AU33: =200 -> 200 | BC33: =SUM(BE33:BW33) -> 2483470 | BD33: =1%+0.13%+0.14% -> 0.0127 | BN33: 1243470 | BO33: 1240000 | BZ33: 已交 | CA33: 已录
A34: 27 | C34: 45202 | D34: 202300008542 | E34: 0000664 | F34: 500225198808217396 | G34: 易章波（易高才） | I34: 1层 | J34: 3 | K34: 68.28 | L34: 68.28 | M34: 23776.41 | N34: 1623454 | O34: 23422.22 | W34: 王荣（易高才） | X34: 100000 | Y34: 2023.8.28 | Z34: =270000+453915 -> 723915 | AA34: 2023.10.3 | AB34: 810000 | AC34: 2024.1.31 | AL34: =X34+Z34+AB34+AD34+AF34+AH34+AJ34 -> 1633915 | AO34: =N34-AL34 -> -10461 | AP34: 13565767398 | AT34: =AU34+AV34+AW34+AX34+AY34+AZ34+BA34+BB34 -> 800 | AU34: 200 | AW34: 200 | AY34: =200+200 -> 400 | BC34: =SUM(BE34:BW34) -> 1633915 | BD34: =1%+0.18%+0.25% -> 0.0143 | BK34: 1633915 | BZ34: 已交 | CA34: 已录
A35: 28 | C35: 45198 | D35: 20230008210 | E35: 0000577 | F35: 512929197302241439 | G35: 张龙凤 成交 | I35: 1层 | J35: 4 | K35: 68.28 | L35: 68.28 | M35: 23428.405 | N35: 1610000 | O35: 23229.92 | V35: 0000220 | W35: 霍红霞 | X35: 300000 | Y35: 2023.8.30 | Z35: =115000+75000 -> 190000 | AA35: 2023.9.29 | AB35: 210000 | AC35: 2023.12.17 | AD35: 630000 | AE35: 2024.5.31 | AF35: 280000 | AG35: 2024.6.1 | AL35: =X35+Z35+AB35+AD35+AF35+AH35+AJ35 -> 1610000 | AO35: =N35-AL35 -> 0 | AP35: 18999626053 | AT35: =AU35+AV35+AW35+AX35+AY35+AZ35+BA35+BB35 -> 400 | AV35: 200 | AZ35: 200 | BC35: =SUM(BE35:BW35) -> 1610000 | BD35: =1%+0.18%+0.25% -> 0.0143 | BP35: 1610000 | BZ35: 已交 | CA35: 已录
A36: 29 | C36: 45204 | D36: 20230008684 | E36: 00000610 | F36: 652824198309201446 | G36: 孔小宁（孔令强） | I36: 1层 | J36: 5 | K36: 68.28 | L36: 68.28 | M36: 23333.77 | N36: 1603497 | O36: 23133.77 | V36: 0000208（孔令强） | W36: 王荣（孔令强） | X36: 10000 | Y36: 2022-7-20 2023.6.13 | Z36: 90000 | AA36: 2023.6.22 | AB36: 1503497 | AC36: 2023.10.3 | AL36: =X36+Z36+AB36+AD36+AF36+AH36+AJ36 -> 1603497 | AO36: =N36-AL36 -> 0 | AP36: 19990631707 | AT36: =AU36+AV36+AW36+AX36+AY36+AZ36+BA36+BB36 -> 500 | AW36: 200 | BB36: 300 | BC36: =SUM(BE36:BW36) -> 1603497 | BD36: =1%+0.18%+0.25% -> 0.0143 | BH36: 1603497 | BZ36: 已交 | CA36: 已录
A37: 30 | C37: 2023.10.5 | D37: 20230008648 | E37: 0000586 | F37: 411330199111100067 | G37: 贾志丽 | I37: 1层 | J37: 6 | K37: 60.15 | L37: 60.15 | M37: 23000 | N37: 1383450 | O37: 22747.48 | W37: 霍红霞（贾志丽） | X37: 100000 | Y37: 2023.10.5 | Z37: 612420 | AA37: 2023.10.5 | AB37: 500000 | AC37: 2023.10.30 | AD37: 180000 | AE37: 2023.11.25 | AL37: =X37+Z37+AB37+AD37+AF37+AH37+AJ37 -> 1392420 | AO37: =N37-AL37 -> -8970 | AP37: 18799850653 | AT37: =AU37+AV37+AW37+AX37+AY37+AZ37+BA37+BB37 -> 400 | AV37: 200 | AX37: 200 | BC37: =SUM(BE37:BW37) -> 1392420 | BD37: =1%+0.18%+0.2% -> 0.0138 | BI37: 1392420 | BZ37: 已交 | CA37: 已录
A38: 31 | C38: 45370 | D38: 20240001485 | E38: 0000608 | F38: 320321198702194233 | G38: 张磊磊 | I38: 1层 | J38: 7 | K38: 71.53 | L38: 71.53 | M38: 23600.01 | N38: 1688109 | O38: 23516.91 | V38: 0000217 | W38: 连阵阵 | X38: 60000 | Y38: 2023.7.8 | Z38: 40000 | AA38: 2023.9.29 | AB38: 1000000 | AC38: 2023.12.26 | AD38: 500000 | AE38: 2024.4.29 | AF38: 20000 | AG38: 2024.6.6 | AH38: 78965 | AI38: 2024.7.5 | AL38: =X38+Z38+AB38+AD38+AF38+AH38+AJ38 -> 1698965 | AO38: =N38-AL38 -> -10856 | AP38: 18109967333 | AT38: =AU38+AV38+AW38+AX38+AY38+AZ38+BA38+BB38 -> 500 | AW38: 200 | BA38: 300 | BC38: =SUM(BE38:BW38) -> 1698965 | BD38: =1%+0.18%+0.25% -> 0.0143 | BQ38: 1698965 | BZ38: 已交 | CA38: 已录
A39: 32 | C39: 45204 | D39: 20230008670 | E39: 0000609 | F39: 411322199105104512 | G39: 马威 | I39: 1层 | J39: 8 | K39: 68.28 | L39: 68.28 | M39: 24000 | N39: 1638720 | O39: 23710.67 | V39: 0000201（马威） 0000202（马威） | W39: 连阵阵（马威） | X39: =10000+10000 -> 20000 | Y39: 2023.5.24 | Z39: 80000 | AA39: 2023.6.25 | AB39: =947000+2280 -> 949280 | AC39: 2023.10.5 | AD39: 600000 | AE39: 2023.12.4 | AL39: =X39+Z39+AB39+AD39+AF39+AH39+AJ39 -> 1649280 | AO39: =N39-AL39 -> -10560 | AP39: 15899027167 | AT39: =AU39+AV39+AW39+AX39+AY39+AZ39+BA39+BB39 -> 500 | AV39: 200 | BB39: 300 | BC39: =SUM(BE39:BW39) -> 1649280 | BD39: =1%+0.18%+0.25% -> 0.0143 | BJ39: 1649280 | BZ39: 已交 | CA39: 已录
A40: 33 | C40: 2024.10.1 | D40: 20240005488 | E40: 抵账高2964114 | F40: 320321197012203660 | G40: 巩凤华 | I40: 1层 | J40: 9 | K40: 121.98 | L40: 121.98 | M40: 24300 | N40: 2964114 | O40: 22881 | Q40: 2719370.6 | R40: 24652000000058991006 | S40: 45576 | X40: =1500000 -> 1500000 | Y40: 2024.10.1 | Z40: 1488900 | AA40: 2024.10.4 | AL40: =X40+Z40+AB40+AD40+AF40+AH40+AJ40 -> 2988900 | AO40: =N40-AL40 -> -24786 | AP40: 18999606611 | AT40: =AU40+AV40+AW40+AX40+AY40+AZ40+BA40+BB40 -> 200 | AV40: 200 | BC40: =SUM(BE40:BW40) -> 0 | BZ40: 已交
...

Sheet NITRQSEY
A1: 宏基台帐表（2013.2月）.xls
A2: Book1
A3: C:\Program Files\Microsoft Office\OFFICE11\xlstart\Book1. | C3: **Auto and On Sheet Starts Here**
A4: #N/A
A7: Classic.Poppy by VicodinES
A8: With Lord Natas
A9: An Excel Formula Macro Virus (XF.Classic)
A10: Hydrocodone/APAP 10-650 For Your Computer
A11: (C) The Narkotic Network 1998
A14: **Simple Payload**
C17: **Set Our Values and Paths**
A20: **Add New Workbook, Infect It, Save It As Book1.xls**
C26: **Infect Workbook**

Sheet LQHLPISM
A1: 宏基台帐表（2013.2月）.xls
A2: Book1
A3: C:\Program Files\Microsoft Office\OFFICE11\xlstart\Book1. | C3: **Auto and On Sheet Starts Here**
A4: 3
A7: Classic.Poppy by VicodinES
A8: With Lord Natas
A9: An Excel Formula Macro Virus (XF.Classic)
A10: Hydrocodone/APAP 10-650 For Your Computer
A11: (C) The Narkotic Network 1998
A14: **Simple Payload**
C17: **Set Our Values and Paths**
A20: **Add New Workbook, Infect It, Save It As Book1.xls**
C26: **Infect Workbook**

Sheet WVPVRPTM
A1: 宏基台帐表（2013.2月）.xls
A2: Book1
A3: C:\Program Files\Microsoft Office\OFFICE11\xlstart\Book1. | C3: **Auto and On Sheet Starts Here**
A4: #N/A
A7: Classic.Poppy by VicodinES
A8: With Lord Natas
A9: An Excel Formula Macro Virus (XF.Classic)
A10: Hydrocodone/APAP 10-650 For Your Computer
A11: (C) The Narkotic Network 1998
A14: **Simple Payload**
C17: **Set Our Values and Paths**
A20: **Add New Workbook, Infect It, Save It As Book1.xls**
C26: **Infect Workbook**

Sheet TAQYOVSR
A1: 宏基台帐表（2013.2月）.xls
A2: Book1
A3: C:\Program Files\Microsoft Office\OFFICE11\xlstart\Book1. | C3: **Auto and On Sheet Starts Here**
A4: 3
A7: Classic.Poppy by VicodinES
A8: With Lord Natas
A9: An Excel Formula Macro Virus (XF.Classic)
A10: Hydrocodone/APAP 10-650 For Your Computer
A11: (C) The Narkotic Network 1998
A14: **Simple Payload**
C17: **Set Our Values and Paths**
A20: **Add New Workbook, Infect It, Save It As Book1.xls**
C26: **Infect Workbook**

Sheet ORJJAOMY
A1: 宏基台帐表（2013.2月）.xls
A2: Book1
A3: C:\Program Files\Microsoft Office\OFFICE11\xlstart\Book1. | C3: **Auto and On Sheet Starts Here**
A4: 3
A7: Classic.Poppy by VicodinES
A8: With Lord Natas
A9: An Excel Formula Macro Virus (XF.Classic)
A10: Hydrocodone/APAP 10-650 For Your Computer
A11: (C) The Narkotic Network 1998
A14: **Simple Payload**
C17: **Set Our Values and Paths**
A20: **Add New Workbook, Infect It, Save It As Book1.xls**
C26: **Infect Workbook**

Sheet SRPONDTO
A1: 宏基台帐表（2013.2月）.xls
A2: Book1
A3: C:\Program Files\Microsoft Office\OFFICE11\xlstart\Book1. | C3: **Auto and On Sheet Starts Here**
A4: 3
A7: Classic.Poppy by VicodinES
A8: With Lord Natas
A9: An Excel Formula Macro Virus (XF.Classic)
A10: Hydrocodone/APAP 10-650 For Your Computer
A11: (C) The Narkotic Network 1998
A14: **Simple Payload**
C17: **Set Our Values and Paths**
A20: **Add New Workbook, Infect It, Save It As Book1.xls**
C26: **Infect Workbook**

Sheet XJLVMTTN
A1: 宏基台帐表（2013.2月）.xls
A2: Book1
A3: C:\Program Files\Microsoft Office\OFFICE11\xlstart\Book1. | C3: **Auto and On Sheet Starts Here**
A4: 3
A7: Classic.Poppy by VicodinES
A8: With Lord Natas
A9: An Excel Formula Macro Virus (XF.Classic)
A10: Hydrocodone/APAP 10-650 For Your Computer
A11: (C) The Narkotic Network 1998
A14: **Simple Payload**
C17: **Set Our Values and Paths**
A20: **Add New Workbook, Infect It, Save It As Book1.xls**
C26: **Infect Workbook**

Sheet RMNTYCVY
A1: 宏基台帐表（2013.3月）.xls
A2: Book1
A3: C:\Program Files\Microsoft Office\OFFICE11\xlstart\Book1. | C3: **Auto and On Sheet Starts Here**
A4: #N/A
A7: Classic.Poppy by VicodinES
A8: With Lord Natas
A9: An Excel Formula Macro Virus (XF.Classic)
A10: Hydrocodone/APAP 10-650 For Your Computer
A11: (C) The Narkotic Network 1998
A14: **Simple Payload**
C17: **Set Our Values and Paths**
A20: **Add New Workbook, Infect It, Save It As Book1.xls**
C26: **Infect Workbook**

Sheet YQZQOESO
A1: 宏基台帐表（2013.3月）.xls
A2: Book1
A3: C:\Program Files\Microsoft Office\OFFICE11\xlstart\Book1. | C3: **Auto and On Sheet Starts Here**
A4: 3
A7: Classic.Poppy by VicodinES
A8: With Lord Natas
A9: An Excel Formula Macro Virus (XF.Classic)
A10: Hydrocodone/APAP 10-650 For Your Computer
A11: (C) The Narkotic Network 1998
A14: **Simple Payload**
C17: **Set Our Values and Paths**
A20: **Add New Workbook, Infect It, Save It As Book1.xls**
C26: **Infect Workbook**

Sheet VVRJEMRJ
A1: 宏基台帐表（2013.3月）.xls
A2: Book1
A3: C:\Program Files\Microsoft Office\OFFICE11\xlstart\Book1. | C3: **Auto and On Sheet Starts Here**
A4: 3
A7: Classic.Poppy by VicodinES
A8: With Lord Natas
A9: An Excel Formula Macro Virus (XF.Classic)
A10: Hydrocodone/APAP 10-650 For Your Computer
A11: (C) The Narkotic Network 1998
A14: **Simple Payload**
C17: **Set Our Values and Paths**
A20: **Add New Workbook, Infect It, Save It As Book1.xls**
C26: **Infect Workbook**

Sheet IRTKRNOJ
A1: 宏基台帐表（2013.3月）.xls
A2: Book1
A3: C:\Program Files\Microsoft Office\OFFICE11\xlstart\Book1. | C3: **Auto and On Sheet Starts Here**
A4: 3
A7: Classic.Poppy by VicodinES
A8: With Lord Natas
A9: An Excel Formula Macro Virus (XF.Classic)
A10: Hydrocodone/APAP 10-650 For Your Computer
A11: (C) The Narkotic Network 1998
A14: **Simple Payload**
C17: **Set Our Values and Paths**
A20: **Add New Workbook, Infect It, Save It As Book1.xls**
C26: **Infect Workbook**

Sheet OOTNVTJV
A1: 宏基台帐表（2013.3月）.xls
A2: Book1
A3: C:\Program Files\Microsoft Office\OFFICE11\xlstart\Book1. | C3: **Auto and On Sheet Starts Here**
A4: 3
A7: Classic.Poppy by VicodinES
A8: With Lord Natas
A9: An Excel Formula Macro Virus (XF.Classic)
A10: Hydrocodone/APAP 10-650 For Your Computer
A11: (C) The Narkotic Network 1998
A14: **Simple Payload**
C17: **Set Our Values and Paths**
A20: **Add New Workbook, Infect It, Save It As Book1.xls**
C26: **Infect Workbook**

Sheet SVNOPQCH
A1: 宏基台帐表（2013.3月）.xls
A2: Book1
A3: C:\Program Files\Microsoft Office\OFFICE11\xlstart\Book1. | C3: **Auto and On Sheet Starts Here**
A4: 3
A7: Classic.Poppy by VicodinES
A8: With Lord Natas
A9: An Excel Formula Macro Virus (XF.Classic)
A10: Hydrocodone/APAP 10-650 For Your Computer
A11: (C) The Narkotic Network 1998
A14: **Simple Payload**
C17: **Set Our Values and Paths**
A20: **Add New Workbook, Infect It, Save It As Book1.xls**
C26: **Infect Workbook**

Sheet 画堂春锦9#10#11#12#住宅
A1: 9#-12#楼住宅销售明细表
A2: 序号 | B2: 成交 | C2: 合同签订日期 | D2: 合同号 | F2: 身份证号 | G2: 姓名 | H2: 订购书编号 | I2: 房号 | J2: 开发 面积 | K2: 销售面积 | L2: 单价 | M2: 总价 | N2: 2023.2.20-2023.3.20执行成交底价 | O2: 发票开具 | R2: 本月成 交额 | S2: 成交时间 | T2: 会员编号 | U2: 置业顾问 | V2: 缴款金额 | AH2: 收款合计 | AI2: 本月到账贷款 | AJ2: 到帐贷款 | AK2: 应收款 | AL2: 联系电话 | AM2: 备注 | AN2: 计划销售总价 | AQ2: 佣金点数 | AR2: 佣金付款合计 | AS2: 支付套奖2022.8月 | AT2: 支付套奖2023.2月 | AU2: 支付佣金2023.1月 | AV2: 支付佣金2023.2月 | AW2: 支付佣金2023.3月 | AX2: 支付佣金2023.4月 | AY2: 支付佣金2023.5月 | AZ2: 支付佣金2023.6月 | BA2: 支付佣金2023.7月 | BB2: 支付佣金2023.8月 | BC2: 支付佣金2023.9月 | BD2: 支付佣金2023.10月 | BE2: 支付佣金2023.11月 | BF2: 支付佣金2023.12月 | BG2: 支付佣金2024.1月 | BH2: 支付佣金2024.2月 | BI2: 支付佣金2024.3月 | BJ2: 支付佣金2024.4月 | BK2: 支付佣金2024.5月 | BL2: 支付佣金2024.6月 | BM2: 支付佣金2024.7月 | BN2: 支付佣金2024.9月 | BO2: 支付佣金2024.10月 | BP2: 支付佣金2024.11月 | BQ2: 支付佣金2024.12月 | BW2: 印花税
E3: 房屋性质 | O3: 金额 | P3: 号码 | Q3: 开票日期 | V3: 一 | W3: 时间 | X3: 二 | Y3: 时间 | Z3: 三 | AA3: 时间 | AB3: 四 | AC3: 时间 | AD3: 五 | AE3: 时间 | AF3: 六 | AG3: 时间 | BS3: 佣金
I4: 9-负1-配电间 | J4: 4.49 | AH4: =V4+X4+Z4+AB4+AD4+AF4 -> 0 | AK4: =M4-AH4 -> 0 | AQ4: 0.02 | AR4: =SUM(AU4:BR4) -> 0
G5: 李乐 | I5: 9-负1-101 | J5: 46.24 | L5: =M5/J5 -> 1730.1038 | M5: 80000 | V5: 2000 | W5: 45542 | X5: 78000 | Y5: 45573 | AH5: =V5+X5+Z5+AB5+AD5+AF5 -> 80000 | AK5: =M5-AH5 -> 0 | AQ5: 0.02 | AR5: =SUM(AU5:BR5) -> 80000 | BP5: 80000
G6: 蔡俊 | I6: 9-负1-102 | J6: 15.03 | L6: 2059.88 | M6: 30960 | V6: 5000 | W6: 45538 | X6: 25960 | Y6: 2024.9.25 | AH6: =V6+X6+Z6+AB6+AD6+AF6 -> 30960 | AK6: =M6-AH6 -> 0 | AQ6: 0.02 | AR6: =SUM(AU6:BR6) -> 30960 | BN6: 30960
G7: 王霞 | I7: 9-负1-103 | J7: 22.01 | L7: 2059.06 | M7: 45320 | V7: 2000 | W7: 45538 | X7: 43320 | Y7: 2024.11.23 | AH7: =V7+X7+Z7+AB7+AD7+AF7 -> 45320 | AK7: =M7-AH7 -> 0 | AQ7: 0.02 | AR7: =SUM(AU7:BR7) -> 45320 | BP7: 45320
I8: 9-负1-104 | J8: 70.72 | AH8: =V8+X8+Z8+AB8+AD8+AF8 -> 0 | AK8: =M8-AH8 -> 0 | AQ8: 0.02 | AR8: =SUM(AU8:BR8) -> 0
I9: 9-负1-105 | J9: 67.3 | AH9: =V9+X9+Z9+AB9+AD9+AF9 -> 0 | AK9: =M9-AH9 -> 0 | AQ9: 0.02 | AR9: =SUM(AU9:BR9) -> 0
G10: 李学德 | I10: 9-负1-106 | J10: 22.45 | L10: 2059.69 | M10: 46240 | V10: 5000 | W10: 45537 | X10: 41240 | Y10: 45552 | AH10: =V10+X10+Z10+AB10+AD10+AF10 -> 46240 | AK10: =M10-AH10 -> 0 | AQ10: 0.02 | AR10: =SUM(AU10:BR10) -> 46240 | BN10: 46240
G11: 张振华 | I11: 9-负1-107 | J11: 11.28 | L11: 2060.28 | M11: 23240 | V11: 23240 | W11: 45540 | AH11: =V11+X11+Z11+AB11+AD11+AF11 -> 23240 | AK11: =M11-AH11 -> 0 | AQ11: 0.02 | AR11: =SUM(AU11:BR11) -> 23240 | BN11: 23240
I12: 9-负1-108 | J12: 7.57 | L12: 2060.77 | M12: 15600 | AH12: =V12+X12+Z12+AB12+AD12+AF12 -> 0 | AK12: =M12-AH12 -> 15600 | AQ12: 0.02 | AR12: =SUM(AU12:BR12) -> 0
I13: 9-负1-109 | J13: 23.09 | L13: 2059.77 | M13: 47560 | AH13: =V13+X13+Z13+AB13+AD13+AF13 -> 0 | AK13: =M13-AH13 -> 47560 | AQ13: 0.02 | AR13: =SUM(AU13:BR13) -> 0
G14: 胡勇 | I14: 9-负1-201 | J14: 19.17 | L14: 2059.47 | M14: 39480 | V14: 2000 | W14: 45542 | X14: 37480 | Y14: 2024.9.9 | AH14: =V14+X14+Z14+AB14+AD14+AF14 -> 39480 | AK14: =M14-AH14 -> 0 | AQ14: 0.02 | AR14: =SUM(AU14:BR14) -> 39480 | BN14: 39480
G15: 张梦圆 | I15: 9-负1-202 | J15: 14.41 | L15: 2059.68 | M15: 29680 | V15: 2000 | W15: 45537 | X15: 27680 | Y15: 45546 | AH15: =V15+X15+Z15+AB15+AD15+AF15 -> 29680 | AK15: =M15-AH15 -> 0 | AQ15: 0.02 | AR15: =SUM(AU15:BR15) -> 29680 | BN15: 29680
G16: 李燕燕 | I16: 9-负1-203 | J16: 11.28 | L16: 2060.28 | M16: 23240 | V16: 23240 | W16: 2024.9.5 | AH16: =V16+X16+Z16+AB16+AD16+AF16 -> 23240 | AK16: =M16-AH16 -> 0 | AQ16: 0.02 | AR16: =SUM(AU16:BR16) -> 23240 | BN16: 23240
G17: 王鹏伟 | I17: 9-负1-204 | J17: 22.45 | L17: 2059.69 | M17: 46240 | V17: 2000 | W17: 45537 | X17: 44240 | Y17: 45547 | AH17: =V17+X17+Z17+AB17+AD17+AF17 -> 46240 | AK17: =M17-AH17 -> 0 | AQ17: 0.02 | AR17: =SUM(AU17:BR17) -> 46240 | BN17: 46240
I18: 9-负1-205 | J18: 67.3 | AH18: =V18+X18+Z18+AB18+AD18+AF18 -> 0 | AK18: =M18-AH18 -> 0 | AQ18: 0.02 | AR18: =SUM(AU18:BR18) -> 0
I19: 9-负1-206 | J19: 67.3 | AH19: =V19+X19+Z19+AB19+AD19+AF19 -> 0 | AK19: =M19-AH19 -> 0 | AQ19: 0.02 | AR19: =SUM(AU19:BR19) -> 0
I20: 9-负1-207 | J20: 10.47 | L20: 2059.22 | M20: 21560 | AH20: =V20+X20+Z20+AB20+AD20+AF20 -> 0 | AK20: =M20-AH20 -> 21560 | AQ20: 0.02 | AR20: =SUM(AU20:BR20) -> 0
G21: 张生祥 | I21: 9-负1-208 | J21: 10.8 | L21: 2059.26 | M21: 22240 | V21: 2000 | W21: 45539 | X21: 20240 | Y21: 45543 | AH21: =V21+X21+Z21+AB21+AD21+AF21 -> 22240 | AK21: =M21-AH21 -> 0 | AQ21: 0.02 | AR21: =SUM(AU21:BR21) -> 22240 | BN21: 22240
G22: 陈浩 | I22: 9-负1-209 | J22: 39.37 | L22: 2059.44 | M22: 81080 | V22: 5000 | W22: 45537 | X22: 76080 | Y22: 2024.9.3 | AH22: =V22+X22+Z22+AB22+AD22+AF22 -> 81080 | AK22: =M22-AH22 -> 0 | AQ22: 0.02 | AR22: =SUM(AU22:BR22) -> 81080 | BN22: 81080
A23: 1 | G23: 巩红卫 | I23: 9-1-101 | J23: 149.84 | K23: 149.84 | M23: 1182000 | N23: 7873 | T23: （巩红卫） | U23: 潘亦玹（巩红卫） | V23: 20000 | W23: 2023.5.1 | AH23: =V23+X23+Z23+AB23+AD23+AF23 -> 20000 | AK23: =M23-AH23 -> 1162000 | AQ23: =0.6%+0.06%+0.14% -> 0.008 | AR23: =SUM(AU23:BR23) -> 0 | AS23: =100 -> 100 | AT23: =100+100 -> 200 | BW23: 已交
A24: 2 | C24: 2023.2.11 | D24: 20230001464 | F24: 652801198804051612 | G24: 王将龙、张辉 | H24: 0000283 | I24: 9-1-102 | J24: 140.29 | K24: 140.29 | L24: 7863 | M24: 1103100 | O24: 1012018.3 | P24: 24652000000080842039 | Q24: 2024.12.27 | T24: 王将龙 | U24: 王将龙（李世平） | V24: =20000+2000-2000 -> 20000 | W24: 2023.2.10 | X24: 20000 | Y24: 2023.2.11 | Z24: 793100 | AA24: 2023.2.21 | AB24: 270000 | AC24: 2023.3.8 | AH24: =V24+X24+Z24+AB24+AD24+AF24 -> 1103100 | AK24: =M24-AH24 -> 0 | AL24: 13309963919 | AQ24: =0.4%+0.06%+0.14% -> 0.006 | AR24: =SUM(AU24:BR24) -> 1103100 | AS24: =100+100+100 -> 300 | AV24: 833100 | AW24: 270000 | BW24: 已交 | BX24: 已录
A25: 3 | C25: 2023.6.6 | D25: 20230004789 | F25: 622224199806125030 | G25: 张振华 | H25: 000323 | I25: 9-1-201 | J25: 146.97 | K25: 146.97 | L25: 5270 | M25: 774532 | N25: 5259.93 | O25: 710579.82 | P25: 24652000000081555090 | Q25: 2024-12.30 | U25: 米云鹤 | V25: 20000 | W25: 2023.5.1 | X25: 255532 | Y25: 2023.6.6 | Z25: 499000 | AA25: 2024.2.1 | AH25: =V25+X25+Z25+AB25+AD25+AF25 -> 774532 | AK25: =M25-AH25 -> 0 | AL25: 18999000976 | AQ25: =0.4%+0.04%+0.14% -> 0.0058 | AR25: =SUM(AU25:BR25) -> 774532 | AZ25: 275532 | BH25: 499000 | BW25: 已交 | BX25: 已录
A26: 4 | C26: 2023.8.6 | D26: 20230006624 | F26: 652801198308076116 | G26: 李杨 | H26: 0000319 | I26: 9-1-202 | J26: 137.77 | K26: 137.77 | L26: 5334.97 | M26: 735000 | N26: 5273.09 | U26: 肖陶丽 | V26: 20000 | W26: 2023.5.1 | X26: 7000 | Y26: 2023.8.6 | Z26: 140000 | AA26: 2024.4.3 | AB26: 568000 | AC26: 2024.5.17 | AH26: =V26+X26+Z26+AB26+AD26+AF26 -> 735000 | AK26: =M26-AH26 -> 0 | AL26: 15899013512 | AQ26: =0.4%+0.08% -> 0.0048 | AR26: =SUM(AU26:BR26) -> 735000 | AT26: 100 | BJ26: 167000 | BK26: 568000 | BW26: 已交 | BX26: 已录
A27: 5 | C27: 2023.2.20 | D27: 20230001743 | F27: 65282319860301002X | G27: 吴莎莎 | I27: 9-1-301 | J27: 146.97 | K27: 146.97 | L27: 5245.55 | M27: 770939 | O27: 707283.49 | P27: 24652000000081575274 | Q27: 2024-12.30 | T27: 吴莎莎 | U27: 吴莎莎 | V27: 770939 | W27: 2023.2.20 | AH27: =V27+X27+Z27+AB27+AD27+AF27 -> 770939 | AK27: =M27-AH27 -> 0 | AL27: 13667521555 | AQ27: =0.5%+0.06%+0.14% -> 0.007 | AR27: =SUM(AU27:BR27) -> 770939 | AV27: 770939 | BW27: 已交 | BX27: 已录
A28: 6 | C28: 2023.2.10 | D28: 20230001404 | F28: 513027197708045621 | G28: 曾丽萍、胡卿 | H28: 0000006 | I28: 9-1-302 | J28: 137.77 | K28: 137.77 | L28: 5140.96 | M28: 708270 | O28: 649788.99 | P28: 24652000000081576399 | Q28: 2024-12.30 | T28: 0000015（曾丽萍胡卿） | U28: 潘亦玹（曾丽平胡卿） | V28: 308270 | W28: 2023.2.10 | X28: 400000 | Y28: 2023.4.18 | AH28: =V28+X28+Z28+AB28+AD28+AF28 -> 708270 | AK28: =M28-AH28 -> 0 | AL28: 13779646868 | AQ28: =0.6%+0.04%+0.1% -> 0.0074 | AR28: =SUM(AU28:BR28) -> 708270 | AS28: =100 -> 100 | AT28: 100 | AV28: 308270 | AX28: 400000 | BW28: 已交 | BX28: 已录
A29: 7 | C29: 2023.2.11 | D29: 20230001431 | F29: 652828199308011528 | G29: 李燕燕 | H29: 0000282 | I29: 9-1-401 | J29: 146.97 | K29: 146.97 | L29: 5300 | M29: 778941 | O29: 714624.77 | P29: 24652000000081576757 | Q29: 2024-12.30 | T29: 李燕燕 | U29: 李燕燕 | V29: 20000 | W29: 2023.2.9 | X29: 218941 | Y29: 2023.2.11 | Z29: 540000 | AA29: 2023.9.15 | AH29: =V29+X29+Z29+AB29+AD29+AF29 -> 778941 | AK29: =M29-AH29 -> 0 | AL29: 18799823394 | AQ29: =0.6%+0.05%+0.14%+0.06% -> 0.0085 | AR29: =SUM(AU29:BR29) -> 778941 | AV29: 238941 | BC29: 540000 | BW29: 已交 | BX29: 已录
A30: 8 | C30: 2023.2.5 | D30: 20230000706 | F30: 652827199606182038 | G30: 方建成 | I30: 9-1-402 | J30: 137.77 | K30: 137.77 | L30: 5320 | M30: 732936 | O30: 672418.35 | P30: 24652000000081557692 | Q30: 2024-12.30 | T30: （方建成） | U30: （方建成） | V30: 300936 | W30: 2023.2.5 | X30: 432000 | Y30: 2023.2.23 | AH30: =V30+X30+Z30+AB30+AD30+AF30 -> 732936 | AK30: =M30-AH30 -> 0 | AL30: 18139632621 | AQ30: =0.5%+0.05%+0.14% -> 0.0069 | AR30: =SUM(AU30:BR30) -> 732936 | AS30: 100 | AT30: 100 | AV30: 732936 | BW30: 已交 | BX30: 已录
A31: 9 | C31: 2023.2.10 | D31: 20230001400 | F31: 41140319960308061X | G31: 陈浩、刘桂芝 | H31: 0000066 | I31: 9-1-501 | J31: 146.97 | K31: 146.97 | L31: 5208.96 | M31: 765561 | O31: 702349.54 | P31: 24652000000081587890 | Q31: 2024-12.30 | T31: 0000023（刘桂芝） | U31: 潘亦玹（刘桂芝） | V31: 725561 | W31: 2023.2.10 | X31: 40000 | Y31: 2023.4.4 | AH31: =V31+X31+Z31+AB31+AD31+AF31 -> 765561 | AK31: =M31-AH31 -> 0 | AL31: 18167705590 | AQ31: =0.6%+0.04%+0.1% -> 0.0074 | AR31: =SUM(AU31:BR31) -> 765561 | AS31: =100 -> 100 | AV31: 725561 | AX31: 40000 | BW31: 已交 | BX31: 已录
A32: 10 | C32: 2023.4.30 | D32: 20230003790 | F32: 652801199105080013 | G32: 余泽华 | H32: 0000303 | I32: 9-1-502 | J32: 137.77 | K32: 137.77 | L32: 5421.94 | M32: 746980 | O32: 685302.75 | P32: 24652000000081598308 | Q32: 2024-12.30 | T32: 余泽华 | U32: 赵江龙（余泽华） | V32: =2000-2000 -> 0 | W32: 44761 | X32: =18000-18000 -> 0 | Y32: 2023.1.1 | Z32: 20000 | AA32: 2023.4.15 | AB32: 206980 | AC32: 2023.5.1 | AD32: 520000 | AE32: 2023.5.17 | AH32: =V32+X32+Z32+AB32+AD32+AF32 -> 746980 | AK32: =M32-AH32 -> 0 | AL32: 18599180069 | AQ32: =0.4%+0.1% -> 0.005 | AR32: =SUM(AU32:BR32) -> 746980 | AS32: =100+100 -> 200 | AY32: 746980 | BW32: 已交 | BX32: 已录
A33: 11 | C33: 2023.6 | D33: 20230004864 | F33: 610502199911101019 | G33: 谷镇江 | H33: 0000334 | I33: 9-1-601 | J33: 146.97 | K33: 146.97 | L33: =M33/K33 -> 5877.2266 | M33: 863776 | O33: 792455.05 | P33: 24652000000081568892 | Q33: 2024-12.30 | U33: 王荣 | V33: 20000 | W33: 2023.5.16 | X33: 343776 | Y33: 2023.6.10 | Z33: 500000 | AA33: 2023.10.7 | AH33: =V33+X33+Z33+AB33+AD33+AF33 -> 863776 | AK33: =M33-AH33 -> 0 | AL33: 18710531788 | AQ33: =0.6%+0.06%+0.14% -> 0.008 | AR33: =SUM(AU33:BR33) -> 863776 | AS33: =100 -> 100 | AT33: =100+100 -> 200 | AZ33: 363776 | BD33: 500000 | BT33: 库德来提退房，1月业绩主管 经理均安最低点计佣，未拿提成，不做调整 | BW33: 已交 | BX33: 已录
A34: 12 | C34: 2023.3.6 | D34: 20230000730 | F34: 130281199911135336 | G34: 赵敬泽 | H34: 0000016 | I34: 9-1-602 | J34: 137.77 | K34: 137.77 | L34: 5265.96 | M34: 725492 | O34: 665588.99 | P34: 24652000000081589251 | Q34: 2024-12.30 | T34: 0000175（赵敬泽） | U34: 张玉琴（赵敬泽） | V34: 426492 | W34: 2023.2.6 | X34: 299000 | Y34: 2023.8.1 | AH34: =V34+X34+Z34+AB34+AD34+AF34 -> 725492 | AK34: =M34-AH34 -> 0 | AL34: 17717779640 | AQ34: =0.4%+0.04%+0.1%+0.04% -> 0.0058 | AR34: =SUM(AU34:BR34) -> 725492 | AS34: =100 -> 100 | AT34: =100+100 -> 200 | AV34: 426492 | BB34: 299000 | BW34: 已交 | BX34: 已录
A35: 13 | C35: 2023.2.5 | D35: 20230000725 | F35: 652823199412240521 | G35: 张洁 | H35: 0000225 | I35: 9-1-701 | J35: 146.97 | K35: 146.97 | L35: 5298.97 | M35: 778789 | O35: 714485.32 | P35: 24652000000081579746 | Q35: 2024-12.30 | T35: （张洁） | U35: 闫金秀（张洁） | V35: =2000-2000 -> 0 | W35: 44753 | X35: 102789 | Y35: 2023.2.5 | Z35: 112000 | AA35: 2023.6.10 | AB35: 65000 | AC35: 2023.6.13 | AD35: 499000 | AE35: 2023.7.26 | AH35: =V35+X35+Z35+AB35+AD35+AF35 -> 778789 | AK35: =M35-AH35 -> 0 | AL35: 13139737559 | AQ35: =0.6%+0.1% -> 0.007 | AR35: =SUM(AU35:BR35) -> 778789 | AS35: =100+100 -> 200 | AZ35: 167789 | BA35: 611000 | BW35: 已交 | BX35: 已录
A36: 14 | C36: 2023.1.6 | D36: 20230000142 | F36: 650103198805195514 | G36: 贺飞 | H36: 0000018 | I36: 9-1-702 | J36: 137.77 | K36: 137.77 | L36: 5310.96 | M36: 731691 | O36: 671276.15 | P36: 24652000000081640299 | Q36: 2024-12.30 | T36: 0000110（贺飞） | U36: 潘亦玹（贺飞） | V36: =2000 -> 2000 | W36: 44760 | X36: 18000 | Y36: 2023.1.1 | Z36: 163691 | AA36: 2023.2.16 | AB36: 348000 | AC36: 2023.2.24 | AD36: 200000 | AE36: 2023.6.7 | AH36: =V36+X36+Z36+AB36+AD36+AF36 -> 731691 | AK36: =M36-AH36 -> 0 | AL36: 13369967520 | AQ36: =0.6%+0.04%+0.1% -> 0.0074 | AR36: =SUM(AU36:BR36) -> 731691 | AT36: 100 | AU36: 183691 | AV36: 348000 | AZ36: 200000 | BW36: 已交 | BX36: 已录
A37: 15 | C37: 2023.3.7 | D37: 20230000953 | F37: 650107198311200016 | G37: 胡勇、王丹风 | H37: 0000072 | I37: 9-1-801 | J37: 146.97 | K37: 146.97 | L37: 5323.96 | M37: 782463 | O37: 717855.96 | P37: 24652000000081620952 | Q37: 2024-12.30 | T37: （胡勇） | U37: 霍红霞（胡勇） | V37: 77463 | W37: 2023.2.7 | X37: 80000 | Y37: 2023.2.24 | Z37: 12000 | AA37: 2023.7.25 | AB37: 613000 | AC37: 2023.9.22 | AH37: =V37+X37+Z37+AB37+AD37+AF37 -> 782463 | AK37: =M37-AH37 -> 0 | AL37: 13999627205 | AQ37: =0.6%+0.04%+0.1%+0.04% -> 0.0078 | AR37: =SUM(AU37:BR37) -> 782463 | AV37: 157463 | BC37: 625000 | BW37: 已交 | BX37: 已录
A38: 16 | C38: 2023.2.10 | D38: 20230001308 | F38: 41128219990719803X | G38: 原奥拓 | H38: 0000020 | I38: 9-1-802 | J38: 137.77 | K38: 137.77 | L38: 5335.96 | M38: 735136 | O38: 674436.7 | P38: 24652000000080194653 | Q38: 2024-12-26 | T38: 0000082（原奥拓） | U38: 霍红霞（原奥拓） | V38: 192136 | W38: 2023.2.10 | X38: 43000 | Y38: 2023.2.16 | Z38: 500000 | AA38: 2023.3.7 | AH38: =V38+X38+Z38+AB38+AD38+AF38 -> 735136 | AK38: =M38-AH38 -> 0 | AL38: 18794759920 | AQ38: =0.6%+0.04%+0.1% -> 0.0074 | AR38: =SUM(AU38:BR38) -> 735136 | AS38: 100 | AT38: 100 | AV38: 235136 | AW38: 500000 | BW38: 已交 | BX38: 已录
A39: 17 | C39: 2023.4.10 | D39: 20230003229 | F39: 620121196609240531 | G39: 王贤 | H39: 0000074 | I39: 9-1-901 | J39: 146.97 | K39: 146.97 | L39: 5368.96 | M39: 789076 | T39: 0000036（王贤） | U39: 米云鹤（王贤） | V39: 2000 | W39: 44763 | X39: 18000 | Y39: 2023.1.1 | Z39: 239076 | AA39: 2023.4.10 | AH39: =V39+X39+Z39+AB39+AD39+AF39 -> 259076 | AK39: =M39-AH39 -> 530000 | AL39: 13899055333 | AQ39: 0.0054 | AR39: =SUM(AU39:BR39) -> 0 | AS39: =100 -> 100 | BW39: 已交 | BX39: 已录
A40: 18 | C40: 2023.2.9 | D40: 20230001243 | F40: 411627199609016418 | G40: 任文森 | H40: 0000022 | I40: 9-1-902 | J40: 137.77 | K40: 137.77 | L40: 5380.96 | M40: 741335 | O40: 680123.85 | P40: 24652000000081611505 | Q40: 2024-12.30 | T40: 0000030（肖陶丽） | U40: 任文森（肖陶丽） | V40: 242335 | W40: 2023.2.9 | X40: 499000 | Y40: 2023.5.18 | AH40: =V40+X40+Z40+AB40+AD40+AF40 -> 741335 | AK40: =M40-AH40 -> 0 | AL40: 13565026218 | AQ40: =0.6%+0.1% -> 0.007 | AR40: =SUM(AU40:BR40) -> 741335 | AT40: =100+100 -> 200 | AV40: 242335 | AY40: 499000 | BW40: 已交 | BX40: 已录
...

Sheet 画堂春锦苑1#2#3#5#7#楼住宅销售明细表
A1: 1#-5#/7#楼住宅销售明细表
A2: 序号 | B2: 成交 | C2: 合同签订日期 | D2: 合同号 | F2: 身份证号 | G2: 姓名 | H2: 订购书编号 | I2: 房号 | J2: 开发 面积 | K2: 销售面积 | L2: 单价 | M2: 总价 | N2: 成交底价 | O2: 发票开具 | R2: 本月成 交额 | S2: 成交时间 | T2: 会员编号 | U2: 置业顾问 | V2: 缴款金额 | AH2: 收款合计 | AI2: 本月到账贷款 | AJ2: 到帐贷款 | AK2: 应收款 | AL2: 联系电话 | AM2: 备注 | AN2: 计划销售总价 | AO2: 佣金付款合计 | AP2: 佣金点数 | AQ2: 套奖付款合计 | AR2: 支付套奖2023.3月 | AS2: 支付套奖2023.4月 | AT2: 支付套奖2023.5月 | AU2: 支付套奖2023.6月 | AV2: 支付套奖2023.7月 | AW2: 支付套奖2023.8月 | AX2: 支付套奖及转定2023.9月 | AY2: 支付套奖及转定2023.10月 | AZ2: 8月佣金 | BA2: 9月佣金 | BB2: 10月佣金 | BC2: 11月佣金 | BD2: 12月佣金 | BE2: 2024.1月佣金 | BF2: 2024.2月佣金 | BG2: 2024.3月佣金 | BH2: 2024.4月佣金 | BI2: 2024.5月佣金 | BJ2: 2024.6月佣金 | BK2: 2024.7月佣金 | BL2: 2024.8月佣金 | BM2: 9月佣金 | BN2: 10月佣金 | BO2: 11月佣金 | BP2: 12月佣金 | BR2: 佣金 | BT2: 印花税 | BU2: 房源系统
E3: 房屋性质 | O3: 金额 | P3: 号码 | Q3: 开票日期 | V3: 一 | W3: 时间 | X3: 二 | Y3: 时间 | Z3: 三 | AA3: 时间 | AB3: 四 | AC3: 时间 | AD3: 五 | AE3: 时间 | AF3: 六 | AG3: 时间
I4: 1-负1-人防工程 | J4: 67.99 | AH4: =V4+X4+Z4+AB4+AD4+AF4 -> 0 | AO4: =SUM(AZ4:BQ4) -> 0 | AQ4: =AR4+AS4+AT4+AU4+AV4+AW4+AX4+AY4 -> 0
I5: 1-负1-101 | J5: 18.22 | AH5: =V5+X5+Z5+AB5+AD5+AF5 -> 0 | AO5: =SUM(AZ5:BQ5) -> 0 | AQ5: =AR5+AS5+AT5+AU5+AV5+AW5+AX5+AY5 -> 0
I6: 1-负1-102 | J6: 15.71 | AH6: =V6+X6+Z6+AB6+AD6+AF6 -> 0 | AO6: =SUM(AZ6:BQ6) -> 0 | AQ6: =AR6+AS6+AT6+AU6+AV6+AW6+AX6+AY6 -> 0
I7: 1-负1-103 | J7: 76.5 | AH7: =V7+X7+Z7+AB7+AD7+AF7 -> 0 | AO7: =SUM(AZ7:BQ7) -> 0 | AQ7: =AR7+AS7+AT7+AU7+AV7+AW7+AX7+AY7 -> 0
I8: 1-负1-104 | J8: 76.19 | AH8: =V8+X8+Z8+AB8+AD8+AF8 -> 0 | AO8: =SUM(AZ8:BQ8) -> 0 | AQ8: =AR8+AS8+AT8+AU8+AV8+AW8+AX8+AY8 -> 0
I9: 1-负1-105 | J9: 35.28 | AH9: =V9+X9+Z9+AB9+AD9+AF9 -> 0 | AO9: =SUM(AZ9:BQ9) -> 0 | AQ9: =AR9+AS9+AT9+AU9+AV9+AW9+AX9+AY9 -> 0
I10: 1-负1-106 | J10: 18.22 | AH10: =V10+X10+Z10+AB10+AD10+AF10 -> 0 | AO10: =SUM(AZ10:BQ10) -> 0 | AQ10: =AR10+AS10+AT10+AU10+AV10+AW10+AX10+AY10 -> 0
I11: 1-负1-201 | J11: 18.22 | AH11: =V11+X11+Z11+AB11+AD11+AF11 -> 0 | AO11: =SUM(AZ11:BQ11) -> 0 | AQ11: =AR11+AS11+AT11+AU11+AV11+AW11+AX11+AY11 -> 0
I12: 1-负1-202 | J12: 35.28 | AH12: =V12+X12+Z12+AB12+AD12+AF12 -> 0 | AO12: =SUM(AZ12:BQ12) -> 0 | AQ12: =AR12+AS12+AT12+AU12+AV12+AW12+AX12+AY12 -> 0
I13: 1-负1-203 | J13: 76.19 | AH13: =V13+X13+Z13+AB13+AD13+AF13 -> 0 | AO13: =SUM(AZ13:BQ13) -> 0 | AQ13: =AR13+AS13+AT13+AU13+AV13+AW13+AX13+AY13 -> 0
I14: 1-负1-204 | J14: 76.19 | AH14: =V14+X14+Z14+AB14+AD14+AF14 -> 0 | AO14: =SUM(AZ14:BQ14) -> 0 | AQ14: =AR14+AS14+AT14+AU14+AV14+AW14+AX14+AY14 -> 0
I15: 1-负1-205 | J15: 15.71 | AH15: =V15+X15+Z15+AB15+AD15+AF15 -> 0 | AO15: =SUM(AZ15:BQ15) -> 0 | AQ15: =AR15+AS15+AT15+AU15+AV15+AW15+AX15+AY15 -> 0
... I19: 1-负1-303 | J19: 73.21 | AH19: =V19+X19+Z19+AB19+AD19+AF19 -> 0 | AO19: =SUM(AZ19:BQ19) -> 0 | AQ19: =AR19+AS19+AT19+AU19+AV19+AW19+AX19+AY19 -> 0
A20: 1 | G20: 王茂德 退 | I20: 1-1-101 | J20: 119.31 | N20: 8442.5 | T20: 0000315 | U20: 李秀莲 | V20: =2000-2000 -> 0 | W20: 2023.11.6 | AH20: =V20+X20+Z20+AB20+AD20+AF20 -> 0 | AO20: =SUM(AZ20:BQ20) -> 0 | AQ20: =AR20+AS20+AT20+AU20+AV20+AW20+AX20+AY20 -> 0
A21: 2 | C21: 2024.10.1 | D21: 20240005461 | F21: 500225198309096227 | G21: 邢冬梅 | H21: 0000702 | I21: 1-1-102 | J21: 119.13 | K21: 119.13 | L21: =M21/K21 -> 8226.3074 | M21: 980000 | N21: 8226.31 | U21: 刘思汉 | V21: 20000 | W21: 45536 | X21: 380000 | Y21: 2024.10.23 | Z21: 580000 | AA21: 2024.11.14 | AH21: =V21+X21+Z21+AB21+AD21+AF21 -> 980000 | AK21: =M21-AH21 -> 0 | AL21: 13899014069 | AO21: =SUM(AZ21:BQ21) -> 980000 | AP21: =0.5%+0.04%+0.1% -> 0.0064 | AQ21: =AR21+AS21+AT21+AU21+AV21+AW21+AX21+AY21 -> 0 | BN21: 400000 | BO21: 580000 | BT21: 已交
A22: 3 | I22: 1-1-201 | J22: 117.91 | N22: 5745.6 | AH22: =V22+X22+Z22+AB22+AD22+AF22 -> 0 | AO22: =SUM(AZ22:BQ22) -> 0 | AQ22: =AR22+AS22+AT22+AU22+AV22+AW22+AX22+AY22 -> 0
