Workbook

Sheet 工资汇总表
A2: 基本信息 | H2: 其他项核算 | M2: 应发核算 | Q2: 社保、公积金及个税 | W2: 实发总额 | X2: 备注
A3: 单位名称 | B3: 月末人数 | C3: 月工资标准 | D3: 应出勤天数 | E3: 基本薪资 | F3: 绩效奖金 | G3: 年度奖金 | H3: 加班工资 | I3: 绩效考核 | J3: 假期工资 | K3: 其他 | L3: 小计 | M3: 当月日均工资 | N3: 当月日均奖金 | O3: 实际出勤天数 | P3: 应发总额 | Q3: 养老金 | R3: 失业金 | S3: 医疗金 | T3: 大额医疗保险 | U3: 税金 | V3: 小计
A4: 新疆通力建设集团股份有限公司 | B4: 23 | C4: =工资表!E28 -> 327740 | D4: =工资表!F28 -> 19 | E4: =工资表!G28 -> 177357 | F4: =工资表!H28 -> 102533 | G4: =工资表!I28 -> 47850 | H4: =工资表!J28 -> 0 | I4: =工资表!K28 -> -1553 | J4: =工资表!L28 -> 5204.9684 | ... W4: =工资表!Y28 -> 250496.53

Sheet 工资表
A1: 新疆通力建设集团股份有限公司2025年2月工资表
A3: 序号 | B3: 基本信息 | J3: 其他项核算 | O3: 应发核算 | S3: 社保、公积金及个税 | Y3: 实发总额 | Z3: 备注
B4: 姓名 | C4: 岗位 | D4: 职务 序列 | E4: 月工资 标准 | F4: 应出 勤天 | G4: 基本 薪资 | H4: 绩效 奖金 | I4: 年度 奖金 | J4: 加班 工资 | K4: 绩效 考核 | L4: 假期 工资 | M4: 其他 | N4: 小计 | O4: 日均 工资 | P4: 日均 奖金 | Q4: 实际 出勤 | R4: 应发总额 | S4: 养老金 | T4: 失业金 | U4: 医疗金 | V4: 大额 医保 | W4: 税金 | X4: 小计
A5: 1 | B5: 张璐燕 | C5: 董事长、总经理 | D5: A1 | E5: 5000 | F5: 19 | G5: =E5*VLOOKUP(D5,职务序列取数!B:E,2,0) -> 5000 | H5: =E5*VLOOKUP(D5,职务序列取数!B:E,3,0) -> 0 | I5: =E5*VLOOKUP(D5,职务序列取数!B:E,4,0) -> 0 | N5: =SUM(J5:M5) -> 0 | O5: =G5/F5 -> 263.15789 | P5: =H5/F5 -> 0 | Q5: =VLOOKUP(B5,考勤!B:AI,34,0) -> 19 | R5: =(O5*Q5)+(P5*Q5)+N5 -> 5000 | W5: 0 | X5: =SUM(S5:W5) -> 0 | Y5: =R5-X5 -> 5000
A6: 2 | B6: 许宗奎 | C6: 法人、董事长 | D6: A1 | E6: 5000 | F6: 19 | G6: =E6*VLOOKUP(D6,职务序列取数!B:E,2,0) -> 5000 | H6: =E6*VLOOKUP(D6,职务序列取数!B:E,3,0) -> 0 | I6: =E6*VLOOKUP(D6,职务序列取数!B:E,4,0) -> 0 | N6: =SUM(J6:M6) -> 0 | O6: =G6/F6 -> 263.15789 | P6: =H6/F6 -> 0 | Q6: =VLOOKUP(B6,考勤!B:AI,34,0) -> 19 | R6: =(O6*Q6)+(P6*Q6)+N6 -> 5000 | S6: 400 | T6: 25 | U6: 130.62 | V6: 20.83 | W6: 0 | X6: =SUM(S6:W6) -> 576.45 | Y6: =R6-X6 -> 4423.55
A7: 3 | B7: 范伟东 | C7: 董事会秘书 | D7: A3 | E7: 60000 | F7: 19 | G7: =E7*VLOOKUP(D7,职务序列取数!B:E,2,0) -> 22500 | H7: =E7*VLOOKUP(D7,职务序列取数!B:E,3,0) -> 22500 | I7: =E7*VLOOKUP(D7,职务序列取数!B:E,4,0) -> 15000 | N7: =SUM(J7:M7) -> 0 | O7: =G7/F7 -> 1184.2105 | P7: =H7/F7 -> 1184.2105 | Q7: =VLOOKUP(B7,考勤!B:AI,34,0) -> 19 | R7: =(O7*Q7)+(P7*Q7)+N7 -> 45000 | W7: 3582.24 | X7: =SUM(S7:W7) -> 3582.24 | Y7: =R7-X7 -> 41417.76
A8: 4 | B8: 何健 | C8: 集团副总经理 | D8: A3 | E8: 50000 | F8: 19 | G8: =E8*VLOOKUP(D8,职务序列取数!B:E,2,0) -> 18750 | H8: =E8*VLOOKUP(D8,职务序列取数!B:E,3,0) -> 18750 | I8: =E8*VLOOKUP(D8,职务序列取数!B:E,4,0) -> 12500 | M8: -5037.77 | N8: =SUM(J8:M8) -> -5037.77 | O8: =G8/F8 -> 986.84211 | P8: =H8/F8 -> 986.84211 | Q8: =VLOOKUP(B8,考勤!B:AI,34,0) -> 19 | R8: =(O8*Q8)+(P8*Q8)+N8 -> 32462.23 | S8: 1959.68 | T8: 122.48 | U8: 489.92 | V8: 122.48 | W8: 743.03 | X8: =SUM(S8:W8) -> 3437.59 | Y8: =R8-X8 -> 29024.64 | Z8: 社保补差
A9: 5 | B9: 陈七斤 | C9: 事业发展中心总经理 | D9: A4 | E9: 30000 | F9: 19 | G9: =E9*VLOOKUP(D9,职务序列取数!B:E,2,0) -> 11250 | H9: =E9*VLOOKUP(D9,职务序列取数!B:E,3,0) -> 11250 | I9: =E9*VLOOKUP(D9,职务序列取数!B:E,4,0) -> 7500 | N9: =SUM(J9:M9) -> 0 | O9: =G9/F9 -> 592.10526 | P9: =H9/F9 -> 592.10526 | Q9: =VLOOKUP(B9,考勤!B:AI,34,0) -> 19 | R9: =(O9*Q9)+(P9*Q9)+N9 -> 22500 | S9: 400 | T9: 25 | U9: 100 | V9: 25 | W9: 163.5 | X9: =SUM(S9:W9) -> 713.5 | Y9: =R9-X9 -> 21786.5
A10: 6 | B10: 任霄 | C10: 运营服务中心副总经理 | D10: A5 | E10: 25000 | F10: 19 | G10: =E10*VLOOKUP(D10,职务序列取数!B:E,2,0) -> 9375 | H10: =E10*VLOOKUP(D10,职务序列取数!B:E,3,0) -> 9375 | I10: =E10*VLOOKUP(D10,职务序列取数!B:E,4,0) -> 6250 | K10: -1553 | M10: -60 | N10: =SUM(J10:M10) -> -1613 | O10: =G10/F10 -> 493.42105 | P10: =H10/F10 -> 493.42105 | Q10: =VLOOKUP(B10,考勤!B:AI,34,0) -> 18 | R10: =(O10*Q10)+(P10*Q10)+N10 -> 16150.158 | S10: 400 | T10: 25 | U10: 100 | V10: 25 | W10: 318 | X10: =SUM(S10:W10) -> 868 | Y10: =R10-X10 -> 15282.158 | Z10: 缺卡3次
A11: 7 | B11: 贺宇 | C11: 工程管理部经理 | D11: M1 | E11: 24000 | F11: 19 | G11: =E11*VLOOKUP(D11,职务序列取数!B:E,2,0) -> 12240 | H11: =E11*VLOOKUP(D11,职务序列取数!B:E,3,0) -> 8160 | I11: =E11*VLOOKUP(D11,职务序列取数!B:E,4,0) -> 3600 | M11: -20 | N11: =SUM(J11:M11) -> -20 | O11: =G11/F11 -> 644.21053 | P11: =H11/F11 -> 429.47368 | Q11: =VLOOKUP(B11,考勤!B:AI,34,0) -> 19 | R11: =(O11*Q11)+(P11*Q11)+N11 -> 20380 | S11: 400 | T11: 25 | U11: 100 | V11: 25 | W11: 444.9 | X11: =SUM(S11:W11) -> 994.9 | Y11: =R11-X11 -> 19385.1 | Z11: 缺卡1次
A12: 8 | B12: 冯建辉 | C12: 内控经理 | D12: M1 | E12: 20000 | F12: 19 | G12: =E12*VLOOKUP(D12,职务序列取数!B:E,2,0) -> 10200 | H12: =E12*VLOOKUP(D12,职务序列取数!B:E,3,0) -> 6800 | I12: =E12*VLOOKUP(D12,职务序列取数!B:E,4,0) -> 3000 | N12: =SUM(J12:M12) -> 0 | O12: =G12/F12 -> 536.84211 | P12: =H12/F12 -> 357.89474 | Q12: =VLOOKUP(B12,考勤!B:AI,34,0) -> 19 | R12: =(O12*Q12)+(P12*Q12)+N12 -> 17000 | S12: 400 | T12: 25 | U12: 100 | V12: 25 | W12: 343.5 | X12: =SUM(S12:W12) -> 893.5 | Y12: =R12-X12 -> 16106.5
A13: 9 | B13: 马卫明 | C13: 人事行政经理 | D13: M1 | E13: 12000 | F13: 19 | G13: =E13*0.6 -> 7200 | H13: =E13*0.4 -> 4800 | I13: 0 | N13: =SUM(J13:M13) -> 0 | O13: =G13/F13 -> 378.94737 | P13: =H13/F13 -> 252.63158 | Q13: =VLOOKUP(B13,考勤!B:AI,34,0) -> 18.5 | R13: =(O13*Q13)+(P13*Q13)+N13 -> 11684.211 | S13: 400 | T13: 25 | U13: 100 | V13: 25 | W13: 139.03 | X13: =SUM(S13:W13) -> 689.03 | Y13: =R13-X13 -> 10995.181
A14: 10 | B14: 何昱珉 | C14: 能源主管 | D14: PM | E14: 7500 | F14: 19 | G14: =E14*VLOOKUP(D14,职务序列取数!B:E,2,0) -> 5250 | H14: =E14*VLOOKUP(D14,职务序列取数!B:E,3,0) -> 2250 | I14: =E14*VLOOKUP(D14,职务序列取数!B:E,4,0) -> 0 | M14: -20 | N14: =SUM(J14:M14) -> -20 | O14: =G14/F14 -> 276.31579 | P14: =H14/F14 -> 118.42105 | Q14: =VLOOKUP(B14,考勤!B:AI,34,0) -> 19 | R14: =(O14*Q14)+(P14*Q14)+N14 -> 7480 | S14: 399.92 | T14: 25 | U14: 99.98 | V14: 25 | W14: 58.22 | X14: =SUM(S14:W14) -> 608.12 | Y14: =R14-X14 -> 6871.88 | Z14: 缺卡1次
A15: 11 | B15: 屈永涛 | C15: 合同管理 | D15: PM | E15: 8000 | F15: 19 | G15: =E15*VLOOKUP(D15,职务序列取数!B:E,2,0) -> 5600 | H15: =E15*VLOOKUP(D15,职务序列取数!B:E,3,0) -> 2400 | I15: =E15*VLOOKUP(D15,职务序列取数!B:E,4,0) -> 0 | N15: =SUM(J15:M15) -> 0 | O15: =G15/F15 -> 294.73684 | P15: =H15/F15 -> 126.31579 | Q15: =VLOOKUP(B15,考勤!B:AI,34,0) -> 19 | R15: =(O15*Q15)+(P15*Q15)+N15 -> 8000 | S15: 400 | T15: 25 | U15: 100 | V15: 25 | W15: 73.5 | X15: =SUM(S15:W15) -> 623.5 | Y15: =R15-X15 -> 7376.5
A16: 12 | B16: 张素杰 | C16: 会计 | D16: PB | E16: 7510 | F16: 19 | G16: =E16*VLOOKUP(D16,职务序列取数!B:E,2,0) -> 6008 | H16: =E16*VLOOKUP(D16,职务序列取数!B:E,3,0) -> 1502 | I16: =E16*VLOOKUP(D16,职务序列取数!B:E,4,0) -> 0 | L16: =O16*3*60% -> 569.17895 | N16: =SUM(J16:M16) -> 569.17895 | O16: =G16/F16 -> 316.21053 | P16: =H16/F16 -> 79.052632 | Q16: =VLOOKUP(B16,考勤!B:AI,34,0) -> 16 | R16: =(O16*Q16)+(P16*Q16)+N16 -> 6893.3895 | W16: 11.8 | X16: =SUM(S16:W16) -> 11.8 | Y16: =R16-X16 -> 6881.5895
A17: 13 | B17: 岳丽 | C17: 会计 | D17: PB | E17: 6330 | F17: 19 | G17: =E17*VLOOKUP(D17,职务序列取数!B:E,2,0) -> 5064 | H17: =E17*VLOOKUP(D17,职务序列取数!B:E,3,0) -> 1266 | I17: =E17*VLOOKUP(D17,职务序列取数!B:E,4,0) -> 0 | M17: -40 | N17: =SUM(J17:M17) -> -40 | O17: =G17/F17 -> 266.52632 | P17: =H17/F17 -> 66.631579 | Q17: =VLOOKUP(B17,考勤!B:AI,34,0) -> 19 | R17: =(O17*Q17)+(P17*Q17)+N17 -> 6290 | S17: 400 | T17: 25 | U17: 100 | V17: 25 | W17: 22.2 | X17: =SUM(S17:W17) -> 572.2 | Y17: =R17-X17 -> 5717.8 | Z17: 缺卡2次
A18: 14 | B18: 张文革 | C18: 出纳 | D18: PB | E18: 5500 | F18: 19 | G18: =E18*VLOOKUP(D18,职务序列取数!B:E,2,0) -> 4400 | H18: =E18*VLOOKUP(D18,职务序列取数!B:E,3,0) -> 1100 | I18: =E18*VLOOKUP(D18,职务序列取数!B:E,4,0) -> 0 | M18: -20 | N18: =SUM(J18:M18) -> -20 | O18: =G18/F18 -> 231.57895 | P18: =H18/F18 -> 57.894737 | Q18: =VLOOKUP(B18,考勤!B:AI,34,0) -> 19 | R18: =(O18*Q18)+(P18*Q18)+N18 -> 5480 | W18: 14.4 | X18: =SUM(S18:W18) -> 14.4 | Y18: =R18-X18 -> 5465.6 | Z18: 缺卡1次
A19: 15 | B19: 冯影 | C19: 综合行政 | D19: PB | E19: 5500 | F19: 19 | G19: =E19*VLOOKUP(D19,职务序列取数!B:E,2,0) -> 4400 | H19: =E19*VLOOKUP(D19,职务序列取数!B:E,3,0) -> 1100 | I19: =E19*VLOOKUP(D19,职务序列取数!B:E,4,0) -> 0 | N19: =SUM(J19:M19) -> 0 | O19: =G19/F19 -> 231.57895 | P19: =H19/F19 -> 57.894737 | Q19: =VLOOKUP(B19,考勤!B:AI,34,0) -> 19 | R19: =(O19*Q19)+(P19*Q19)+N19 -> 5500 | S19: 399.92 | T19: 25 | U19: 99.98 | V19: 25 | W19: 0 | X19: =SUM(S19:W19) -> 549.9 | Y19: =R19-X19 -> 4950.1
A20: 16 | B20: 张旭 | C20: 造价工程师 | D20: PB | E20: 7800 | F20: 19 | G20: =E20*VLOOKUP(D20,职务序列取数!B:E,2,0) -> 6240 | H20: =E20*VLOOKUP(D20,职务序列取数!B:E,3,0) -> 1560 | I20: =E20*VLOOKUP(D20,职务序列取数!B:E,4,0) -> 0 | N20: =SUM(J20:M20) -> 0 | O20: =G20/F20 -> 328.42105 | P20: =H20/F20 -> 82.105263 | Q20: =VLOOKUP(B20,考勤!B:AI,34,0) -> 19 | R20: =(O20*Q20)+(P20*Q20)+N20 -> 7800 | S20: 400 | T20: 25 | U20: 100 | V20: 25 | W20: 67.5 | X20: =SUM(S20:W20) -> 617.5 | Y20: =R20-X20 -> 7182.5
A21: 17 | B21: 王国强 | C21: 路桥工程师 | D21: PB | E21: 7600 | F21: 19 | G21: =E21*VLOOKUP(D21,职务序列取数!B:E,2,0) -> 6080 | H21: =E21*VLOOKUP(D21,职务序列取数!B:E,3,0) -> 1520 | I21: =E21*VLOOKUP(D21,职务序列取数!B:E,4,0) -> 0 | N21: =SUM(J21:M21) -> 0 | O21: =G21/F21 -> 320 | P21: =H21/F21 -> 80 | Q21: =VLOOKUP(B21,考勤!B:AI,34,0) -> 19 | R21: =(O21*Q21)+(P21*Q21)+N21 -> 7600 | S21: 400 | T21: 25 | U21: 100 | V21: 25 | W21: 61.5 | X21: =SUM(S21:W21) -> 611.5 | Y21: =R21-X21 -> 6988.5
A22: 18 | B22: 吴梦杨 | C22: 造价工程师 | D22: PB | E22: 7500 | F22: 19 | G22: =E22*VLOOKUP(D22,职务序列取数!B:E,2,0) -> 6000 | H22: =E22*VLOOKUP(D22,职务序列取数!B:E,3,0) -> 1500 | I22: =E22*VLOOKUP(D22,职务序列取数!B:E,4,0) -> 0 | L22: =O22*13 -> 4105.2632 | N22: =SUM(J22:M22) -> 4105.2632 | O22: =G22/F22 -> 315.78947 | P22: =H22/F22 -> 78.947368 | Q22: =VLOOKUP(B22,考勤!B:AI,34,0) -> 6 | R22: =(O22*Q22)+(P22*Q22)+N22 -> 6473.6842 | S22: 400 | T22: 25 | U22: 100 | V22: 25 | W22: 27.71 | X22: =SUM(S22:W22) -> 577.71 | Y22: =R22-X22 -> 5895.9742
A23: 19 | B23: 李婷 | C23: 造价工程师 | D23: PB | E23: 7500 | F23: 19 | G23: =E23*VLOOKUP(D23,职务序列取数!B:E,2,0) -> 6000 | H23: =E23*VLOOKUP(D23,职务序列取数!B:E,3,0) -> 1500 | I23: =E23*VLOOKUP(D23,职务序列取数!B:E,4,0) -> 0 | N23: =SUM(J23:M23) -> 0 | O23: =G23/F23 -> 315.78947 | P23: =H23/F23 -> 78.947368 | Q23: =VLOOKUP(B23,考勤!B:AI,34,0) -> 19 | R23: =(O23*Q23)+(P23*Q23)+N23 -> 7500 | S23: 399.92 | T23: 25 | U23: 99.98 | V23: 25 | W23: 0 | X23: =SUM(S23:W23) -> 549.9 | Y23: =R23-X23 -> 6950.1
A24: 20 | B24: 徐文彬 | C24: 会计 | D24: PB | E24: 7000 | F24: 19 | G24: =E24*VLOOKUP(D24,职务序列取数!B:E,2,0) -> 5600 | H24: =E24*VLOOKUP(D24,职务序列取数!B:E,3,0) -> 1400 | I24: =E24*VLOOKUP(D24,职务序列取数!B:E,4,0) -> 0 | L24: =O24*3*60% -> 530.52632 | M24: -20 | N24: =SUM(J24:M24) -> 510.52632 | O24: =G24/F24 -> 294.73684 | P24: =H24/F24 -> 73.684211 | Q24: =VLOOKUP(B24,考勤!B:AI,34,0) -> 15 | R24: =(O24*Q24)+(P24*Q24)+N24 -> 6036.8421 | S24: 399.92 | T24: 25 | U24: 99.98 | V24: 25 | W24: 0 | X24: =SUM(S24:W24) -> 549.9 | Y24: =R24-X24 -> 5486.9421 | Z24: 缺卡1次
A25: 21 | B25: 马思宇 | C25: 人事运营 | D25: PB | E25: 6000 | F25: 19 | G25: =E25*VLOOKUP(D25,职务序列取数!B:E,2,0) -> 4800 | H25: =E25*VLOOKUP(D25,职务序列取数!B:E,3,0) -> 1200 | I25: =E25*VLOOKUP(D25,职务序列取数!B:E,4,0) -> 0 | N25: =SUM(J25:M25) -> 0 | O25: =G25/F25 -> 252.63158 | P25: =H25/F25 -> 63.157895 | Q25: =VLOOKUP(B25,考勤!B:AI,34,0) -> 19 | R25: =(O25*Q25)+(P25*Q25)+N25 -> 6000 | S25: 399.92 | T25: 25 | U25: 99.98 | V25: 25 | W25: 13.82 | X25: =SUM(S25:W25) -> 563.72 | Y25: =R25-X25 -> 5436.28
A26: 22 | B26: 杜义欣 | C26: 合同专员 | D26: PB | E26: 6500 | F26: 19 | G26: =E26*VLOOKUP(D26,职务序列取数!B:E,2,0) -> 5200 | H26: =E26*VLOOKUP(D26,职务序列取数!B:E,3,0) -> 1300 | I26: =E26*VLOOKUP(D26,职务序列取数!B:E,4,0) -> 0 | N26: =SUM(J26:M26) -> 0 | O26: =G26/F26 -> 273.68421 | P26: =H26/F26 -> 68.421053 | Q26: =VLOOKUP(B26,考勤!B:AI,34,0) -> 19 | R26: =(O26*Q26)+(P26*Q26)+N26 -> 6500 | S26: 399.92 | T26: 25 | U26: 99.98 | V26: 25 | W26: 0 | X26: =SUM(S26:W26) -> 549.9 | Y26: =R26-X26 -> 5950.1
A27: 23 | B27: 李海涛 | C27: 董事长司机 | D27: PB | E27: 6500 | F27: 19 | G27: =E27*VLOOKUP(D27,职务序列取数!B:E,2,0) -> 5200 | H27: =E27*VLOOKUP(D27,职务序列取数!B:E,3,0) -> 1300 | I27: =E27*VLOOKUP(D27,职务序列取数!B:E,4,0) -> 0 | N27: =SUM(J27:M27) -> 0 | O27: =G27/F27 -> 273.68421 | P27: =H27/F27 -> 68.421053 | Q27: =VLOOKUP(B27,考勤!B:AI,34,0) -> 19 | R27: =(O27*Q27)+(P27*Q27)+N27 -> 6500 | S27: 399.92 | T27: 25 | U27: 99.98 | V27: 25 | W27: 28.82 | X27: =SUM(S27:W27) -> 578.72 | Y27: =R27-X27 -> 5921.28
B28: 合计 | E28: =SUM(E5:E27) -> 327740 | F28: 19 | G28: =SUM(G5:G27) -> 177357 | H28: =SUM(H5:H27) -> 102533 | I28: =SUM(I5:I27) -> 47850 | J28: =SUM(J5:J27) -> 0 | K28: =SUM(K5:K27) -> -1553 | L28: =SUM(L5:L27) -> 5204.9684 | M28: =SUM(M5:M27) -> -5217.77 | N28: =SUM(N5:N27) -> -1565.8016 | R28: =SUM(R5:R27) -> 269230.51 | S28: =SUM(S5:S27) -> 9159.12 | T28: =SUM(T5:T27) -> 572.48 | U28: =SUM(U5:U27) -> 2320.4 | V28: =SUM(V5:V27) -> 568.31 | W28: =SUM(W5:W27) -> 6113.67 | X28: =SUM(X5:X27) -> 18733.98 | Y28: =SUM(Y5:Y27) -> 250496.53
A29: 注： | B29: 本月经理级留存15%全额工资，年底发放
B30: 单位领导： | N30: 审核： | V30: 制表：

Sheet 考勤
A1: =[1]封面!A10 -> 2025年 | V1: =[1]工资表!M1 -> 2 | X1: 月职工考勤表
B2: 单位: | C2: =[1]工资表!C2 -> 集团公司机关 | AK2: =[1]工资表!AB2 -> 2025年2月4日
A3: 序号 | B3: 姓名 | C3: 职务工种 | D3: 出 勤 情 况 | AI3: 实际出勤天数 | AJ3: 公休节日天数 | AK3: 考 勤 天 数 | AZ3: 员工本人 签字
D4: =V1 -> 2 | T4: 月
D5: 1 | E5: 2 | F5: 3 | G5: 4 | H5: 5 | I5: 6 | J5: 7 | K5: 8 | L5: 9 | M5: 10 | N5: 11 | O5: 12 | P5: 13 | Q5: 14 | R5: 15 | S5: 16 | T5: 17 | U5: 18 | V5: 19 | W5: 20 | X5: 21 | Y5: 22 | Z5: 23 | AA5: 24 | AB5: 25 | AC5: 26 | AD5: 27 | AE5: 28 | AF5: 29 | AG5: 30 | AH5: 31 | AK5: 出勤√ | AL5: 出差 | AM5: 公休 | AN5: 病假 | AO5: 事假 | AP5: 旷工 | AQ5: 工伤 | AR5: 培训 | AS5: 冬休 | AT5: 休假 | AU5: 探亲 | AV5: 产假 | AW5: 陪护假 | AX5: 婚丧假 | AY5: 待岗
A6: 1 | B6: 张璐燕 | C6: 董事长、总经理 | D6: 公休 | E6: 公休 | F6: 公休 | G6: 公休 | H6: √ | I6: √ | J6: √ | K6: √ | L6: 公休 | M6: √ | N6: √ | O6: √ | P6: √ | Q6: √ | R6: 公休 | S6: 公休 | T6: √ | U6: √ | V6: √ | W6: √ | X6: √ | Y6: 公休 | Z6: 公休 | AA6: √ | AB6: √ | AC6: √ | AD6: √ | AE6: √ | AI6: =AK6+AL6+AR6 -> 19 | AJ6: =AM6 -> 9 | AK6: =COUNTIF($D6:$AH6,"√") -> 19 | AL6: =COUNTIF($D6:$AH6,"出差") -> 0 | AM6: =COUNTIF($D6:$AH6,"公休") -> 9 | AN6: =COUNTIF($D6:$AH6,"病假") -> 0 | AO6: =COUNTIF($D6:$AH6,"事假") -> 0 | AP6: =COUNTIF($D6:$AH6,"旷工") -> 0 | AQ6: =COUNTIF($D6:$AH6,"工伤") -> 0 | AR6: =COUNTIF($D6:$AH6,"培训") -> 0 | AS6: =COUNTIF($D6:$AH6,"冬休") -> 0 | AT6: =COUNTIF($D6:$AH6,"休假") -> 0 | AU6: =COUNTIF($D6:$AH6,"探亲") -> 0 | AV6: =COUNTIF($D6:$AH6,"产假") -> 0 | AW6: =COUNTIF($D6:$AH6,"陪护假") -> 0 | AX6: =COUNTIF($D6:$AH6,"婚丧假") -> 0 | AY6: =COUNTIF($D6:$AH6,"待岗") -> 0
A7: 2 | B7: 许宗奎 | C7: 法人、董事长 | D7: 公休 | E7: 公休 | F7: 公休 | G7: 公休 | H7: √ | I7: √ | J7: √ | K7: √ | L7: 公休 | M7: √ | N7: √ | O7: √ | P7: √ | Q7: √ | R7: 公休 | S7: 公休 | T7: √ | U7: √ | V7: √ | W7: √ | X7: √ | Y7: 公休 | Z7: 公休 | AA7: √ | AB7: √ | AC7: √ | AD7: √ | AE7: √ | AI7: =AK7+AL7+AR7 -> 19 | AJ7: =AM7 -> 9 | AK7: =COUNTIF($D7:$AH7,"√") -> 19 | AL7: =COUNTIF($D7:$AH7,"出差") -> 0 | AM7: =COUNTIF($D7:$AH7,"公休") -> 9 | AN7: =COUNTIF($D7:$AH7,"病假") -> 0 | AO7: =COUNTIF($D7:$AH7,"事假") -> 0 | AP7: =COUNTIF($D7:$AH7,"旷工") -> 0 | AQ7: =COUNTIF($D7:$AH7,"工伤") -> 0 | AR7: =COUNTIF($D7:$AH7,"培训") -> 0 | AS7: =COUNTIF($D7:$AH7,"冬休") -> 0 | AT7: =COUNTIF($D7:$AH7,"休假") -> 0 | AU7: =COUNTIF($D7:$AH7,"探亲") -> 0 | AV7: =COUNTIF($D7:$AH7,"产假") -> 0 | AW7: =COUNTIF($D7:$AH7,"陪护假") -> 0 | AX7: =COUNTIF($D7:$AH7,"婚丧假") -> 0 | AY7: =COUNTIF($D7:$AH7,"待岗") -> 0
A8: 3 | B8: 范伟东 | C8: 董事会秘书 | D8: 公休 | E8: 公休 | F8: 公休 | G8: 公休 | H8: √ | I8: √ | J8: √ | K8: √ | L8: 公休 | M8: √ | N8: √ | O8: √ | P8: √ | Q8: √ | R8: 公休 | S8: 公休 | T8: √ | U8: √ | V8: √ | W8: √ | X8: √ | Y8: 公休 | Z8: 公休 | AA8: √ | AB8: √ | AC8: √ | AD8: √ | AE8: √ | AI8: =AK8+AL8+AR8 -> 19 | AJ8: =AM8 -> 9 | AK8: =COUNTIF($D8:$AH8,"√") -> 19 | AL8: =COUNTIF($D8:$AH8,"出差") -> 0 | AM8: =COUNTIF($D8:$AH8,"公休") -> 9 | AN8: =COUNTIF($D8:$AH8,"病假") -> 0 | AO8: =COUNTIF($D8:$AH8,"事假") -> 0 | AP8: =COUNTIF($D8:$AH8,"旷工") -> 0 | AQ8: =COUNTIF($D8:$AH8,"工伤") -> 0 | AR8: =COUNTIF($D8:$AH8,"培训") -> 0 | AS8: =COUNTIF($D8:$AH8,"冬休") -> 0 | AT8: =COUNTIF($D8:$AH8,"休假") -> 0 | AU8: =COUNTIF($D8:$AH8,"探亲") -> 0 | AV8: =COUNTIF($D8:$AH8,"产假") -> 0 | AW8: =COUNTIF($D8:$AH8,"陪护假") -> 0 | AX8: =COUNTIF($D8:$AH8,"婚丧假") -> 0 | AY8: =COUNTIF($D8:$AH8,"待岗") -> 0
A9: 4 | B9: 何健 | C9: 集团副总经理 | H9: √ | I9: √ | J9: √ | K9: √ | L9: 公休 | M9: √ | N9: √ | O9: √ | P9: √ | Q9: √ | R9: 公休 | S9: 公休 | T9: √ | U9: √ | V9: √ | W9: √ | X9: √ | Y9: 公休 | Z9: 公休 | AA9: √ | AB9: √ | AC9: √ | AD9: √ | AE9: √ | AI9: =AK9+AL9+AR9 -> 19 | AJ9: =AM9 -> 5 | AK9: =COUNTIF($D9:$AH9,"√") -> 19 | AL9: =COUNTIF($D9:$AH9,"出差") -> 0 | AM9: =COUNTIF($D9:$AH9,"公休") -> 5 | AN9: =COUNTIF($D9:$AH9,"病假") -> 0 | AO9: =COUNTIF($D9:$AH9,"事假") -> 0 | AP9: =COUNTIF($D9:$AH9,"旷工") -> 0 | AQ9: =COUNTIF($D9:$AH9,"工伤") -> 0 | AR9: =COUNTIF($D9:$AH9,"培训") -> 0 | AS9: =COUNTIF($D9:$AH9,"冬休") -> 0 | AT9: =COUNTIF($D9:$AH9,"休假") -> 0 | AU9: =COUNTIF($D9:$AH9,"探亲") -> 0 | AV9: =COUNTIF($D9:$AH9,"产假") -> 0 | AW9: =COUNTIF($D9:$AH9,"陪护假") -> 0 | AX9: =COUNTIF($D9:$AH9,"婚丧假") -> 0 | AY9: =COUNTIF($D9:$AH9,"待岗") -> 0
A10: 5 | B10: 陈七斤 | C10: 事业发展中心总经理 | D10: 公休 | E10: 公休 | F10: 公休 | G10: 公休 | H10: √ | I10: √ | J10: √ | K10: √ | L10: 公休 | M10: √ | N10: √ | O10: √ | P10: √ | Q10: √ | R10: 公休 | S10: 公休 | T10: √ | U10: √ | V10: √ | W10: √ | X10: √ | Y10: 公休 | Z10: 公休 | AA10: √ | AB10: √ | AC10: √ | AD10: √ | AE10: √ | AI10: =AK10+AL10+AR10 -> 19 | AJ10: =AM10 -> 9 | AK10: =COUNTIF($D10:$AH10,"√") -> 19 | AL10: =COUNTIF($D10:$AH10,"出差") -> 0 | AM10: =COUNTIF($D10:$AH10,"公休") -> 9 | AN10: =COUNTIF($D10:$AH10,"病假") -> 0 | AO10: =COUNTIF($D10:$AH10,"事假") -> 0 | AP10: =COUNTIF($D10:$AH10,"旷工") -> 0 | AQ10: =COUNTIF($D10:$AH10,"工伤") -> 0 | AR10: =COUNTIF($D10:$AH10,"培训") -> 0 | AS10: =COUNTIF($D10:$AH10,"冬休") -> 0 | AT10: =COUNTIF($D10:$AH10,"休假") -> 0 | AU10: =COUNTIF($D10:$AH10,"探亲") -> 0 | AV10: =COUNTIF($D10:$AH10,"产假") -> 0 | AW10: =COUNTIF($D10:$AH10,"陪护假") -> 0 | AX10: =COUNTIF($D10:$AH10,"婚丧假") -> 0 | AY10: =COUNTIF($D10:$AH10,"待岗") -> 0
A11: 6 | B11: 任霄 | C11: 运营服务中心副总经理 | D11: 公休 | E11: 公休 | F11: 公休 | G11: 公休 | H11: 事假 | I11: √ | J11: √ | K11: √ | L11: 公休 | M11: √ | N11: √ | O11: √ | P11: √ | Q11: √ | R11: 公休 | S11: 公休 | T11: √ | U11: √ | V11: √ | W11: √ | X11: √ | Y11: 公休 | Z11: 公休 | AA11: √ | AB11: √ | AC11: √ | AD11: √ | AE11: √ | AI11: =AK11+AL11+AR11 -> 18 | AJ11: =AM11 -> 9 | AK11: =COUNTIF($D11:$AH11,"√") -> 18 | AL11: =COUNTIF($D11:$AH11,"出差") -> 0 | AM11: =COUNTIF($D11:$AH11,"公休") -> 9 | AN11: =COUNTIF($D11:$AH11,"病假") -> 0 | AO11: =COUNTIF($D11:$AH11,"事假") -> 1 | AP11: =COUNTIF($D11:$AH11,"旷工") -> 0 | AQ11: =COUNTIF($D11:$AH11,"工伤") -> 0 | AR11: =COUNTIF($D11:$AH11,"培训") -> 0 | AS11: =COUNTIF($D11:$AH11,"冬休") -> 0 | AT11: =COUNTIF($D11:$AH11,"休假") -> 0 | AU11: =COUNTIF($D11:$AH11,"探亲") -> 0 | AV11: =COUNTIF($D11:$AH11,"产假") -> 0 | AW11: =COUNTIF($D11:$AH11,"陪护假") -> 0 | AX11: =COUNTIF($D11:$AH11,"婚丧假") -> 0 | AY11: =COUNTIF($D11:$AH11,"待岗") -> 0
A12: 7 | B12: 贺宇 | C12: 工程管理部经理 | D12: 公休 | E12: 公休 | F12: 公休 | G12: 公休 | H12: √ | I12: √ | J12: √ | K12: √ | L12: 公休 | M12: √ | N12: √ | O12: √ | P12: √ | Q12: √ | R12: 公休 | S12: 公休 | T12: √ | U12: √ | V12: √ | W12: √ | X12: √ | Y12: 公休 | Z12: 公休 | AA12: √ | AB12: √ | AC12: √ | AD12: √ | AE12: √ | AI12: =AK12+AL12+AR12 -> 19 | AJ12: =AM12 -> 9 | AK12: =COUNTIF($D12:$AH12,"√") -> 19 | AL12: =COUNTIF($D12:$AH12,"出差") -> 0 | AM12: =COUNTIF($D12:$AH12,"公休") -> 9 | AN12: =COUNTIF($D12:$AH12,"病假") -> 0 | AO12: =COUNTIF($D12:$AH12,"事假") -> 0 | AP12: =COUNTIF($D12:$AH12,"旷工") -> 0 | AQ12: =COUNTIF($D12:$AH12,"工伤") -> 0 | AR12: =COUNTIF($D12:$AH12,"培训") -> 0 | AS12: =COUNTIF($D12:$AH12,"冬休") -> 0 | AT12: =COUNTIF($D12:$AH12,"休假") -> 0 | AU12: =COUNTIF($D12:$AH12,"探亲") -> 0 | AV12: =COUNTIF($D12:$AH12,"产假") -> 0 | AW12: =COUNTIF($D12:$AH12,"陪护假") -> 0 | AX12: =COUNTIF($D12:$AH12,"婚丧假") -> 0 | AY12: =COUNTIF($D12:$AH12,"待岗") -> 0
A13: 8 | B13: 冯建辉 | C13: 内控经理 | D13: 公休 | E13: 公休 | F13: 公休 | G13: 公休 | H13: √ | I13: √ | J13: √ | K13: √ | L13: 公休 | M13: √ | N13: √ | O13: √ | P13: √ | Q13: √ | R13: 公休 | S13: 公休 | T13: √ | U13: √ | V13: √ | W13: √ | X13: √ | Y13: 公休 | Z13: 公休 | AA13: √ | AB13: √ | AC13: √ | AD13: √ | AE13: √ | AI13: =AK13+AL13+AR13 -> 19 | AJ13: =AM13 -> 9 | AK13: =COUNTIF($D13:$AH13,"√") -> 19 | AL13: =COUNTIF($D13:$AH13,"出差") -> 0 | AM13: =COUNTIF($D13:$AH13,"公休") -> 9 | AN13: =COUNTIF($D13:$AH13,"病假") -> 0 | AO13: =COUNTIF($D13:$AH13,"事假") -> 0 | AP13: =COUNTIF($D13:$AH13,"旷工") -> 0 | AQ13: =COUNTIF($D13:$AH13,"工伤") -> 0 | AR13: =COUNTIF($D13:$AH13,"培训") -> 0 | AS13: =COUNTIF($D13:$AH13,"冬休") -> 0 | AT13: =COUNTIF($D13:$AH13,"休假") -> 0 | AU13: =COUNTIF($D13:$AH13,"探亲") -> 0 | AV13: =COUNTIF($D13:$AH13,"产假") -> 0 | AW13: =COUNTIF($D13:$AH13,"陪护假") -> 0 | AX13: =COUNTIF($D13:$AH13,"婚丧假") -> 0 | AY13: =COUNTIF($D13:$AH13,"待岗") -> 0
A14: 9 | B14: 马卫明 | C14: 人事行政经理 | D14: 公休 | E14: 公休 | F14: 公休 | G14: 公休 | H14: √ | I14: √ | J14: √ | K14: √ | L14: 公休 | M14: √ | N14: √ | O14: √ | P14: √ | Q14: √ | R14: 公休 | S14: 公休 | T14: √ | U14: √ | V14: √ | W14: √ | X14: √ | Y14: 公休 | Z14: 公休 | AA14: √ | AB14: √ | AC14: 事假 | AD14: √ | AE14: √ | AI14: =AK14+AL14+AR14 -> 18.5 | AJ14: =AM14 -> 9 | AK14: =18.5 -> 18.5 | AL14: =COUNTIF($D14:$AH14,"出差") -> 0 | AM14: =COUNTIF($D14:$AH14,"公休") -> 9 | AN14: =COUNTIF($D14:$AH14,"病假") -> 0 | AO14: 0.5 | AP14: =COUNTIF($D14:$AH14,"旷工") -> 0 | AQ14: =COUNTIF($D14:$AH14,"工伤") -> 0 | AR14: =COUNTIF($D14:$AH14,"培训") -> 0 | AS14: =COUNTIF($D14:$AH14,"冬休") -> 0 | AT14: =COUNTIF($D14:$AH14,"休假") -> 0 | AU14: =COUNTIF($D14:$AH14,"探亲") -> 0 | AV14: =COUNTIF($D14:$AH14,"产假") -> 0 | AW14: =COUNTIF($D14:$AH14,"陪护假") -> 0 | AX14: =COUNTIF($D14:$AH14,"婚丧假") -> 0 | AY14: =COUNTIF($D14:$AH14,"待岗") -> 0
A15: 10 | B15: 何昱珉 | C15: 能源主管 | D15: 公休 | E15: 公休 | F15: 公休 | G15: 公休 | H15: √ | I15: √ | J15: √ | K15: √ | L15: 公休 | M15: √ | N15: √ | O15: √ | P15: √ | Q15: √ | R15: 公休 | S15: 公休 | T15: √ | U15: √ | V15: √ | W15: √ | X15: √ | Y15: 公休 | Z15: 公休 | AA15: √ | AB15: √ | AC15: √ | AD15: √ | AE15: √ | AI15: =AK15+AL15+AR15 -> 19 | AJ15: =AM15 -> 9 | AK15: =COUNTIF($D15:$AH15,"√") -> 19 | AL15: =COUNTIF($D15:$AH15,"出差") -> 0 | AM15: =COUNTIF($D15:$AH15,"公休") -> 9 | AN15: =COUNTIF($D15:$AH15,"病假") -> 0 | AO15: =COUNTIF($D15:$AH15,"事假") -> 0 | AP15: =COUNTIF($D15:$AH15,"旷工") -> 0 | AQ15: =COUNTIF($D15:$AH15,"工伤") -> 0 | AR15: =COUNTIF($D15:$AH15,"培训") -> 0 | AS15: =COUNTIF($D15:$AH15,"冬休") -> 0 | AT15: =COUNTIF($D15:$AH15,"休假") -> 0 | AU15: =COUNTIF($D15:$AH15,"探亲") -> 0 | AV15: =COUNTIF($D15:$AH15,"产假") -> 0 | AW15: =COUNTIF($D15:$AH15,"陪护假") -> 0 | AX15: =COUNTIF($D15:$AH15,"婚丧假") -> 0 | AY15: =COUNTIF($D15:$AH15,"待岗") -> 0
A16: 11 | B16: 屈永涛 | C16: 合同管理 | D16: 公休 | E16: 公休 | F16: 公休 | G16: 公休 | H16: √ | I16: √ | J16: √ | K16: √ | L16: 公休 | M16: √ | N16: √ | O16: √ | P16: √ | Q16: √ | R16: 公休 | S16: 公休 | T16: √ | U16: √ | V16: √ | W16: √ | X16: √ | Y16: 公休 | Z16: 公休 | AA16: √ | AB16: √ | AC16: √ | AD16: √ | AE16: √ | AI16: =AK16+AL16+AR16 -> 19 | AJ16: =AM16 -> 9 | AK16: =COUNTIF($D16:$AH16,"√") -> 19 | AL16: =COUNTIF($D16:$AH16,"出差") -> 0 | AM16: =COUNTIF($D16:$AH16,"公休") -> 9 | AN16: =COUNTIF($D16:$AH16,"病假") -> 0 | AO16: =COUNTIF($D16:$AH16,"事假") -> 0 | AP16: =COUNTIF($D16:$AH16,"旷工") -> 0 | AQ16: =COUNTIF($D16:$AH16,"工伤") -> 0 | AR16: =COUNTIF($D16:$AH16,"培训") -> 0 | AS16: =COUNTIF($D16:$AH16,"冬休") -> 0 | AT16: =COUNTIF($D16:$AH16,"休假") -> 0 | AU16: =COUNTIF($D16:$AH16,"探亲") -> 0 | AV16: =COUNTIF($D16:$AH16,"产假") -> 0 | AW16: =COUNTIF($D16:$AH16,"陪护假") -> 0 | AX16: =COUNTIF($D16:$AH16,"婚丧假") -> 0 | AY16: =COUNTIF($D16:$AH16,"待岗") -> 0
A17: 12 | B17: 张素杰 | C17: 会计 | D17: 公休 | E17: 公休 | F17: 公休 | G17: 公休 | H17: 病假 | I17: 病假 | J17: 病假 | K17: √ | L17: 公休 | M17: √ | N17: √ | O17: √ | P17: √ | Q17: √ | R17: 公休 | S17: 公休 | T17: √ | U17: √ | V17: √ | W17: √ | X17: √ | Y17: 公休 | Z17: 公休 | AA17: √ | AB17: √ | AC17: √ | AD17: √ | AE17: √ | AI17: =AK17+AL17+AR17 -> 16 | AJ17: =AM17 -> 9 | AK17: =COUNTIF($D17:$AH17,"√") -> 16 | AL17: =COUNTIF($D17:$AH17,"出差") -> 0 | AM17: =COUNTIF($D17:$AH17,"公休") -> 9 | AN17: =COUNTIF($D17:$AH17,"病假") -> 3 | AO17: =COUNTIF($D17:$AH17,"事假") -> 0 | AP17: =COUNTIF($D17:$AH17,"旷工") -> 0 | AQ17: =COUNTIF($D17:$AH17,"工伤") -> 0 | AR17: =COUNTIF($D17:$AH17,"培训") -> 0 | AS17: =COUNTIF($D17:$AH17,"冬休") -> 0 | AT17: =COUNTIF($D17:$AH17,"休假") -> 0 | AU17: =COUNTIF($D17:$AH17,"探亲") -> 0 | AV17: =COUNTIF($D17:$AH17,"产假") -> 0 | AW17: =COUNTIF($D17:$AH17,"陪护假") -> 0 | AX17: =COUNTIF($D17:$AH17,"婚丧假") -> 0 | AY17: =COUNTIF($D17:$AH17,"待岗") -> 0
A18: 13 | B18: 岳丽 | C18: 会计 | D18: 公休 | E18: 公休 | F18: 公休 | G18: 公休 | H18: √ | I18: √ | J18: √ | K18: √ | L18: 公休 | M18: √ | N18: √ | O18: √ | P18: √ | Q18: √ | R18: 公休 | S18: 公休 | T18: √ | U18: √ | V18: √ | W18: √ | X18: √ | Y18: 公休 | Z18: 公休 | AA18: √ | AB18: √ | AC18: √ | AD18: √ | AE18: √ | AI18: =AK18+AL18+AR18 -> 19 | AJ18: =AM18 -> 9 | AK18: =COUNTIF($D18:$AH18,"√") -> 19 | AL18: =COUNTIF($D18:$AH18,"出差") -> 0 | AM18: =COUNTIF($D18:$AH18,"公休") -> 9 | AN18: =COUNTIF($D18:$AH18,"病假") -> 0 | AO18: =COUNTIF($D18:$AH18,"事假") -> 0 | AP18: =COUNTIF($D18:$AH18,"旷工") -> 0 | AQ18: =COUNTIF($D18:$AH18,"工伤") -> 0 | AR18: =COUNTIF($D18:$AH18,"培训") -> 0 | AS18: =COUNTIF($D18:$AH18,"冬休") -> 0 | AT18: =COUNTIF($D18:$AH18,"休假") -> 0 | AU18: =COUNTIF($D18:$AH18,"探亲") -> 0 | AV18: =COUNTIF($D18:$AH18,"产假") -> 0 | AW18: =COUNTIF($D18:$AH18,"陪护假") -> 0 | AX18: =COUNTIF($D18:$AH18,"婚丧假") -> 0 | AY18: =COUNTIF($D18:$AH18,"待岗") -> 0
A19: 14 | B19: 张文革 | C19: 出纳 | D19: 公休 | E19: 公休 | F19: 公休 | G19: 公休 | H19: √ | I19: √ | J19: √ | K19: √ | L19: 公休 | M19: √ | N19: √ | O19: √ | P19: √ | Q19: √ | R19: 公休 | S19: 公休 | T19: √ | U19: √ | V19: √ | W19: √ | X19: √ | Y19: 公休 | Z19: 公休 | AA19: √ | AB19: √ | AC19: √ | AD19: √ | AE19: √ | AI19: =AK19+AL19+AR19 -> 19 | AJ19: =AM19 -> 9 | AK19: =COUNTIF($D19:$AH19,"√") -> 19 | AL19: =COUNTIF($D19:$AH19,"出差") -> 0 | AM19: =COUNTIF($D19:$AH19,"公休") -> 9 | AN19: =COUNTIF($D19:$AH19,"病假") -> 0 | AO19: =COUNTIF($D19:$AH19,"事假") -> 0 | AP19: =COUNTIF($D19:$AH19,"旷工") -> 0 | AQ19: =COUNTIF($D19:$AH19,"工伤") -> 0 | AR19: =COUNTIF($D19:$AH19,"培训") -> 0 | AS19: =COUNTIF($D19:$AH19,"冬休") -> 0 | AT19: =COUNTIF($D19:$AH19,"休假") -> 0 | AU19: =COUNTIF($D19:$AH19,"探亲") -> 0 | AV19: =COUNTIF($D19:$AH19,"产假") -> 0 | AW19: =COUNTIF($D19:$AH19,"陪护假") -> 0 | AX19: =COUNTIF($D19:$AH19,"婚丧假") -> 0 | AY19: =COUNTIF($D19:$AH19,"待岗") -> 0
A20: 15 | B20: 冯影 | C20: 综合行政 | D20: 公休 | E20: 公休 | F20: 公休 | G20: 公休 | H20: √ | I20: √ | J20: √ | K20: √ | L20: 公休 | M20: √ | N20: √ | O20: √ | P20: √ | Q20: √ | R20: 公休 | S20: 公休 | T20: √ | U20: √ | V20: √ | W20: √ | X20: √ | Y20: 公休 | Z20: 公休 | AA20: √ | AB20: √ | AC20: √ | AD20: √ | AE20: √ | AI20: =AK20+AL20+AR20 -> 19 | AJ20: =AM20 -> 9 | AK20: =COUNTIF($D20:$AH20,"√") -> 19 | AL20: =COUNTIF($D20:$AH20,"出差") -> 0 | AM20: =COUNTIF($D20:$AH20,"公休") -> 9 | AN20: =COUNTIF($D20:$AH20,"病假") -> 0 | AO20: =COUNTIF($D20:$AH20,"事假") -> 0 | AP20: =COUNTIF($D20:$AH20,"旷工") -> 0 | AQ20: =COUNTIF($D20:$AH20,"工伤") -> 0 | AR20: =COUNTIF($D20:$AH20,"培训") -> 0 | AS20: =COUNTIF($D20:$AH20,"冬休") -> 0 | AT20: =COUNTIF($D20:$AH20,"休假") -> 0 | AU20: =COUNTIF($D20:$AH20,"探亲") -> 0 | AV20: =COUNTIF($D20:$AH20,"产假") -> 0 | AW20: =COUNTIF($D20:$AH20,"陪护假") -> 0 | AX20: =COUNTIF($D20:$AH20,"婚丧假") -> 0 | AY20: =COUNTIF($D20:$AH20,"待岗") -> 0
A21: 16 | B21: 张旭 | C21: 造价工程师 | D21: 公休 | E21: 公休 | F21: 公休 | G21: 公休 | H21: √ | I21: √ | J21: √ | K21: √ | L21: 公休 | M21: √ | N21: √ | O21: √ | P21: √ | Q21: √ | R21: 公休 | S21: 公休 | T21: √ | U21: √ | V21: √ | W21: √ | X21: √ | Y21: 公休 | Z21: 公休 | AA21: √ | AB21: √ | AC21: √ | AD21: √ | AE21: √ | AI21: =AK21+AL21+AR21 -> 19 | AJ21: =AM21 -> 9 | AK21: =COUNTIF($D21:$AH21,"√") -> 19 | AL21: =COUNTIF($D21:$AH21,"出差") -> 0 | AM21: =COUNTIF($D21:$AH21,"公休") -> 9 | AN21: =COUNTIF($D21:$AH21,"病假") -> 0 | AO21: =COUNTIF($D21:$AH21,"事假") -> 0 | AP21: =COUNTIF($D21:$AH21,"旷工") -> 0 | AQ21: =COUNTIF($D21:$AH21,"工伤") -> 0 | AR21: =COUNTIF($D21:$AH21,"培训") -> 0 | AS21: =COUNTIF($D21:$AH21,"冬休") -> 0 | AT21: =COUNTIF($D21:$AH21,"休假") -> 0 | AU21: =COUNTIF($D21:$AH21,"探亲") -> 0 | AV21: =COUNTIF($D21:$AH21,"产假") -> 0 | AW21: =COUNTIF($D21:$AH21,"陪护假") -> 0 | AX21: =COUNTIF($D21:$AH21,"婚丧假") -> 0 | AY21: =COUNTIF($D21:$AH21,"待岗") -> 0
A22: 17 | B22: 王国强 | C22: 路桥工程师 | D22: 公休 | E22: 公休 | F22: 公休 | G22: 公休 | H22: √ | I22: √ | J22: √ | K22: √ | L22: 公休 | M22: √ | N22: √ | O22: √ | P22: √ | Q22: √ | R22: 公休 | S22: 公休 | T22: √ | U22: √ | V22: √ | W22: √ | X22: √ | Y22: 公休 | Z22: 公休 | AA22: √ | AB22: √ | AC22: √ | AD22: √ | AE22: √ | AI22: =AK22+AL22+AR22 -> 19 | AJ22: =AM22 -> 9 | AK22: =COUNTIF($D22:$AH22,"√") -> 19 | AL22: =COUNTIF($D22:$AH22,"出差") -> 0 | AM22: =COUNTIF($D22:$AH22,"公休") -> 9 | AN22: =COUNTIF($D22:$AH22,"病假") -> 0 | AO22: =COUNTIF($D22:$AH22,"事假") -> 0 | AP22: =COUNTIF($D22:$AH22,"旷工") -> 0 | AQ22: =COUNTIF($D22:$AH22,"工伤") -> 0 | AR22: =COUNTIF($D22:$AH22,"培训") -> 0 | AS22: =COUNTIF($D22:$AH22,"冬休") -> 0 | AT22: =COUNTIF($D22:$AH22,"休假") -> 0 | AU22: =COUNTIF($D22:$AH22,"探亲") -> 0 | AV22: =COUNTIF($D22:$AH22,"产假") -> 0 | AW22: =COUNTIF($D22:$AH22,"陪护假") -> 0 | AX22: =COUNTIF($D22:$AH22,"婚丧假") -> 0 | AY22: =COUNTIF($D22:$AH22,"待岗") -> 0
A23: 18 | B23: 吴梦杨 | C23: 造价工程师 | D23: 公休 | E23: 公休 | F23: 公休 | G23: 公休 | H23: √ | I23: √ | J23: √ | K23: √ | L23: 公休 | M23: √ | N23: √ | O23: 婚丧假 | P23: 婚丧假 | Q23: 婚丧假 | R23: 公休 | S23: 公休 | T23: 婚丧假 | U23: 婚丧假 | V23: 婚丧假 | W23: 婚丧假 | X23: 婚丧假 | Y23: 公休 | Z23: 公休 | AA23: 婚丧假 | AB23: 婚丧假 | AC23: 婚丧假 | AD23: 婚丧假 | AE23: 婚丧假 | AI23: =AK23+AL23+AR23 -> 6 | AJ23: =AM23 -> 9 | AK23: =COUNTIF($D23:$AH23,"√") -> 6 | AL23: =COUNTIF($D23:$AH23,"出差") -> 0 | AM23: =COUNTIF($D23:$AH23,"公休") -> 9 | AN23: =COUNTIF($D23:$AH23,"病假") -> 0 | AO23: =COUNTIF($D23:$AH23,"事假") -> 0 | AP23: =COUNTIF($D23:$AH23,"旷工") -> 0 | AQ23: =COUNTIF($D23:$AH23,"工伤") -> 0 | AR23: =COUNTIF($D23:$AH23,"培训") -> 0 | AS23: =COUNTIF($D23:$AH23,"冬休") -> 0 | AT23: =COUNTIF($D23:$AH23,"休假") -> 0 | AU23: =COUNTIF($D23:$AH23,"探亲") -> 0 | AV23: =COUNTIF($D23:$AH23,"产假") -> 0 | AW23: =COUNTIF($D23:$AH23,"陪护假") -> 0 | AX23: =COUNTIF($D23:$AH23,"婚丧假") -> 13 | AY23: =COUNTIF($D23:$AH23,"待岗") -> 0
A24: 19 | B24: 李婷 | C24: 造价工程师 | D24: 公休 | E24: 公休 | F24: 公休 | G24: 公休 | H24: √ | I24: √ | J24: √ | K24: √ | L24: 公休 | M24: √ | N24: √ | O24: √ | P24: √ | Q24: √ | R24: 公休 | S24: 公休 | T24: √ | U24: √ | V24: √ | W24: √ | X24: √ | Y24: 公休 | Z24: 公休 | AA24: √ | AB24: √ | AC24: √ | AD24: √ | AE24: √ | AI24: =AK24+AL24+AR24 -> 19 | AJ24: =AM24 -> 9 | AK24: =COUNTIF($D24:$AH24,"√") -> 19 | AL24: =COUNTIF($D24:$AH24,"出差") -> 0 | AM24: =COUNTIF($D24:$AH24,"公休") -> 9 | AN24: =COUNTIF($D24:$AH24,"病假") -> 0 | AO24: =COUNTIF($D24:$AH24,"事假") -> 0 | AP24: =COUNTIF($D24:$AH24,"旷工") -> 0 | AQ24: =COUNTIF($D24:$AH24,"工伤") -> 0 | AR24: =COUNTIF($D24:$AH24,"培训") -> 0 | AS24: =COUNTIF($D24:$AH24,"冬休") -> 0 | AT24: =COUNTIF($D24:$AH24,"休假") -> 0 | AU24: =COUNTIF($D24:$AH24,"探亲") -> 0 | AV24: =COUNTIF($D24:$AH24,"产假") -> 0 | AW24: =COUNTIF($D24:$AH24,"陪护假") -> 0 | AX24: =COUNTIF($D24:$AH24,"婚丧假") -> 0 | AY24: =COUNTIF($D24:$AH24,"待岗") -> 0
A25: 20 | B25: 徐文彬 | C25: 会计 | D25: 公休 | E25: 公休 | F25: 公休 | G25: 公休 | H25: √ | I25: √ | J25: √ | K25: 病假 | L25: 公休 | M25: √ | N25: √ | O25: 事假 | P25: √ | Q25: √ | R25: 公休 | S25: 公休 | T25: √ | U25: √ | V25: √ | W25: 病假 | X25: 病假 | Y25: 公休 | Z25: 公休 | AA25: √ | AB25: √ | AC25: √ | AD25: √ | AE25: √ | AI25: =AK25+AL25+AR25 -> 15 | AJ25: =AM25 -> 9 | AK25: =COUNTIF($D25:$AH25,"√") -> 15 | AL25: =COUNTIF($D25:$AH25,"出差") -> 0 | AM25: =COUNTIF($D25:$AH25,"公休") -> 9 | AN25: =COUNTIF($D25:$AH25,"病假") -> 3 | AO25: =COUNTIF($D25:$AH25,"事假") -> 1 | AP25: =COUNTIF($D25:$AH25,"旷工") -> 0 | AQ25: =COUNTIF($D25:$AH25,"工伤") -> 0 | AR25: =COUNTIF($D25:$AH25,"培训") -> 0 | AS25: =COUNTIF($D25:$AH25,"冬休") -> 0 | AT25: =COUNTIF($D25:$AH25,"休假") -> 0 | AU25: =COUNTIF($D25:$AH25,"探亲") -> 0 | AV25: =COUNTIF($D25:$AH25,"产假") -> 0 | AW25: =COUNTIF($D25:$AH25,"陪护假") -> 0 | AX25: =COUNTIF($D25:$AH25,"婚丧假") -> 0 | AY25: =COUNTIF($D25:$AH25,"待岗") -> 0
A26: 21 | B26: 马思宇 | C26: 人事运营 | D26: 公休 | E26: 公休 | F26: 公休 | G26: 公休 | H26: √ | I26: √ | J26: √ | K26: √ | L26: 公休 | M26: √ | N26: √ | O26: √ | P26: √ | Q26: √ | R26: 公休 | S26: 公休 | T26: √ | U26: √ | V26: √ | W26: √ | X26: √ | Y26: 公休 | Z26: 公休 | AA26: √ | AB26: √ | AC26: √ | AD26: √ | AE26: √ | AI26: =AK26+AL26+AR26 -> 19 | AJ26: =AM26 -> 9 | AK26: =COUNTIF($D26:$AH26,"√") -> 19 | AL26: =COUNTIF($D26:$AH26,"出差") -> 0 | AM26: =COUNTIF($D26:$AH26,"公休") -> 9 | AN26: =COUNTIF($D26:$AH26,"病假") -> 0 | AO26: =COUNTIF($D26:$AH26,"事假") -> 0 | AP26: =COUNTIF($D26:$AH26,"旷工") -> 0 | AQ26: =COUNTIF($D26:$AH26,"工伤") -> 0 | AR26: =COUNTIF($D26:$AH26,"培训") -> 0 | AS26: =COUNTIF($D26:$AH26,"冬休") -> 0 | AT26: =COUNTIF($D26:$AH26,"休假") -> 0 | AU26: =COUNTIF($D26:$AH26,"探亲") -> 0 | AV26: =COUNTIF($D26:$AH26,"产假") -> 0 | AW26: =COUNTIF($D26:$AH26,"陪护假") -> 0 | AX26: =COUNTIF($D26:$AH26,"婚丧假") -> 0 | AY26: =COUNTIF($D26:$AH26,"待岗") -> 0
... A28: 23 | B28: 李海涛 | C28: 董事长司机 | D28: 公休 | E28: 公休 | F28: 公休 | G28: 公休 | H28: √ | I28: √ | J28: √ | K28: √ | L28: 公休 | M28: √ | N28: √ | O28: √ | P28: √ | Q28: √ | R28: 公休 | S28: 公休 | T28: √ | U28: √ | V28: √ | W28: √ | X28: √ | Y28: 公休 | Z28: 公休 | AA28: √ | AB28: √ | AC28: √ | AD28: √ | AE28: √ | AI28: =AK28+AL28+AR28 -> 19 | AJ28: =AM28 -> 9 | AK28: =COUNTIF($D28:$AH28,"√") -> 19 | AL28: =COUNTIF($D28:$AH28,"出差") -> 0 | AM28: =COUNTIF($D28:$AH28,"公休") -> 9 | AN28: =COUNTIF($D28:$AH28,"病假") -> 0 | AO28: =COUNTIF($D28:$AH28,"事假") -> 0 | AP28: =COUNTIF($D28:$AH28,"旷工") -> 0 | AQ28: =COUNTIF($D28:$AH28,"工伤") -> 0 | AR28: =COUNTIF($D28:$AH28,"培训") -> 0 | AS28: =COUNTIF($D28:$AH28,"冬休") -> 0 | AT28: =COUNTIF($D28:$AH28,"休假") -> 0 | AU28: =COUNTIF($D28:$AH28,"探亲") -> 0 | AV28: =COUNTIF($D28:$AH28,"产假") -> 0 | AW28: =COUNTIF($D28:$AH28,"陪护假") -> 0 | AX28: =COUNTIF($D28:$AH28,"婚丧假") -> 0 | AY28: =COUNTIF($D28:$AH28,"待岗") -> 0
B29: 注： | C29: 本月徐文彬事假1天，病假3天；张素杰病假3天；吴梦杨婚假13天；任霄事假1天，马卫明事假0.5天
E30: 单位领导： | V30: 审核： | AI30: 制表：

Sheet 校验
A2: 序号 | B2: 姓名 | C2: 实际出勤天数 | D2: 月工资标准 | E2: 月度应发 | F2: 差额 | G2: 备注
A3: 1 | B3: 张璐燕 | C3: 19 | D3: =(VLOOKUP(B3,工资表!B5:G27,6,0)+VLOOKUP(B3,工资表!B5:H27,7,0))/工资表!F5*VLOOKUP(B3,考勤!B6:AI28,34,0) -> 5000 | E3: =VLOOKUP(B3,工资表!B5:R27,17,0) -> 5000 | F3: =D3-E3 -> 0
A4: 2 | B4: 许宗奎 | C4: 19 | D4: =(VLOOKUP(B4,工资表!B6:G28,6,0)+VLOOKUP(B4,工资表!B6:H28,7,0))/工资表!F6*VLOOKUP(B4,考勤!B7:AI29,34,0) -> 5000 | E4: =VLOOKUP(B4,工资表!B6:R28,17,0) -> 5000 | F4: =D4-E4 -> 0
A5: 3 | B5: 范伟东 | C5: 19 | D5: =(VLOOKUP(B5,工资表!B7:G29,6,0)+VLOOKUP(B5,工资表!B7:H29,7,0))/工资表!F7*VLOOKUP(B5,考勤!B8:AI30,34,0) -> 45000 | E5: =VLOOKUP(B5,工资表!B7:R29,17,0) -> 45000 | F5: =D5-E5 -> 0
A6: 4 | B6: 何健 | C6: 19 | D6: =(VLOOKUP(B6,工资表!B8:G30,6,0)+VLOOKUP(B6,工资表!B8:H30,7,0))/工资表!F8*VLOOKUP(B6,考勤!B9:AI31,34,0) -> 37500 | E6: =VLOOKUP(B6,工资表!B8:R30,17,0) -> 32462.23 | F6: =D6-E6 -> 5037.77 | G6: 社保补差
A7: 5 | B7: 陈七斤 | C7: 19 | D7: =(VLOOKUP(B7,工资表!B9:G31,6,0)+VLOOKUP(B7,工资表!B9:H31,7,0))/工资表!F9*VLOOKUP(B7,考勤!B10:AI32,34,0) -> 22500 | E7: =VLOOKUP(B7,工资表!B9:R31,17,0) -> 22500 | F7: =D7-E7 -> 0
A8: 6 | B8: 任霄 | C8: 18 | D8: =(VLOOKUP(B8,工资表!B10:G32,6,0)+VLOOKUP(B8,工资表!B10:H32,7,0))/工资表!F10*VLOOKUP(B8,考勤!B11:AI33,34,0) -> 17763.158 | E8: =VLOOKUP(B8,工资表!B10:R32,17,0) -> 16150.158 | F8: =D8-E8 -> 1613 | G8: 绩效扣款
A9: 7 | B9: 贺宇 | C9: 19 | D9: =(VLOOKUP(B9,工资表!B11:G33,6,0)+VLOOKUP(B9,工资表!B11:H33,7,0))/工资表!F11*VLOOKUP(B9,考勤!B12:AI34,34,0) -> 20400 | E9: =VLOOKUP(B9,工资表!B11:R33,17,0) -> 20380 | F9: =D9-E9 -> 20 | G9: 缺卡
A10: 8 | B10: 冯建辉 | C10: 19 | D10: =(VLOOKUP(B10,工资表!B12:G34,6,0)+VLOOKUP(B10,工资表!B12:H34,7,0))/工资表!F12*VLOOKUP(B10,考勤!B13:AI35,34,0) -> 17000 | E10: =VLOOKUP(B10,工资表!B12:R34,17,0) -> 17000 | F10: =D10-E10 -> 0
A11: 9 | B11: 马卫明 | C11: 18 | D11: =(VLOOKUP(B11,工资表!B13:G35,6,0)+VLOOKUP(B11,工资表!B13:H35,7,0))/工资表!F13*VLOOKUP(B11,考勤!B14:AI36,34,0) -> 11684.211 | E11: =VLOOKUP(B11,工资表!B13:R35,17,0) -> 11684.211 | F11: =D11-E11 -> 0
A12: 10 | B12: 何昱珉 | C12: 19 | D12: =(VLOOKUP(B12,工资表!B14:G36,6,0)+VLOOKUP(B12,工资表!B14:H36,7,0))/工资表!F14*VLOOKUP(B12,考勤!B15:AI37,34,0) -> 7500 | E12: =VLOOKUP(B12,工资表!B14:R36,17,0) -> 7480 | F12: =D12-E12 -> 20 | G12: 缺卡
A13: 11 | B13: 屈永涛 | C13: 19 | D13: =(VLOOKUP(B13,工资表!B15:G37,6,0)+VLOOKUP(B13,工资表!B15:H37,7,0))/工资表!F15*VLOOKUP(B13,考勤!B16:AI38,34,0) -> 8000 | E13: =VLOOKUP(B13,工资表!B15:R37,17,0) -> 8000 | F13: =D13-E13 -> 1.0004442e-11
A14: 12 | B14: 张素杰 | C14: 16 | D14: =(VLOOKUP(B14,工资表!B16:G38,6,0)+VLOOKUP(B14,工资表!B16:H38,7,0))/工资表!F16*VLOOKUP(B14,考勤!B17:AI39,34,0) -> 6324.2105 | E14: =VLOOKUP(B14,工资表!B16:R38,17,0) -> 6893.3895 | F14: =D14-E14 -> -569.17895 | G14: 病假 | H14: =316.21*0.6*3 -> 569.178
A15: 13 | B15: 岳丽 | C15: 19 | D15: =(VLOOKUP(B15,工资表!B17:G39,6,0)+VLOOKUP(B15,工资表!B17:H39,7,0))/工资表!F17*VLOOKUP(B15,考勤!B18:AI40,34,0) -> 6330 | E15: =VLOOKUP(B15,工资表!B17:R39,17,0) -> 6290 | F15: =D15-E15 -> 40 | G15: 缺卡
A16: 14 | B16: 张文革 | C16: 19 | D16: =(VLOOKUP(B16,工资表!B18:G40,6,0)+VLOOKUP(B16,工资表!B18:H40,7,0))/工资表!F18*VLOOKUP(B16,考勤!B19:AI41,34,0) -> 5500 | E16: =VLOOKUP(B16,工资表!B18:R40,17,0) -> 5480 | F16: =D16-E16 -> 20 | G16: 缺卡
A17: 15 | B17: 冯影 | C17: 19 | D17: =(VLOOKUP(B17,工资表!B19:G41,6,0)+VLOOKUP(B17,工资表!B19:H41,7,0))/工资表!F19*VLOOKUP(B17,考勤!B20:AI42,34,0) -> 5500 | E17: =VLOOKUP(B17,工资表!B19:R41,17,0) -> 5500 | F17: =D17-E17 -> 0
A18: 16 | B18: 张旭 | C18: 19 | D18: =(VLOOKUP(B18,工资表!B20:G42,6,0)+VLOOKUP(B18,工资表!B20:H42,7,0))/工资表!F20*VLOOKUP(B18,考勤!B21:AI43,34,0) -> 7800 | E18: =VLOOKUP(B18,工资表!B20:R42,17,0) -> 7800 | F18: =D18-E18 -> 0
A19: 17 | B19: 王国强 | C19: 19 | D19: =(VLOOKUP(B19,工资表!B21:G43,6,0)+VLOOKUP(B19,工资表!B21:H43,7,0))/工资表!F21*VLOOKUP(B19,考勤!B22:AI44,34,0) -> 7600 | E19: =VLOOKUP(B19,工资表!B21:R43,17,0) -> 7600 | F19: =D19-E19 -> 0
A20: 18 | B20: 吴梦杨 | C20: 6 | D20: =(VLOOKUP(B20,工资表!B22:G44,6,0)+VLOOKUP(B20,工资表!B22:H44,7,0))/工资表!F22*VLOOKUP(B20,考勤!B23:AI45,34,0) -> 2368.4211 | E20: =VLOOKUP(B20,工资表!B22:R44,17,0) -> 6473.6842 | F20: =D20-E20 -> -4105.2632 | G20: 婚假13天 | H20: =315.79*13 -> 4105.27
A21: 19 | B21: 李婷 | C21: 19 | D21: =(VLOOKUP(B21,工资表!B23:G45,6,0)+VLOOKUP(B21,工资表!B23:H45,7,0))/工资表!F23*VLOOKUP(B21,考勤!B24:AI46,34,0) -> 7500 | E21: =VLOOKUP(B21,工资表!B23:R45,17,0) -> 7500 | F21: =D21-E21 -> -1.0004442e-11
A22: 20 | B22: 徐文彬 | C22: 15 | D22: =(VLOOKUP(B22,工资表!B24:G46,6,0)+VLOOKUP(B22,工资表!B24:H46,7,0))/工资表!F24*VLOOKUP(B22,考勤!B25:AI47,34,0) -> 5526.3158 | E22: =VLOOKUP(B22,工资表!B24:R46,17,0) -> 6036.8421 | F22: =D22-E22 -> -510.52632 | G22: 病假3天 | H22: =工资表!O24*0.6*3 -> 530.52632
A23: 21 | B23: 马思宇 | C23: 19 | D23: =(VLOOKUP(B23,工资表!B25:G47,6,0)+VLOOKUP(B23,工资表!B25:H47,7,0))/工资表!F25*VLOOKUP(B23,考勤!B26:AI48,34,0) -> 6000 | E23: =VLOOKUP(B23,工资表!B25:R47,17,0) -> 6000 | F23: =D23-E23 -> 1.0004442e-11
A24: 22 | B24: 杜义欣 | C24: 19 | D24: =(VLOOKUP(B24,工资表!B26:G48,6,0)+VLOOKUP(B24,工资表!B26:H48,7,0))/工资表!F26*VLOOKUP(B24,考勤!B27:AI49,34,0) -> 6500 | E24: =VLOOKUP(B24,工资表!B26:R48,17,0) -> 6500 | F24: =D24-E24 -> 0
A25: 23 | B25: 李海涛 | C25: 19 | D25: =(VLOOKUP(B25,工资表!B27:G49,6,0)+VLOOKUP(B25,工资表!B27:H49,7,0))/工资表!F27*VLOOKUP(B25,考勤!B28:AI50,34,0) -> 6500 | E25: =VLOOKUP(B25,工资表!B27:R49,17,0) -> 6500 | F25: =D25-E25 -> 0

Sheet 职务序列取数
B2: 职务序列 | C2: 月度基本工资比例 | D2: 月度绩效奖金比例 | E2: 年度奖金比例
B3: A1 | C3: 1 | D3: 0 | E3: 0
B4: A2 | C4: 0.375 | D4: 0.375 | E4: 0.25
B5: A3 | C5: 0.375 | D5: 0.375 | E5: 0.25
B6: A4 | C6: 0.375 | D6: 0.375 | E6: 0.25
B7: A5 | C7: 0.375 | D7: 0.375 | E7: 0.25
B8: M1 | C8: 0.51 | D8: 0.34 | E8: 0.15
B9: M2 | C9: 0.51 | D9: 0.34 | E9: 0.15
B10: M3 | C10: 0.51 | D10: 0.34 | E10: 0.15
B11: PM | C11: 0.7 | D11: 0.3 | E11: 0
B12: PB | C12: 0.8 | D12: 0.2 | E12: 0
B13: PA
