Workbook

Sheet 11月成本确认表
A1: 阿克苏通力二期成本结转表 | K1: 阿克苏市多浪小镇A区1#-5#、14#楼建设项目成本结转表
A2: 房产类型 | B2: 扣除成本总额 | C2: 已售销售面积 | D2: 单方成本 | E2: 未售销售面积 | F2: 账面应剩余成本 | K2: 房产类型 | L2: 房号 | M2: 已售销售面积 | N2: 单方成本 | O2: 本期应结转成本 | P2: 备注
A3: 普通 | B3: =[1]二期申报表!E11+[1]二期申报表!E12 -> 34257087 | C3: 15372.44 | D3: =B3/C3 -> 2228.4742 | E3: 186.45 | F3: =E3*D3 -> 415499.02 | H3: 18524993 | K3: 普通 | L3: A5-1-402 | M3: 84.85 | N3: 2228.4742 | O3: =M3*N3 -> 189086.04 | P3: 2023年10月确认收入
A4: 其他 | B4: =[1]二期申报表!G11+[1]二期申报表!G12 -> 7046703.7 | C4: 2714.62 | D4: =B4/C4 -> 2595.8343 | E4: 1934.62 | F4: =E4*D4 -> 5021953 | G4: 8086 | H4: =G4*D4 -> 20989916 | K4: 普通 | L4: A5-1-201 | M4: 85.38 | N4: 2228.4742 | O4: =M4*N4 -> 190267.13 | P4: 2023年10月确认收入
A5: 合计 | B5: =SUM(B3:B4) -> 41303790 | C5: =SUM(C3:C4) -> 18087.06 | D5: =SUM(D3:D4) -> 4824.3085 | E5: =SUM(E3:E4) -> 2121.07 | F5: =E5*D5 -> 10232696 | H5: =H3-H4 -> -2464922.7 | K5: 小计 | M5: =SUM(M3:M4) -> 170.23 | O5: =SUM(O3:O4) -> 379353.17
H6: 8241457.2 | K6: 普通 | L6: A1-1-402 | M6: 72.37 | N6: 2228.4742 | O6: =M6*N6 -> 161274.68
H7: =H5+H6 -> 5776534.5 | K7: 普通 | L7: A2-1-602 | M7: 54.91 | N7: 2228.4742 | O7: =M7*N7 -> 122365.52
A8: 阿克苏通力三期单方成本（按土增报告测算） | K8: 普通 | L8: A2-3-303 | M8: 77.09 | N8: 2228.4742 | O8: =M8*N8 -> 171793.08
A9: 房产类型 | B9: 扣除成本总额 | C9: 已售销售面积 | D9: 单方成本 | E9: 未售销售面积 | F9: 账面应剩余成本 | K9: 普通 | L9: A5-2-401 | M9: 91.51 | N9: 2228.4742 | O9: =M9*N9 -> 203927.68
A10: 普通 | B10: =[1]三期申报表!E12+[1]三期申报表!E13 -> 22816931 | C10: 12197.84 | D10: =B10/C10 -> 1870.5715 | E10: 57.98 | F10: =E10*D10 -> 108455.73 | K10: 普通 | L10: A5-2-402 | M10: 91.51 | N10: 2228.4742 | O10: =M10*N10 -> 203927.68
A11: 其他 | K11: 普通 | L11: A5-2-601 | M11: 91.51 | N11: 2228.4742 | O11: =M11*N11 -> 203927.68
A12: 合计 | B12: =SUM(B10:B11) -> 22816931 | C12: =SUM(C10:C11) -> 12197.84 | D12: =SUM(D10:D11) -> 1870.5715 | E12: =SUM(E10:E11) -> 57.98 | F12: =E12*D12 -> 108455.73 | K12: 普通 | L12: A5-2-602 | M12: 91.51 | N12: 2228.4742 | O12: =M12*N12 -> 203927.68
K13: 合计 | M13: =SUM(M6:M12) -> 570.41 | O13: =SUM(O6:O12) -> 1271144
K15: 多浪小镇A区6#-9#、13#住宅楼、物业管理用房及配电室建设项目成本结转表
K16: 房产类型 | L16: 房号 | M16: 已售销售面积 | N16: 单方成本 | O16: 本期应结转成本 | P16: 备注
K17: 普通 | L17: A8-1-102 | M17: 68.13 | N17: 1870.5715 | O17: =M17*N17 -> 127442.03
A18: 康泰公寓单方成本（按土增报告测算） | K18: 合计 | M18: =SUM(M17:M17) -> 68.13 | O18: =SUM(O17:O17) -> 127442.03
A19: 房产类型 | B19: 单方成本 | C19: 可售建筑面积 | D19: 未售建筑面积 | E19: 账载应剩余成本
A20: 普通 | B20: =(53462711.92-2528130.34-7836089.47)/20942.07 -> 2057.9863 | C20: 21368.9 | D20: 0 | K20: 康泰公寓条楼成本结转表
A21: 非普通 | B21: =(3361993.25-76015.96-505534.97)/1351.05 -> 2057.9862 | C21: 1803.99 | D21: 428.07 | E21: =D21*B21 -> 880962.17 | K21: 房产类型 | L21: 房号 | M21: 已售销售面积 | N21: 单方成本 | O21: 本期应结转成本 | P21: 备注
B22: 合计 | C22: =SUM(C20:C21) -> 23172.89 | E22: =SUM(E20:E21) -> 880962.17 | K22: 普通 | N22: 2057.9862 | O22: =M22*N22 -> 0
K23: 合计 | M23: =SUM(M22:M22) -> 0 | O23: =SUM(O22:O22) -> 0

Sheet 12月成本结转表
A1: 阿克苏通力二期成本结转表 | I1: 阿克苏市多浪小镇A区1#-5#、14#楼建设项目成本结转表
A2: 房产类型 | B2: 扣除成本总额 | C2: 已售销售面积 | D2: 单方成本 | E2: 未售销售面积 | F2: 账面应剩余成本 | I2: 房产类型 | J2: 房号 | K2: 已售销售面积 | L2: 单方成本 | M2: 本期应结转成本 | N2: 备注
A3: 普通 | B3: =[1]二期申报表!E11+[1]二期申报表!E12 -> 34257087 | C3: 15372.44 | D3: =B3/C3 -> 2228.4742 | E3: 186.45 | F3: =E3*D3 -> 415499.02 | I3: 普通 | J3: A5-1-402 | K3: 84.85 | L3: 2228.4742 | M3: =K3*L3 -> 189086.04 | N3: 2023年10月确认收入
A4: 其他 | B4: =[1]二期申报表!G11+[1]二期申报表!G12 -> 7046703.7 | C4: 2714.62 | D4: =B4/C4 -> 2595.8343 | E4: 1934.62 | F4: =E4*D4 -> 5021953 | I4: 普通 | J4: A5-1-201 | K4: 85.38 | L4: 2228.4742 | M4: =K4*L4 -> 190267.13 | N4: 2023年10月确认收入
A5: 合计 | B5: =SUM(B3:B4) -> 41303790 | C5: =SUM(C3:C4) -> 18087.06 | D5: =SUM(D3:D4) -> 4824.3085 | E5: =SUM(E3:E4) -> 2121.07 | F5: =E5*D5 -> 10232696 | I5: 小计 | K5: =SUM(K3:K4) -> 170.23 | M5: =SUM(M3:M4) -> 379353.17
I6: 普通 | J6: A1-1-402 | K6: 72.37 | L6: 2228.4742 | M6: =K6*L6 -> 161274.68
I7: 普通 | J7: A2-1-602 | K7: 54.91 | L7: 2228.4742 | M7: =K7*L7 -> 122365.52
A8: 阿克苏通力三期单方成本（按土增报告测算） | I8: 普通 | J8: A2-3-303 | K8: 77.09 | L8: 2228.4742 | M8: =K8*L8 -> 171793.08
A9: 房产类型 | B9: 扣除成本总额 | C9: 已售销售面积 | D9: 单方成本 | E9: 未售销售面积 | F9: 账面应剩余成本 | I9: 普通 | J9: A5-2-401 | K9: 91.51 | L9: 2228.4742 | M9: =K9*L9 -> 203927.68
A10: 普通 | B10: =[1]三期申报表!E12+[1]三期申报表!E13 -> 22816931 | C10: 12197.84 | D10: =B10/C10 -> 1870.5715 | E10: 57.98 | F10: =E10*D10 -> 108455.73 | I10: 普通 | J10: A5-2-402 | K10: 91.51 | L10: 2228.4742 | M10: =K10*L10 -> 203927.68
A11: 其他 | I11: 普通 | J11: A5-2-601 | K11: 91.51 | L11: 2228.4742 | M11: =K11*L11 -> 203927.68
A12: 合计 | B12: =SUM(B10:B11) -> 22816931 | C12: =SUM(C10:C11) -> 12197.84 | D12: =SUM(D10:D11) -> 1870.5715 | E12: =SUM(E10:E11) -> 57.98 | F12: =E12*D12 -> 108455.73 | I12: 普通 | J12: A5-2-602 | K12: 91.51 | L12: 2228.4742 | M12: =K12*L12 -> 203927.68
I13: 合计 | K13: =SUM(K6:K12) -> 570.41 | M13: =SUM(M6:M12) -> 1271144
I15: 多浪小镇A区6#-9#、13#住宅楼、物业管理用房及配电室建设项目成本结转表
I16: 房产类型 | J16: 房号 | K16: 已售销售面积 | L16: 单方成本 | M16: 本期应结转成本 | N16: 备注
I17: 普通 | J17: A8-1-102 | K17: 68.13 | L17: 1870.5715 | M17: =K17*L17 -> 127442.03
A18: 康泰公寓单方成本（按土增报告测算） | I18: 合计 | K18: =SUM(K17:K17) -> 68.13 | M18: =SUM(M17:M17) -> 127442.03
A19: 房产类型 | B19: 单方成本 | C19: 可售建筑面积 | D19: 未售建筑面积 | E19: 账载应剩余成本
A20: 普通 | B20: =(53462711.92-2528130.34-7836089.47)/20942.07 -> 2057.9863 | C20: 21368.9 | D20: 0 | I20: 康泰公寓条楼成本结转表
A21: 非普通 | B21: =(3361993.25-76015.96-505534.97)/1351.05 -> 2057.9862 | C21: 1803.99 | D21: 428.07 | E21: =D21*B21 -> 880962.17 | I21: 房产类型 | J21: 房号 | K21: 已售销售面积 | L21: 单方成本 | M21: 本期应结转成本 | N21: 备注
B22: 合计 | C22: =SUM(C20:C21) -> 23172.89 | E22: =SUM(E20:E21) -> 880962.17 | I22: 普通 | L22: 2057.9862 | M22: =K22*L22 -> 0
I23: 合计 | K23: =SUM(K22:K22) -> 0 | M23: =SUM(M22:M22) -> 0
A25: 2023年12月成本结转表
A26: 项目 | B26: 面积 | C26: 销售情况 | D26: 单方成本 | E26: 剩余未结转成本 | F26: 账面剩余未结转成本总额 | G26: 本期应结转成本
A27: 康泰公寓 | B27: 428.07 | C27: 未售 | D27: 2057.9862 | E27: =F27-G27 -> 23639066 | F27: 26766451 | G27: 3127384.9
A28: 多浪小区 | B28: 1008.0542 | C28: 未售 | D28: 2228.4742
A29: 多浪合计 | B29: =SUM(B27:B28) -> 1436.1242 | E29: =SUM(E27:E28) -> 23639066 | F29: =SUM(F27:F27) -> 26766451 | G29: =SUM(G27:G27) -> 3127384.9

Sheet 2024年3月成本结转
A1: 阿克苏通力二期成本结转表 | H1: 房号 | I1: 面积 | J1: 确认销售 | L1: 状态
A2: 房产类型 | B2: 扣除成本总额 | C2: 已售销售面积 | D2: 单方成本 | E2: 未售销售面积 | F2: 账面应剩余成本 | J2: 单价 | K2: 房价
A3: 普通 | B3: =[1]二期申报表!E11+[1]二期申报表!E12 -> 34257087 | C3: 15372.44 | D3: =B3/C3 -> 2228.4742 | E3: 186.45 | F3: =E3*D3 -> 415499.02 | H3: A2-1-201 | I3: 94.94 | J3: 2980 | K3: 282921 | L3: 已售
A4: 其他 | B4: =[1]二期申报表!G11+[1]二期申报表!G12 -> 7046703.7 | C4: 2714.62 | D4: =B4/C4 -> 2595.8343 | E4: 1934.62 | F4: =E4*D4 -> 5021953 | H4: A3-101 | I4: 112.31 | J4: 5900 | K4: 662629 | L4: 已售
A5: 合计 | B5: =SUM(B3:B4) -> 41303790 | C5: =SUM(C3:C4) -> 18087.06 | D5: =SUM(D3:D4) -> 4824.3085 | E5: =SUM(E3:E4) -> 2121.07 | F5: =E5*D5 -> 10232696 | H5: A9-1-104 | I5: 51.56 | J5: 3100 | K5: 159836 | L5: 已售
H6: A3-3-203 | I6: 77.07 | J6: 3000 | K6: 231210 | L6: 已售
H7: A7-1-202 | I7: 74.18 | J7: 3348 | K7: 248355 | L7: 已售
A8: 阿克苏通力三期单方成本（按土增报告测算） | H8: 合计 | I8: =SUM(I3:I7) -> 410.06
A9: 房产类型 | B9: 扣除成本总额 | C9: 已售销售面积 | D9: 单方成本 | E9: 未售销售面积 | F9: 账面应剩余成本
A10: 普通 | B10: 22816931 | C10: 12197.84 | D10: =B10/C10 -> 1870.5715 | E10: 57.98 | F10: =E10*D10 -> 108455.73
A11: 其他
A12: 合计 | B12: =SUM(B10:B11) -> 22816931 | C12: =SUM(C10:C11) -> 12197.84 | D12: =SUM(D10:D11) -> 1870.5715 | E12: =SUM(E10:E11) -> 57.98 | F12: =E12*D12 -> 108455.73
A18: 康泰公寓单方成本（按土增报告测算）
A19: 房产类型 | B19: 单方成本 | C19: 可售建筑面积 | D19: 未售建筑面积 | E19: 账载应剩余成本
A20: 普通 | B20: =(53462711.92-2528130.34-7836089.47)/20942.07 -> 2057.9863 | C20: 21368.9 | D20: 0
A21: 非普通 | B21: =(3361993.25-76015.96-505534.97)/1351.05 -> 2057.9862 | C21: 1803.99 | D21: 428.07 | E21: =D21*B21 -> 880962.17
B22: 合计 | C22: =SUM(C20:C21) -> 23172.89 | E22: =SUM(E20:E21) -> 880962.17
A25: 2024年3月成本结转表
A26: 项目 | B26: 本期销售面积 | C26: 销售情况 | D26: 单方成本 | E26: 本期应结转成本 | F26: 账面剩余未结转开发产品 | G26: 应剩余未转成本
A27: 多浪二期-住宅 | B27: =I3+I6 -> 172.01 | C27: 已售 | D27: =D3 -> 2228.4742 | E27: =B27*D27 -> 383319.85 | F27: 23639066 | G27: =F27-E27-E28-E29-E30 -> 22729002
A28: 多浪二期-商铺 | B28: =I4 -> 112.31 | C28: 已售 | D28: =D4 -> 2595.8343 | E28: =B28*D28 -> 291538.15
A29: 多浪三期-住宅 | B29: =I5+I7 -> 125.74 | C29: 已售 | D29: =D10 -> 1870.5715 | E29: =B29*D29 -> 235205.66
A30: 多浪三期-商铺 | B30: 0 | C30: 已售 | E30: =B30*D30 -> 0
A31: 多浪合计 | B31: =SUM(B27:B30) -> 410.06 | C31: =SUM(C27:C30) -> 0 | D31: =SUM(D27:D30) -> 6694.88 | E31: =SUM(E27:E30) -> 910063.66 | F31: =SUM(F27:F30) -> 23639066 | G31: =SUM(G27:G30) -> 22729002

Sheet 2024年9月成本结转
A1: 房号 | B1: 面积 | C1: 确认销售 | E1: 状态 | F1: 房号 | G1: 面积 | H1: 基准
C2: 单价 | D2: 房价 | H2: 单价 | I2: 房价
A3: A2-110 | B3: 90.28 | C3: 6280 | D3: 0 | E3: 已出租 | F3: 108-2 | G3: 47.02 | I3: 0
A4: A2-115 | B4: 90.26 | C4: 6280 | D4: 0 | F4: 110 | G4: 81.62 | I4: 0
A5: A3-105 | B5: 90.15 | C5: 6280 | D5: 0 | F5: 5-104-2 | G5: 50.97 | I5: 0
A6: A3-115 | B6: 90.24 | C6: 6280 | D6: 0 | F6: 5-105-1 | G6: 40.29 | I6: 0
A7: A4-103 | B7: 65.19 | C7: 4780 | D7: 0 | F7: 5-109-1 | G7: 91.51 | I7: 0
A8: A4-106 | B8: 68.93 | C8: 4780 | D8: 0 | E8: 已出租 | F8: 5-110-2 | G8: 33.37 | I8: 0
A9: A4-107 | B9: 65.19 | C9: 4780 | D9: 0 | F9: 5-110-3 | G9: 37.24 | I9: 0
A10: A4-110 | B10: 65.19 | C10: 4780 | D10: 0 | F10: 合计 | G10: =SUM(G3:G9) -> 382.02
A11: A4-111 | B11: 68.93 | C11: 4780 | D11: 0
A12: A4-116 | B12: 68.93 | C12: 4780 | D12: 0
A13: A4-117 | B13: 65.19 | C13: 4780 | D13: 0 | E13: 已出租
A14: A4-120 | B14: 68.93 | C14: 4780 | D14: 0
A15: A4-121 | B15: 65.19 | C15: 4780 | D15: 0
A16: A4-124 | B16: 65.19 | C16: 4780 | D16: 0
A17: A4-125 | B17: 69.16 | C17: 4780 | D17: 0
A18: A5-105 | B18: 69.82 | C18: 3780 | D18: 0 | E18: 已出租
A19: A5-106 | B19: 69.82 | C19: 3980 | D19: 0
A20: A5-110 | B20: 16.38 | C20: 3780 | D20: 0
A21: A5-111 | B21: 76.2 | C21: 3980 | D21: 0 | E21: 已出租
A22: A5-113 | B22: 69.82 | C22: 3780 | D22: 0
A23: 合计 | B23: =SUM(B3:B22) -> 1398.99
A26: 多浪小区 | B26: 本期销售面积 | F26: 康泰公寓 | G26: 本期销售面积
A27: A4-4-401 | B27: 81.93 | F27: 5-102 | G27: 58.97
A28: A7-2-502 | B28: 77.6 | F28: 1-105 | G28: 102.18
A29: A3-2-201 | B29: 94.43 | F29: 1-109 | G29: 102.19
A30: A3-107 | B30: 36.48 | F30: 合计 | G30: =SUM(G27:G29) -> 263.34
A31: A1-3-302 | B31: 77.25
A32: A2-1-601 | B32: 94.94
A33: A1-103 | B33: 60.89
A34: 合计 | B34: =SUM(B27:B33) -> 523.52
A36: 2024年12月成本结转表
A37: 项目 | B37: 本期销售面积 | C37: 销售情况 | D37: 单方成本 | E37: 本期应结转成本 | F37: 账面剩余未结转开发产品 | G37: 应剩余未转成本
A38: 多浪二期-住宅 | B38: =B27+B29+B31+B32 -> 348.55 | C38: 已售 | D38: 2228.4742 | E38: =B38*D38 -> 776734.7 | F38: =22737417.91-F46 -> 21856456 | G38: =F38-E38-E39-E40-E41 -> 20681808
A39: 多浪二期-商铺 | B39: =B33+B30 -> 97.37 | C39: 已售 | D39: 2595.8343 | E39: =B39*D39 -> 252756.39
A40: 多浪三期-住宅 | B40: =B28 -> 77.6 | C40: 已售 | D40: 1870.5715 | E40: =B40*D40 -> 145156.35
A41: 多浪三期-商铺 | B41: 0 | C41: 已售 | E41: =B41*D41 -> 0
A42: 多浪合计 | B42: =SUM(B38:B41) -> 523.52 | C42: =SUM(C38:C41) -> 0 | D42: =SUM(D38:D41) -> 6694.88 | E42: =SUM(E38:E41) -> 1174647.4 | F42: =SUM(F38:F41) -> 21856456 | G42: =SUM(G38:G41) -> 20681808
A44: 2024年12月成本结转表
...

Sheet Sheet2
