Workbook

Sheet 税金计算表
A3: 多浪小镇一期老项目销售不动产税金计算表2023年9月收入税金计算（新疆通力阿克苏分公司） | J3: 预收明细表 | K3: 金额
A4: 序号 | B4: 税种 | C4: 金额 | D4: 税率 | E4: 金额 | F4: 实缴 | G4: 备注 | J4: 收到古丽马热木交来多浪小镇C4-101商铺款 | K4: 33000
A5: 1 | B5: 预交-增值税 | C5: =K6 -> 93500 | D5: 0.03 | E5: =C5/1.05*D5 -> 2671.4286 | F5: =E5 -> 2671.4286 | J5: 收到阿力木江交来多浪小镇C4-102/103商铺款 | K5: 60500
A6: 2 | B6: 预交-城建税 | C6: =F5 -> 2671.4286 | D6: 0.07 | E6: =ROUND(C6*D6,2) -> 187 | F6: =E6 -> 187 | J6: 商铺合计 | K6: =SUM(K4:K5) -> 93500
A7: 3 | B7: 预交-教育附加 | C7: =E5 -> 2671.4286 | D7: 0.03 | E7: =ROUND(C7*D7,2) -> 80.14 | F7: =E7 -> 80.14
A8: 4 | B8: 预交-地方教育附加 | C8: =E5 -> 2671.4286 | D8: 0.02 | E8: =ROUND(C8*D8,2) -> 53.43 | F8: =E8 -> 53.43
A9: 5 | B9: 增值税-开发票 | C9: 0 | D9: 0.02 | E9: =ROUND(C9*D9,2) -> 0 | F9: =E9 -> 0
A10: 6 | B10: 城建税 | C10: =E9 -> 0 | D10: 0.07 | E10: =ROUND(C10*D10,2) -> 0 | F10: =E10 -> 0
A11: 7 | B11: 教育附加 | C11: =E9 -> 0 | D11: 0.03 | E11: =ROUND(C11*D11,2) -> 0 | F11: =E11 -> 0
A12: 8 | B12: 地方教育附加 | C12: =E9 -> 0 | D12: 0.02 | E12: =ROUND(C12*D12,2) -> 0 | F12: =E12 -> 0
A13: 9 | B13: 预交土地增值税（普通） | C13: =0/1.05 -> 0 | D13: 0.01 | E13: =ROUND(C13*D13,2) -> 0 | F13: =E13 -> 0
A14: 10 | B14: 预交土地增值税（商铺） | C14: =K6/1.05 -> 89047.619 | D14: 0.03 | E14: =ROUND(C14*D14,2) -> 2671.43 | F14: =E14 -> 2671.43
A15: 11 | B15: 印花税（收入） | C15: 0 | D15: 0.0005 | E15: =C15*D15 -> 0 | F15: =E15 -> 0
A16: 12 | B16: 印花税（购进） | C16: 0 | D16: 0.0003 | E16: =ROUND(C16*D16,2) -> 0 | F16: =E16 -> 0
A17: 13 | B17: 企业所得税 | E17: 187497.54 | F17: =E17 -> 187497.54
A18: 新疆通力阿克苏分公司小计 | E18: =SUM(E5:E17) -> 193160.97 | F18: =SUM(F5:F17) -> 193160.97
B19: 土地使用税（新分康泰及一至三期） | E19: =土地使用税!K9 -> 67297.015 | F19: =E19 -> 67297.015
A20: 总合计 | E20: =E18+E19 -> 260457.98 | F20: =F18+F19 -> 260457.98

Sheet 土地使用税
A4: 新疆分公司交纳7-12月土地使用税明细
A5: 序号 | B5: 地块 | C5: 土地证面积 | D5: 总可售建筑面积 | E5: 合同备案销售面积 | F5: 已核减后地税局土地面积(平方) | G5: 核减后土地面积 | H5: 土地等级 | I5: 单价(元) | J5: 金额(元) | K5: 10月份应交 | L5: 地号 | M5: 土地证号 | N5: 备注
A6: 1 | B6: 多浪小镇C区 | C6: 33446.1 | D6: 58118.02 | E6: =系统合同备案面积表!F17 -> 25292.23 | F6: =(E6+E7)/(D6+D7)*(C6+C7) -> 49298.536 | G6: =C6+C7-F6 -> 21335.764 | H6: 三级 | I6: 6 | J6: =ROUND(G6*I6,2) -> 128014.59 | K6: =128569.42/2 -> 64284.71 | L6: 31-02-358 | M6: 阿市国用(2013)第84747号 | N6: 土地证
A7: 2 | B7: 多浪小镇A区 | C7: 37188.2 | D7: =21670.6+14820.21 -> 36490.81 | E7: =系统合同备案面积表!C17 -> 40739.1 | H7: 三级 | I7: 6 | L7: 31-02-359 | M7: 阿市国用(2013)第84748号 | N7: 土地证
A8: 3 | B8: 康泰公寓 | C8: 27452.9 | D8: 46436.07 | E8: =系统合同备案面积表!I17 -> 44737.65 | F8: =E8/D8*C8 -> 26448.798 | G8: =C8-F8 -> 1004.1021 | H8: 三级 | I8: 6 | J8: =ROUND(G8*I8,2) -> 6024.61 | K8: =J8/2 -> 3012.305 | L8: 14-04-013 | M8: 阿市国用(2013)第84749号 | N8: 土地证
A9: 合计 | C9: =SUM(C6:C8) -> 98087.2 | D9: =SUM(D6:D8) -> 141044.9 | E9: =SUM(E6:E8) -> 110768.98 | F9: =E9/D9*C9 -> 77032.343 | G9: =C9-F9 -> 21054.857 | J9: =SUM(J6:J8) -> 134039.2 | K9: =SUM(K6:K8) -> 67297.015
B11: 制表人： | E11: 制表时间：

Sheet 系统合同备案面积表
C2: 合同备案建筑面积 | F2: 合同备案建筑面积 | I2: 合同备案建筑面积
B3: A1 | C3: 2577.1 | E3: C1 | F3: 111.63 | H3: 康泰1 | I3: 12713.57
B4: A2 | C4: 3951.47 | E4: C2 | F4: 415.88 | H4: 康泰2# | I4: 4449.24
B5: A3 | C5: 3968.06 | E5: C3 | F5: 2619.95 | H5: 康泰3# | I5: 2313.8
B6: A4 | C6: 4912.44 | E6: C4 | F6: 3098.45 | H6: 康泰4# | I6: 3716.68
B7: A5 | C7: 2211.79 | E7: C5 | F7: 3089.97 | H7: 康泰5# | I7: 10630.7
B8: A6 | C8: 1881.48 | E8: C6 | F8: 1805.8 | H8: 康泰6# | I8: 4518.71
B9: A7 | C9: 2813.16 | E9: C7 | F9: 2519.44 | H9: 康泰7# | I9: 6394.95
B10: A8 | C10: 2931.82 | E10: C8 | F10: 3706.92
B11: A9 | C11: 3025.08 | E11: C9 | F11: 2792.8
B12: A10 | E12: C11 | F12: 3513.12
B13: A11 | C13: 3928.92 | E13: C13 | F13: 891.36
B14: A12 | C14: 5636.76 | E14: C16 | F14: 726.91
B15: A13 | C15: 1946.04 | E15: C17
B16: A14 | C16: 954.98
B17: A区小计 | C17: =SUM(C3:C16) -> 40739.1 | E17: C区小计 | F17: =SUM(F3:F16) -> 25292.23 | H17: 康泰小计 | I17: =SUM(I3:I16) -> 44737.65
B18: 总合计 | C18: =C17+F17+I17 -> 110768.98

Sheet 2023年11月税金
A3: 多浪小镇一期老项目销售不动产税金计算表2023年9月收入税金计算（新疆通力阿克苏分公司） | J3: 预收明细表 | K3: 金额
A4: 序号 | B4: 税种 | C4: 金额 | D4: 税率 | E4: 金额 | F4: 实缴 | G4: 备注 | J4: 收到古丽马热木交来多浪小镇C4-101商铺款 | K4: 33000
A5: 1 | B5: 预交-增值税 | C5: =K6 -> 93500 | D5: 0.03 | E5: =C5/1.05*D5 -> 2671.4286 | F5: =E5 -> 2671.4286 | J5: 收到阿力木江交来多浪小镇C4-102/103商铺款 | K5: 60500
A6: 2 | B6: 预交-城建税 | C6: =F5 -> 2671.4286 | D6: 0.07 | E6: =ROUND(C6*D6,2) -> 187 | F6: =E6 -> 187 | J6: 商铺合计 | K6: =SUM(K4:K5) -> 93500
A7: 3 | B7: 预交-教育附加 | C7: =E5 -> 2671.4286 | D7: 0.03 | E7: =ROUND(C7*D7,2) -> 80.14 | F7: =E7 -> 80.14
A8: 4 | B8: 预交-地方教育附加 | C8: =E5 -> 2671.4286 | D8: 0.02 | E8: =ROUND(C8*D8,2) -> 53.43 | F8: =E8 -> 53.43
A9: 5 | B9: 增值税-开发票 | C9: 0 | D9: 0.02 | E9: =ROUND(C9*D9,2) -> 0 | F9: =E9 -> 0
A10: 6 | B10: 城建税 | C10: =E9 -> 0 | D10: 0.07 | E10: =ROUND(C10*D10,2) -> 0 | F10: =E10 -> 0
A11: 7 | B11: 教育附加 | C11: =E9 -> 0 | D11: 0.03 | E11: =ROUND(C11*D11,2) -> 0 | F11: =E11 -> 0
A12: 8 | B12: 地方教育附加 | C12: =E9 -> 0 | D12: 0.02 | E12: =ROUND(C12*D12,2) -> 0 | F12: =E12 -> 0
A13: 9 | B13: 预交土地增值税（普通） | C13: =0/1.05 -> 0 | D13: 0.01 | E13: =ROUND(C13*D13,2) -> 0 | F13: =E13 -> 0
A14: 10 | B14: 预交土地增值税（商铺） | C14: =K6/1.05 -> 89047.619 | D14: 0.03 | E14: =ROUND(C14*D14,2) -> 2671.43 | F14: =E14 -> 2671.43
A15: 11 | B15: 印花税（收入） | C15: 0 | D15: 0.0005 | E15: =C15*D15 -> 0 | F15: =E15 -> 0
A16: 12 | B16: 印花税（购进） | C16: 0 | D16: 0.0003 | E16: =ROUND(C16*D16,2) -> 0 | F16: =E16 -> 0
A17: 13 | B17: 企业所得税 | E17: 187497.54 | F17: =E17 -> 187497.54
A18: 新疆通力阿克苏分公司小计 | E18: =SUM(E5:E17) -> 193160.97 | F18: =SUM(F5:F17) -> 193160.97
B19: 土地使用税（新分康泰及一至三期） | E19: =土地使用税!K9 -> 67297.015 | F19: =E19 -> 67297.015
A20: 总合计 | E20: =E18+E19 -> 260457.98 | F20: =F18+F19 -> 260457.98

Sheet 2023年12月税金
B2: 阿克苏分公司税金计算表
B3: 项目名称： | C3: 多浪一期 | D3: 期间 | E3: 202312 | H3: 日期 | I3: 2023.12.5 | J3: =D9/0.05 -> 0
B4: 预收款合计金额 | D4: 普通住宅 | E4: 普通住宅 | F4: 普通住宅 | G4: 商铺 | H4: 租赁收入（含税） | I4: 合计
D5: 前期已确认销项收入 | E5: 本期确认销项收入 | F5: 当月预收房款 | G5: 当月预收房款
E6: 1287545.2 | G6: 25000 | H6: 22979 | I6: =D6+E6+F6+H6 -> 1310524.2 | J6: =H6/1.05 -> 21884.762
B7: 税目 | C7: 税率 | I7: =D7+E7+F7+H7 -> 0
B8: 预缴增值税 | C8: 0.03 | D8: 0 | E8: 0 | I8: =D8+E8+F8+H8 -> 0
B9: 增值税 | C9: 0.05 | D9: 0 | E9: =E6*$C$9 -> 64377.262 | H9: =H6/1.05*C9 -> 1094.2381
B10: 预缴留抵 | E10: 696718.7
B11: 应交增值税 | E11: =E9-E10 -> -632341.44 | H11: =H9-H10 -> 1094.2381 | I11: =D11+H11 -> 1094.2381
B12: 城建税 | C12: 0.07 | D12: =D9*$C$12 -> 0 | E12: 0 | H12: =H9*$C$12 -> 76.596667 | I12: =D12+E12+F12+H12+G12 -> 76.596667
B13: 地方教育费附加 | C13: 0.02 | D13: =D9*$C$13 -> 0 | E13: 0 | H13: =H9*$C$13 -> 21.884762 | I13: =D13+E13+F13+H13+G13 -> 21.884762
B14: 教育费附加 | C14: 0.03 | D14: =D9*$C$14 -> 0 | E14: 0 | H14: =H9*$C$14 -> 32.827143 | I14: =D14+E14+F14+H14+G14 -> 32.827143
B15: 土地增值税 | C15: 0.01 | D15: 0 | F15: =F6/1.09*$C$15 -> 0 | H15: 0 | I15: =D15+E15+F15+H15+G15 -> 0
B16: 土地增值税 | C16: 0.03 | D16: 0 | G16: =G6/1.05*C16 -> 714.28571 | H16: 0 | I16: =D16+E16+F16+H16+G16 -> 714.28571
B17: 土地增值税 | C17: 0.04 | H17: 0 | I17: =D17+E17+F17+H17+G17 -> 0
B18: 印花税 | C18: 0.001 | H18: =H6*C18 -> 22.979 | I18: =D18+E18+F18+H18+G18 -> 22.979
B19: 企业所得税 | C19: 0.25 | I19: =D19+E19+F19+H19 -> 0
B20: 合计 | D20: =SUM(D8:D17) -> 0 | E20: 0 | F20: =SUM(F8:F17) -> 0 | G20: =SUM(G8:G17) -> 714.28571 | H20: =SUM(H11:H19) -> 1248.5257 | I20: =SUM(I11:I19) -> 1962.8114
B25: 项目 | C25: 金额
B26: 主营业务收入 | C26: 2523543.3
B27: 其他业务收入 | C27: 21884.76
B28: 主营业务成本 | C28: 188500
B29: 税金及附加 | C29: 298822.3
B30: 管理费用 | C30: 25478.69
B31: 财务费用 | C31: -2097.18
B32: 利润总额 | C32: =C26+C27-C28-C29-C30-C31 -> 2034724.3
B33: 所得税税率 | C33: 0.25
B34: 预缴企业所得税 | C34: 0
B35: 本期应交企业所得税 | C35: =C32*C33-C34 -> 508681.07

Sheet 2024年1月
B2: 阿克苏分公司税金计算表
B3: 项目名称： | C3: 多浪一期 | D3: 期间 | E3: 202401 | H3: 日期 | I3: 2023.12.5 | J3: =D9/0.05 -> 0
B4: 预收款合计金额 | D4: 普通住宅 | E4: 商铺 | F4: 普通住宅 | G4: 商铺 | H4: 租赁收入（含税） | I4: 合计
D5: 本期确认销项收入 | E5: 本期确认销项收入 | F5: 当月预收房款 | G5: 当月预收房款
E6: =211000/1.05 -> 200952.38 | G6: 130000 | H6: 0 | I6: =D6+E6+F6+H6 -> 200952.38 | J6: =G6/1.05 -> 123809.52
B7: 税目 | C7: 税率 | I7: =D7+E7+F7+H7 -> 0
B8: 预缴增值税 | C8: 0.03 | D8: 0 | E8: 0 | I8: =D8+E8+F8+H8 -> 0
B9: 增值税 | C9: 0.05 | D9: 0 | E9: =E6*$C$9 -> 10047.619 | H9: =H6/1.05*C9 -> 0
B10: 预缴留抵 | E10: 632341.44
B11: 应交增值税 | E11: =E9-E10 -> -622293.82 | H11: =H9-H10 -> 0 | I11: =D11+H11 -> 0
B12: 城建税 | C12: 0.07 | D12: =D9*$C$12 -> 0 | E12: 0 | H12: =H9*$C$12 -> 0 | I12: =D12+E12+F12+H12+G12 -> 0
B13: 地方教育费附加 | C13: 0.02 | D13: =D9*$C$13 -> 0 | E13: 0 | H13: =H9*$C$13 -> 0 | I13: =D13+E13+F13+H13+G13 -> 0
B14: 教育费附加 | C14: 0.03 | D14: =D9*$C$14 -> 0 | E14: 0 | H14: =H9*$C$14 -> 0 | I14: =D14+E14+F14+H14+G14 -> 0
B15: 土地增值税 | C15: 0.01 | D15: 0 | F15: =F6/1.09*$C$15 -> 0 | H15: 0 | I15: =D15+E15+F15+H15+G15 -> 0
B16: 土地增值税 | C16: 0.03 | D16: 0 | G16: =G6/1.05*C16 -> 3714.2857 | H16: 0 | I16: =D16+E16+F16+H16+G16 -> 3714.2857
B17: 土地增值税 | C17: 0.04 | H17: 0 | I17: =D17+E17+F17+H17+G17 -> 0
B18: 印花税 | C18: 0.001 | H18: =H6*C18 -> 0 | I18: =D18+E18+F18+H18+G18 -> 0
B19: 企业所得税 | C19: 0.25 | I19: =D19+E19+F19+H19 -> 0
B20: 合计 | D20: =SUM(D8:D17) -> 0 | E20: 0 | F20: =SUM(F8:F17) -> 0 | G20: =SUM(G8:G17) -> 3714.2857 | H20: =SUM(H11:H19) -> 0 | I20: =SUM(I11:I19) -> 3714.2857

Sheet 2024年2月
B2: 阿克苏分公司税金计算表
B3: 项目名称： | C3: 多浪一期 | D3: 期间 | E3: 202402 | H3: 日期 | J3: 2024.3.4
B4: 预收款合计金额 | D4: 普通住宅 | E4: 商铺 | F4: 普通住宅 | G4: 商铺 | H4: 租赁收入（含税） | I4: 利息收入（含税） | J4: 合计
D5: 本期确认销项收入 | E5: 本期确认销项收入 | F5: 当月预收房款 | G5: 当月预收房款
H6: 0 | I6: 2500 | J6: =D6+E6+F6+H6 -> 0 | K6: =I6/1.06 -> 2358.4906
B7: 税目 | C7: 税率 | J7: =D7+E7+F7+H7 -> 0
B8: 预缴增值税 | C8: 0.03 | D8: 0 | E8: 0 | J8: =D8+E8+F8+H8+I8 -> 0
B9: 增值税 | C9: 0.05 | D9: 0 | E9: =E6*$C$9 -> 0 | H9: =H6/1.05*C9 -> 0 | J9: =D9+E9+F9+H9+I9 -> 0
B10: 利息收入增值税 | C10: 0.06 | I10: =I6/(1+C10)*C10 -> 141.50943 | J10: =D10+E10+F10+H10+I10 -> 141.50943
B11: 留抵进项税 | I11: 521.31
B12: 预缴留抵 | E12: 622293.82
B13: 应交增值税 | E13: =E9-E12 -> -622293.82 | H13: =H9-H12 -> 0 | I13: =IF(I10-I11>0,I10-I11,0) -> 0 | J13: =D13+H13+I13 -> 0
B14: 城建税 | C14: 0.07 | D14: =D9*$C$14 -> 0 | E14: 0 | H14: =H9*$C$14 -> 0 | I14: =I13*C14 -> 0 | J14: =D14+H14+I14 -> 0
B15: 地方教育费附加 | C15: 0.02 | D15: =D9*$C$15 -> 0 | E15: 0 | H15: =H9*$C$15 -> 0 | I15: =I13*C15 -> 0 | J15: =D15+H15+I15 -> 0
B16: 教育费附加 | C16: 0.03 | D16: =D9*$C$16 -> 0 | E16: 0 | H16: =H9*$C$16 -> 0 | I16: =I13*C16 -> 0 | J16: =D16+H16+I16 -> 0
B17: 土地增值税 | C17: 0.01 | D17: 0 | F17: =F6/1.09*$C$17 -> 0 | H17: 0 | J17: =D17+H17+I17 -> 0
B18: 土地增值税 | C18: 0.03 | D18: 0 | G18: =G6/1.05*C18 -> 0 | H18: 0 | J18: =D18+H18+I18 -> 0
B19: 土地增值税 | C19: 0.04 | H19: 0 | J19: =D19+H19+I19 -> 0
B20: 利息印花税 | C20: 0.0005 | I20: =I6*C20 -> 1.25 | J20: =D20+H20+I20 -> 1.25
B21: 租赁印花税 | C21: 0.001 | H21: =H6*C21 -> 0 | J21: =D21+H21+I21 -> 0
B22: 企业所得税 | C22: 0.25 | J22: =D22+H22+I22 -> 0
B23: 合计 | D23: =SUM(D8:D19) -> 0 | E23: 0 | F23: =SUM(F8:F19) -> 0 | G23: =SUM(G8:G19) -> 0 | H23: =SUM(H13:H22) -> 0 | J23: =SUM(J13:J22) -> 1.25

Sheet 2024年3月
B2: 阿克苏分公司税金计算表
B3: 项目名称： | C3: 多浪一期 | D3: 期间 | E3: 202403 | H3: 日期 | J3: 2024.3.4
B4: 预收款合计金额 | D4: 普通住宅 | E4: 商铺 | F4: 普通住宅 | G4: 商铺 | H4: 租赁收入（含税） | I4: 利息收入（含税） | J4: 合计
D5: 本期确认销项收入 | E5: 本期确认销项收入 | F5: 当月预收房款 | G5: 当月预收房款
D6: 1513749 | F6: =1513749/1.05 -> 1441665.7 | H6: 0 | I6: 0 | J6: =D6+E6+F6+H6 -> 2955414.7 | K6: =I6/1.06 -> 0
B7: 税目 | C7: 税率 | J7: =D7+E7+F7+H7 -> 0
B8: 预缴增值税 | C8: 0.03 | D8: 0 | E8: 0 | J8: =D8+E8+F8+H8+I8 -> 0
B9: 增值税 | C9: 0.05 | D9: =D6/1.05*C9 -> 72083.286 | E9: =E6*$C$9 -> 0 | H9: =H6/1.05*C9 -> 0 | J9: =D9+E9+F9+H9+I9 -> 72083.286
B10: 利息收入增值税 | C10: 0.06 | I10: =I6/(1+C10)*C10 -> 0 | J10: =D10+E10+F10+H10+I10 -> 0
B11: 留抵进项税
B12: 预缴留抵 | D12: =622293.82-D9 -> 550210.53
B13: 应交增值税 | D13: 0 | E13: =E9-E12 -> 0 | H13: =H9-H12 -> 0 | I13: =IF(I10-I11>0,I10-I11,0) -> 0 | J13: =D13+H13+I13 -> 0
B14: 城建税 | C14: 0.07 | D14: 0 | E14: 0 | H14: =H9*$C$14 -> 0 | I14: =I13*C14 -> 0 | J14: =D14+H14+I14 -> 0
B15: 地方教育费附加 | C15: 0.02 | D15: 0 | E15: 0 | H15: =H9*$C$15 -> 0 | I15: =I13*C15 -> 0 | J15: =D15+H15+I15 -> 0
B16: 教育费附加 | C16: 0.03 | D16: 0 | E16: 0 | H16: =H9*$C$16 -> 0 | I16: =I13*C16 -> 0 | J16: =D16+H16+I16 -> 0
B17: 土地增值税 | C17: 0.01 | D17: 0 | F17: =F6*$C$17 -> 14416.657 | H17: 0 | J17: =D17+H17+I17+F17 -> 14416.657
B18: 土地增值税 | C18: 0.03 | D18: 0 | G18: =G6/1.05*C18 -> 0 | H18: 0 | J18: =D18+H18+I18 -> 0
B19: 土地增值税 | C19: 0.04 | H19: 0 | J19: =D19+H19+I19 -> 0
B20: 利息印花税 | C20: 0.0005 | I20: 0 | J20: =D20+H20+I20 -> 0
B21: 租赁印花税 | C21: 0.001 | H21: =H6*C21 -> 0 | J21: =D21+H21+I21 -> 0
B22: 企业所得税 | C22: 0.25 | J22: =D22+H22+I22 -> 0
B23: 合计 | D23: =SUM(D8:D19) -> 622293.82 | E23: 0 | F23: =SUM(F8:F19) -> 14416.657 | G23: =SUM(G8:G19) -> 0 | H23: =SUM(H13:H22) -> 0 | J23: =SUM(J13:J22) -> 14416.657
A27: 新疆分公司交纳1-6月土地使用税明细
A28: 序号 | B28: 地块 | C28: 土地证面积 | D28: 总可售建筑面积 | E28: 合同备案销售面积 | F28: 已核减后地税局土地面积(平方) | G28: 核减后建筑面积 | H28: 容积率 | I28: 土地占用面积 | J28: 土地等级 | K28: 单价(元) | L28: 金额(元) | M28: 4月份应交 | N28: 地号 | O28: 土地证号 | P28: 备注
A29: 1 | B29: 多浪小镇C区 | C29: 33446.1 | D29: 58118.02 | E29: =系统合同备案面积表!F40 -> 0 | F29: =(E29+E30)/(D29+D30)*(C29+C30) -> 0 | G29: 2918.49 | H29: 1.7 | I29: =G29/H29 -> 1716.7588 | J29: 三级 | K29: 6 | L29: =I29*6 -> 10300.553 | M29: =L29/2 -> 5150.2765 | N29: 31-02-358 | O29: 阿市国用(2013)第84747号 | P29: 土地证
A30: 2 | B30: 多浪小镇A区 | C30: 37188.2 | D30: =21670.6+14820.21 -> 36490.81 | E30: =系统合同备案面积表!C40 -> 0 | J30: 三级 | K30: 6 | N30: 31-02-359 | O30: 阿市国用(2013)第84748号 | P30: 土地证
B33: 项目 | C33: 金额
B34: 主营业务收入 | C34: 1661666.1
B35: 其他业务收入 | C35: 2358.49
B36: 主营业务成本 | C36: 0
B37: 税金及附加 | C37: 23282.48
B38: 管理费用
B39: 财务费用 | C39: -63
B40: 利润总额 | C40: =C34+C35-C36-C37-C38-C39 -> 1640805.1
B41: 所得税税率 | C41: 0.25
B42: 预缴企业所得税 | C42: 0
B43: 本期应交企业所得税 | C43: =C40*C41-C42 -> 410201.28

Sheet 2024年4月
B2: 阿克苏分公司税金计算表
B3: 项目名称： | C3: 多浪一期 | D3: 期间 | E3: 202404 | G3: =G6/1.05 -> 138556.19 | H3: 日期 | J3: 2024.3.4
B4: 预收款合计金额 | D4: 普通住宅 | E4: 商铺 | F4: 普通住宅 | G4: 商铺 | H4: 租赁收入（含税） | I4: 利息收入（含税） | J4: 合计
D5: 本期确认销项收入 | E5: 本期确认销项收入 | F5: 当月预收房款 | G5: 当月预收房款 | K5: 预收房款
E6: 24030.95 | G6: =L6+L7+L8+L9+L10+M9 -> 145484 | H6: 0 | I6: 0 | J6: =D6+E6+F6+H6+G6+I6 -> 169514.95 | K6: C4-102 | L6: 30250
B7: 税目 | C7: 税率 | J7: =D7+E7+F7+H7+G7+I7 -> 0 | K7: C4-103 | L7: 30250
B8: 预缴增值税 | C8: 0.03 | D8: 0 | E8: 0 | J8: =D8+E8+F8+H8+G8+I8 -> 0 | K8: C5-108 | L8: 29750
B9: 增值税 | C9: 0.05 | D9: 0 | E9: 1203.05 | H9: =H6/1.05*C9 -> 0 | J9: =D9+E9+F9+H9+G9+I9 -> 1203.05 | K9: C3-105 | L9: 6428.16 | M9: 18805.84
B10: 利息收入增值税 | C10: 0.06 | I10: =I6/(1+C10)*C10 -> 0 | J10: =D10+E10+F10+H10+G10+I10 -> 0 | K10: C1-103 | L10: 30000
B11: 留抵进项税 | E11: 379.8 | K11: 合计 | L11: =SUM(L6:L10) -> 126678.16
B12: 预缴留抵 | E12: 550210.53
B13: 应交增值税 | E13: =E9-E12 -> -549007.48 | H13: =H9-H12 -> 0 | I13: =IF(I10-I11>0,I10-I11,0) -> 0 | J13: =D13+H13+I13 -> 0
B14: 城建税 | C14: 0.07 | D14: =D9*$C$14 -> 0 | E14: 0 | H14: =H9*$C$14 -> 0 | I14: =I13*C14 -> 0 | J14: =D14+H14+I14 -> 0
B15: 地方教育费附加 | C15: 0.02 | D15: =D9*$C$15 -> 0 | E15: 0 | H15: =H9*$C$15 -> 0 | I15: =I13*C15 -> 0 | J15: =D15+H15+I15 -> 0
B16: 教育费附加 | C16: 0.03 | D16: =D9*$C$16 -> 0 | E16: 0 | H16: =H9*$C$16 -> 0 | I16: =I13*C16 -> 0 | J16: =D16+H16+I16 -> 0
B17: 土地增值税 | C17: 0.01 | D17: 0 | F17: =F6/1.09*$C$17 -> 0 | H17: 0 | J17: =D17+H17+I17 -> 0
B18: 土地增值税 | C18: 0.03 | D18: 0 | G18: =G6/1.05*C18 -> 4156.6857 | H18: 0 | J18: =SUM(E18:I18) -> 4156.6857
B19: 土地增值税 | C19: 0.04 | H19: 0 | J19: =D19+H19+I19 -> 0
B20: 利息印花税 | C20: 0.0005 | I20: 0 | J20: =D20+H20+I20 -> 0
B21: 租赁印花税 | C21: 0.001 | H21: =H6*C21 -> 0 | J21: =D21+H21+I21 -> 0
B22: 企业所得税 | C22: 0.25 | J22: 231.56
B23: 合计 | D23: =SUM(D8:D19) -> 0 | E23: 0 | F23: =SUM(F8:F19) -> 0 | G23: =SUM(G8:G19) -> 4156.6857 | H23: =SUM(H13:H22) -> 0 | J23: =SUM(J13:J22) -> 4388.2457
B24: 说明：2023年度汇算清缴需补充缴纳企业所得税：231.56元。

Sheet 2024年5月
B2: 阿克苏分公司税金计算表
B3: 项目名称： | C3: 多浪一期 | D3: 期间 | E3: 202405 | F3: =F6/1.05 -> 0 | G3: =H6/1.05 -> 7687.619 | H3: 日期 | J3: 2024.6.4
B4: 预收款合计金额 | D4: 普通住宅 | E4: 商铺 | F4: 普通住宅 | G4: 商铺 | H4: 租赁收入（含税） | I4: 利息收入（含税） | J4: 合计
D5: 本期确认销项收入 | E5: 本期确认销项收入 | F5: 当月预收房款 | G5: 当月预收房款 | K5: 预收房款
D6: 3961 | E6: 62 | H6: 8072 | I6: 0 | J6: =D6+E6+F6+H6+G6+I6 -> 12095 | K6: A11-3-202 | L6: 5000
B7: 税目 | C7: 税率 | J7: =D7+E7+F7+H7+G7+I7 -> 0 | K7: C5-105 | L7: 27500
B8: 预缴增值税 | C8: 0.03 | D8: 0 | E8: 0 | J8: =D8+E8+F8+H8+G8+I8 -> 0 | K8: C4-101 | L8: 33000
B9: 增值税 | C9: 0.05 | D9: =D6/1.05*0.05 -> 188.61905 | E9: =E6/1.05*0.05 -> 2.952381 | H9: =H6/1.05*C9 -> 384.38095 | J9: =D9+E9+F9+H9+G9+I9 -> 575.95238 | K9: A11-3-301 | L9: 10000
B10: 利息收入增值税 | C10: 0.06 | I10: =I6/(1+C10)*C10 -> 0 | J10: =D10+E10+F10+H10+G10+I10 -> 0
B11: 留抵进项税 | E11: 379.8 | K11: 合计 | L11: =SUM(L6:L10) -> 75500
B12: 预缴留抵 | E12: 549007.48
B13: 应交增值税 | E13: =E12-E9-D9 -> 548815.91 | H13: =H9-H12 -> 384.38095 | I13: =IF(I10-I11>0,I10-I11,0) -> 0 | J13: =D13+H13+I13 -> 384.38095 | K13: 开票金额 | L13: 62
B14: 城建税 | C14: 0.07 | D14: =D9*$C$14 -> 13.203333 | E14: 0 | H14: =H9*$C$14 -> 26.906667 | I14: =I13*C14 -> 0 | J14: =D14+H14+I14 -> 40.11
B15: 地方教育费附加 | C15: 0.02 | D15: =D9*$C$15 -> 3.772381 | E15: 0 | H15: =H9*$C$15 -> 7.687619 | I15: =I13*C15 -> 0 | J15: =D15+H15+I15 -> 11.46
B16: 教育费附加 | C16: 0.03 | D16: =D9*$C$16 -> 5.6585714 | E16: 0 | H16: =H9*$C$16 -> 11.531429 | I16: =I13*C16 -> 0 | J16: =D16+H16+I16 -> 17.19
B17: 土地增值税 | C17: 0.01 | D17: 0 | F17: =F6/1.05*$C$17 -> 0 | H17: 0 | J17: =SUM(E17:I17) -> 0
B18: 土地增值税 | C18: 0.03 | D18: 0 | G18: =G6/1.05*C18 -> 0 | H18: 0 | J18: =SUM(E18:I18) -> 0
B19: 土地增值税 | C19: 0.04 | H19: 0 | J19: =D19+H19+I19 -> 0
B20: 利息印花税 | C20: 0.0005 | I20: 0 | J20: =D20+H20+I20 -> 0
B21: 租赁印花税 | C21: 0.001 | H21: =H6*C21 -> 8.072 | J21: =D21+H21+I21 -> 8.072
B22: 房产税（从租） | C22: 0.12 | H22: =H6/1.05*C22 -> 922.51429 | J22: =D22+H22+I22 -> 922.51429
B23: 合计 | D23: =SUM(D8:D19) -> 211.25333 | E23: 0 | F23: =SUM(F8:F19) -> 0 | G23: =SUM(G8:G19) -> 0 | H23: =SUM(H13:H22) -> 1361.093 | J23: =SUM(J13:J22) -> 1383.7272

Sheet 2024年6月
B2: 阿克苏分公司税金计算表
B3: 项目名称： | C3: 多浪一期 | D3: 期间 | E3: 202406 | H3: 日期 | J3: 2024.6.4
B4: 预收款合计金额 | D4: 普通住宅 | E4: 商铺 | F4: 普通住宅 | G4: 商铺 | H4: 租赁收入（含税） | I4: 利息收入（含税） | J4: 合计
D5: 本期确认销项收入 | E5: 本期确认销项收入 | F5: 当月预收房款 | G5: 当月预收房款
D6: 0 | E6: 314540.25 | F6: 0 | H6: 0 | I6: 0 | J6: =D6+E6+F6+H6 -> 314540.25 | K6: =I6/1.06 -> 0 | L6: 1135150.5 | M6: =L6-E6 -> 820610.24
B7: 税目 | C7: 税率 | J7: =D7+E7+F7+H7 -> 0
B8: 预缴增值税 | C8: 0.03 | D8: 0 | E8: 0 | J8: =D8+E8+F8+H8+I8 -> 0
B9: 增值税 | C9: 0.05 | D9: =D6/1.05*C9 -> 0 | E9: 15727.76 | H9: =H6/1.05*C9 -> 0 | J9: =D9+E9+F9+H9+I9 -> 15727.76 | L9: 56757.52 | M9: =L9-E9 -> 41029.76
B10: 利息收入增值税 | C10: 0.06 | I10: =I6/(1+C10)*C10 -> 0 | J10: =D10+E10+F10+H10+I10 -> 0
B11: 留抵进项税
B12: 预缴留抵 | E12: 548815.91
B13: 应交增值税 | D13: 0 | E13: =E9-E12 -> -533088.15 | H13: =H9-H12 -> 0 | I13: =IF(I10-I11>0,I10-I11,0) -> 0 | J13: =D13+H13+I13 -> 0 | L13: 1-6月网签备案
B14: 城建税 | C14: 0.07 | D14: 0 | E14: 0 | H14: =H9*$C$14 -> 0 | I14: =I13*C14 -> 0 | J14: =D14+H14+I14 -> 0 | L14: C4-101 | M14: 244760
B15: 地方教育费附加 | C15: 0.02 | D15: 0 | E15: 0 | H15: =H9*$C$15 -> 0 | I15: =I13*C15 -> 0 | J15: =D15+H15+I15 -> 0 | L15: C4-102 | M15: 220690
B16: 教育费附加 | C16: 0.03 | D16: 0 | E16: 0 | H16: =H9*$C$16 -> 0 | I16: =I13*C16 -> 0 | J16: =D16+H16+I16 -> 0 | L16: C4-103 | M16: 220690
B17: 土地增值税 | C17: 0.01 | D17: 0 | F17: =F6*$C$17 -> 0 | H17: 0 | J17: =D17+H17+I17+F17 -> 0 | L17: 合计 | M17: =SUM(M14:M16) -> 686140
B18: 土地增值税 | C18: 0.03 | D18: 0 | G18: =G6/1.05*C18 -> 0 | H18: 0 | J18: =D18+H18+I18 -> 0
B19: 土地增值税 | C19: 0.04 | H19: 0 | J19: =D19+H19+I19 -> 0
B20: 利息印花税 | C20: 0.0005 | I20: 0 | J20: =D20+H20+I20 -> 0
B21: 租赁印花税 | C21: 0.001 | H21: =H6*C21 -> 0 | J21: =D21+H21+I21 -> 0
B22: 印花税（书据） | C22: 0.0005 | D22: 686140 | J22: =D22*C22 -> 343.07
B23: 企业所得税 | C23: 0.25 | J23: =D23+H23+I23 -> 0
B24: 合计 | D24: =SUM(D8:D19) -> 0 | E24: 0 | F24: =SUM(F8:F19) -> 0 | G24: =SUM(G8:G19) -> 0 | H24: =SUM(H13:H23) -> 0 | J24: =SUM(J13:J23) -> 343.07
B27: 项目 | C27: 金额
B28: 主营业务收入 | C28: 342402.64
B29: 其他业务收入 | C29: 7687.62
B30: 营业外收入 | C30: 5811
B31: 主营业务成本 | C31: 0
B32: 税金及附加 | C32: 1900984.6
B33: 管理费用
B34: 财务费用 | C34: 614.06
B35: 营业外支出 | C35: 76623.85
B36: 利润总额 | C36: =C28+C29-C31-C32-C33-C34 -> -1551508.4
B37: 所得税税率 | C37: 0.25
B38: 预缴企业所得税 | C38: 0
B39: 本期应交企业所得税 | C39: =C36*C37-C38 -> -387877.09

Sheet 2024年7月
B2: 阿克苏分公司税金计算表
B3: 项目名称： | C3: 多浪一期 | D3: 期间 | E3: 202406 | H3: 日期 | J3: 2024.7.4
B4: 预收款合计金额 | D4: 普通住宅 | E4: 商铺 | F4: 普通住宅 | G4: 商铺 | H4: 租赁收入（含税） | I4: 利息收入（含税） | J4: 合计
D5: 本期确认销项收入 | E5: 本期确认销项收入 | F5: 当月预收房款 | G5: 当月预收房款
D6: 0 | E6: 175312.09 | F6: 0 | H6: 0 | I6: 0 | J6: =D6+E6+F6+H6 -> 175312.09 | K6: =I6/1.06 -> 0 | L6: 952916.19 | M6: =L6-E6 -> 777604.1
B7: 税目 | C7: 税率 | J7: =D7+E7+F7+H7 -> 0 | L7: 47645.81 | M7: =L7-E9 -> 38879.9
B8: 预缴增值税 | C8: 0.03 | D8: 0 | E8: 0 | J8: =D8+E8+F8+H8+I8 -> 0
B9: 增值税 | C9: 0.05 | D9: =D6/1.05*C9 -> 0 | E9: 8765.91 | H9: =H6/1.05*C9 -> 0 | J9: =D9+E9+F9+H9+I9 -> 8765.91
B10: 利息收入增值税 | C10: 0.06 | I10: =I6/(1+C10)*C10 -> 0 | J10: =D10+E10+F10+H10+I10 -> 0
B11: 留抵进项税
B12: 预缴留抵 | E12: 533088.15
B13: 应交增值税 | D13: 0 | E13: =E9-E12 -> -524322.24 | H13: =H9-H12 -> 0 | I13: =IF(I10-I11>0,I10-I11,0) -> 0 | J13: =D13+H13+I13 -> 0
B14: 城建税 | C14: 0.07 | D14: 0 | E14: 0 | H14: =H9*$C$14 -> 0 | I14: =I13*C14 -> 0 | J14: =D14+H14+I14 -> 0
B15: 地方教育费附加 | C15: 0.02 | D15: 0 | E15: 0 | H15: =H9*$C$15 -> 0 | I15: =I13*C15 -> 0 | J15: =D15+H15+I15 -> 0
B16: 教育费附加 | C16: 0.03 | D16: 0 | E16: 0 | H16: =H9*$C$16 -> 0 | I16: =I13*C16 -> 0 | J16: =D16+H16+I16 -> 0
B17: 土地增值税 | C17: 0.01 | D17: 0 | F17: =F6*$C$17 -> 0 | H17: 0 | J17: =D17+H17+I17+F17 -> 0 | L17: 合计 | M17: =SUM(M14:M16) -> 0
B18: 土地增值税 | C18: 0.03 | D18: 0 | G18: =G6/1.05*C18 -> 0 | H18: 0 | J18: =D18+H18+I18 -> 0
B19: 土地增值税 | C19: 0.04 | H19: 0 | J19: =D19+H19+I19 -> 0
B20: 利息印花税 | C20: 0.0005 | I20: 0 | J20: =D20+H20+I20 -> 0
B21: 租赁印花税 | C21: 0.001 | H21: =H6*C21 -> 0 | J21: =D21+H21+I21 -> 0
B22: 印花税（书据） | C22: 0.0005 | J22: =D22*C22 -> 0
B23: 企业所得税 | C23: 0.25 | J23: =D23+H23+I23 -> 0
B24: 合计 | D24: =SUM(D8:D19) -> 0 | E24: 0 | F24: =SUM(F8:F19) -> 0 | G24: =SUM(G8:G19) -> 0 | H24: =SUM(H13:H23) -> 0 | J24: =SUM(J13:J23) -> 0

Sheet 2024年8月
B2: 阿克苏分公司税金计算表
B3: 项目名称： | C3: 多浪一期 | D3: 期间 | G3: 日期 | I3: 2024.9.4
B4: 预收款合计金额 | D4: 本期确认收入 | E4: 普通住宅 | F4: 商铺 | G4: 租赁收入（含税） | H4: 利息收入（含税） | I4: 合计
E5: 当月预收房款 | F5: 当月预收房款
D6: =J6+K6 -> 498216 | E6: 0 | G6: 0 | H6: 0 | I6: =D6+E6+G6 -> 498216 | J6: 253456 | K6: 244760
B7: 税目 | C7: 税率 | I7: =D7+E7+G7 -> 0
B8: 预缴增值税 | C8: 0.03 | D8: 0 | I8: =D8+E8+G8 -> 0
B9: 增值税 | C9: 0.05 | D9: =D6/1.05*C9 -> 23724.571 | G9: =G6/1.05*C9 -> 0 | I9: =D9+E9+G9 -> 23724.571 | J9: =D6-D9 -> 474491.43
B10: 利息收入增值税 | C10: 0.06 | H10: =H6/(1+C10)*C10 -> 0 | I10: =D10+E10+G10 -> 0
B11: 留抵进项税
B12: 预缴留抵 | D12: 524322.24
B13: 应交增值税 | D13: =D9-D12 -> -500597.67 | G13: =G9-G12 -> 0 | H13: =IF(H10-H11>0,H10-H11,0) -> 0 | I13: =D13+G13+H13 -> -500597.67
B14: 城建税 | C14: 0.07 | D14: 0 | G14: =G9*$C$14 -> 0 | H14: =H13*C14 -> 0 | I14: =D14+G14+H14 -> 0
B15: 地方教育费附加 | C15: 0.02 | D15: 0 | G15: =G9*$C$15 -> 0 | H15: =H13*C15 -> 0 | I15: =D15+G15+H15 -> 0
B16: 教育费附加 | C16: 0.03 | D16: 0 | G16: =G9*$C$16 -> 0 | H16: =H13*C16 -> 0 | I16: =D16+G16+H16 -> 0
B17: 土地增值税 | C17: 0.01 | D17: 0 | E17: =E6*$C$17 -> 0 | G17: 0 | I17: =D17+G17+H17+E17 -> 0
B18: 土地增值税 | C18: 0.03 | D18: 0 | F18: =F6/1.05*C18 -> 0 | G18: 0 | I18: =D18+G18+H18 -> 0
B19: 土地增值税 | C19: 0.04 | G19: 0 | I19: =D19+G19+H19 -> 0
B20: 利息印花税 | C20: 0.0005 | H20: 0 | I20: =D20+G20+H20 -> 0
B21: 租赁印花税 | C21: 0.001 | G21: =G6*C21 -> 0 | I21: =D21+G21+H21 -> 0
B22: 印花税（书据） | C22: 0.0005 | I22: =D22*C22 -> 0
B23: 企业所得税 | C23: 0.25 | I23: =D23+G23+H23 -> 0
B24: 合计 | D24: =SUM(D8:D19) -> 47449.143 | E24: =SUM(E8:E19) -> 0 | F24: =SUM(F8:F19) -> 0 | G24: =SUM(G13:G23) -> 0 | I24: =SUM(I13:I23) -> -500597.67

Sheet 2024年9月
B2: 阿克苏分公司税金计算表
B3: 项目名称： | C3: 多浪一期 | D3: 期间 | E3: 202409 | H3: 日期 | J3: 2024.10.21
B4: 预收款合计金额 | D4: 普通住宅 | E4: 商铺 | F4: 普通住宅 | G4: 商铺 | H4: 租赁收入（含税） | I4: 利息收入（含税） | J4: 合计
D5: 本期确认销项收入 | E5: 本期确认销项收入 | F5: 当月预收房款 | G5: 当月预收房款
E6: 219476.19 | H6: 10000 | I6: 0 | J6: =D6+E6+F6+H6 -> 229476.19 | K6: =H6-H9 -> 9523.8095
B7: 税目 | C7: 税率 | J7: =D7+E7+F7+H7 -> 0
B8: 预缴增值税 | C8: 0.03 | D8: 0 | E8: 0 | J8: =D8+E8+F8+H8+I8 -> 0
B9: 增值税 | C9: 0.05 | D9: =D6/1.05*C9 -> 0 | E9: =E6*$C$9 -> 10973.809 | H9: =H6/1.05*C9 -> 476.19048 | J9: =D9+E9+F9+H9+I9 -> 11450
B10: 利息收入增值税 | C10: 0.06 | I10: =I6/(1+C10)*C10 -> 0 | J10: =D10+E10+F10+H10+I10 -> 0
B11: 留抵进项税
B12: 预缴留抵 | E12: 500597.67
B13: 应交增值税 | D13: 0 | E13: =E9-E12 -> -489623.86 | H13: =H9-H12 -> 476.19048 | I13: =IF(I10-I11>0,I10-I11,0) -> 0 | J13: =D13+H13+I13 -> 476.19048
B14: 城建税 | C14: 0.07 | D14: 0 | E14: 0 | H14: =H9*$C$14 -> 33.333333 | I14: =I13*C14 -> 0 | J14: =D14+H14+I14 -> 33.333333
B15: 地方教育费附加 | C15: 0.02 | D15: 0 | E15: 0 | H15: =H9*$C$15 -> 9.5238095 | I15: =I13*C15 -> 0 | J15: =D15+H15+I15 -> 9.5238095
B16: 教育费附加 | C16: 0.03 | D16: 0 | E16: 0 | H16: =H9*$C$16 -> 14.285714 | I16: =I13*C16 -> 0 | J16: =D16+H16+I16 -> 14.285714
B17: 土地增值税 | C17: 0.01 | D17: 0 | F17: =F6*$C$17 -> 0 | H17: 0 | J17: =D17+H17+I17+F17 -> 0
B18: 土地增值税 | C18: 0.03 | D18: 0 | G18: =G6/1.05*C18 -> 0 | H18: 0 | J18: =D18+H18+I18 -> 0
B19: 土地增值税 | C19: 0.04 | H19: 0 | J19: =D19+H19+I19 -> 0
B20: 利息印花税 | C20: 0.0005 | I20: 0 | J20: =D20+H20+I20 -> 0
B21: 租赁印花税 | C21: 0.001 | H21: =H6*C21 -> 10 | J21: =D21+H21+I21 -> 10
B22: 企业所得税 | C22: 0.25 | J22: =D22+H22+I22 -> 0
B23: 合计 | D23: =SUM(D8:D19) -> 0 | E23: 0 | F23: =SUM(F8:F19) -> 0 | G23: =SUM(G8:G19) -> 0 | H23: =SUM(H13:H22) -> 543.33333 | J23: =SUM(J13:J22) -> 543.33333
A27: 新疆分公司交纳7-12月土地使用税明细
A28: 序号 | B28: 地块 | C28: 土地证面积 | D28: 总可售建筑面积 | E28: 核减后建筑面积 | F28: 容积率 | G28: 土地占用面积 | H28: 土地等级 | I28: 单价(元) | J28: 金额(元) | K28: 10月份应交 | L28: 地号 | M28: 土地证号 | N28: 备注
A29: 1 | B29: 多浪小镇C区 | C29: 33446.1 | D29: 58118.02 | E29: =M41 -> 1177.95 | F29: 1.7 | G29: =E29/F29 -> 692.91176 | H29: 三级 | I29: 6 | J29: =G29/2*I29-0.01 -> 2078.7253 | K29: =J29 -> 2078.7253 | L29: 31-02-358 | M29: 阿市国用(2013)第84747号 | N29: 土地证
A30: 2 | B30: 多浪小镇A区 | C30: 37188.2 | D30: 61960.29 | H30: 三级 | I30: 6 | L30: 31-02-359 | M30: 阿市国用(2013)第84748号 | N30: 土地证
B32: 房产税 | L32: 未售房号 | M32: 未售面积
B33: 类型 | D33: 剩余未售建筑面积 | E33: 单价 | F33: 房产原值 | G33: 计税依据（原值70%） | H33: 税率 | I33: 税金 | J33: 应交 | K33: 备注
B34: 从价 | C34: 多浪一期 | D34: =E29-M36-M35 -> 1010.9 | E34: 2076.4796 | F34: =D34*E34 -> 2099113.2 | G34: =F34*0.7 -> 1469379.2 | H34: 0.012 | I34: =G34*H34 -> 17632.551 | J34: =ROUND(I34/2,2) -> 8816.28 | K34: 7-12月 | L34: C1-106 | M34: 73.71
L35: C1-107 | M35: 51.03 | N35: 已出租
L36: C1-108 | M36: 116.02 | N36: 已出租
B37: 类型 | D37: 面积 | E37: 原值 | F37: 租金 | G37: 计税依据 | H37: 税率 | I37: 税金 | J37: 应交 | K37: 备注 | L37: C1-201 | M37: 723.46
B38: 从租 | C38: 多浪一期C1-107/108 | D38: =M35+M36 -> 167.05 | E38: =D38*E34 -> 346875.91 | F38: =H6 -> 10000 | G38: =F38/1.05 -> 9523.8095 | H38: 0.12 | I38: =G38*H38 -> 1142.8571 | J38: =ROUND(I38,2) -> 1142.86 | K38: 9月 | L38: C1-301 | M38: 45.14
L39: C1-302 | M39: 72.63
B40: 项目 | C40: 金额 | L40: C16-201 | M40: 95.96
B41: 主营业务收入 | C41: 869279.71 | L41: 合计 | M41: =SUM(M34:M40) -> 1177.95
B42: 其他业务收入 | C42: 9523.81
B43: 营业外收入 | C43: 6150.8
B44: 主营业务成本 | C44: 0
B45: 税金及附加 | C45: 12105.01
...

Sheet 2024年12月
B2: 阿克苏分公司税金计算表
B3: 项目名称： | C3: 多浪一期 | D3: 期间 | E3: 202412 | H3: 日期 | J3: 2025.1.3
B4: 预收款合计金额 | D4: 普通住宅 | E4: 商铺 | F4: 普通住宅 | G4: 商铺 | H4: 租赁收入（含税） | I4: 利息收入（含税） | J4: 合计
D5: 本期确认销项收入 | E5: 本期确认销项收入 | F5: 当月预收房款 | G5: 当月预收房款
E6: 1058800.9 | H6: 10000 | I6: 0 | J6: =D6+E6+F6+H6 -> 1068800.9 | K6: =H6-H9 -> 9523.8095
B7: 税目 | C7: 税率 | J7: =D7+E7+F7+H7 -> 0
B8: 预缴增值税 | C8: 0.03 | D8: 0 | E8: 0 | J8: =D8+E8+F8+H8+I8 -> 0
B9: 增值税 | C9: 0.05 | D9: =D6/1.05*C9 -> 0 | E9: 52941.53 | H9: =H6/1.05*C9 -> 476.19048 | J9: =D9+E9+F9+H9+I9 -> 53417.72
B10: 利息收入增值税 | C10: 0.06 | I10: =I6/(1+C10)*C10 -> 0 | J10: =D10+E10+F10+H10+I10 -> 0
B11: 留抵进项税
B12: 预缴留抵 | E12: 477809.69
B13: 应交增值税 | D13: 0 | E13: =E9-E12 -> -424868.16 | H13: =H9-H12 -> 476.19048 | I13: =IF(I10-I11>0,I10-I11,0) -> 0 | J13: =D13+H13+I13 -> 476.19048
B14: 城建税 | C14: 0.07 | D14: 0 | E14: 0 | H14: =H9*$C$14 -> 33.333333 | I14: =I13*C14 -> 0 | J14: =D14+H14+I14 -> 33.333333
B15: 地方教育费附加 | C15: 0.02 | D15: 0 | E15: 0 | H15: =H9*$C$15 -> 9.5238095 | I15: =I13*C15 -> 0 | J15: =D15+H15+I15 -> 9.5238095
B16: 教育费附加 | C16: 0.03 | D16: 0 | E16: 0 | H16: =H9*$C$16 -> 14.285714 | I16: =I13*C16 -> 0 | J16: =D16+H16+I16 -> 14.285714
B17: 土地增值税 | C17: 0.01 | D17: 0 | F17: =F6*$C$17 -> 0 | H17: 0 | J17: =D17+H17+I17+F17 -> 0
B18: 土地增值税 | C18: 0.03 | D18: 0 | G18: =G6/1.05*C18 -> 0 | H18: 0 | J18: =D18+H18+I18 -> 0
B19: 土地增值税 | C19: 0.04 | H19: 0 | J19: =D19+H19+I19 -> 0
B20: 利息印花税 | C20: 0.0005 | I20: 0 | J20: =D20+H20+I20 -> 0
B21: 租赁印花税 | C21: 0.001 | H21: =H6*C21 -> 10 | J21: =D21+H21+I21 -> 10
B22: 企业所得税 | C22: 0.25 | J22: =D22+H22+I22 -> 0
B23: 合计 | D23: =SUM(D8:D19) -> 0 | E23: 0 | F23: =SUM(F8:F19) -> 0 | G23: =SUM(G8:G19) -> 0 | H23: =SUM(H13:H22) -> 543.33333 | J23: =SUM(J13:J22) -> 543.33333
A27: 新疆分公司交纳7-12月土地使用税明细
A28: 序号 | B28: 地块 | C28: 土地证面积 | D28: 总可售建筑面积 | E28: 核减后建筑面积 | F28: 容积率 | G28: 土地占用面积 | H28: 土地等级 | I28: 单价(元) | J28: 金额(元) | K28: 10月份应交 | L28: 地号 | M28: 土地证号 | N28: 备注
A29: 1 | B29: 多浪小镇C区 | C29: 33446.1 | D29: 58118.02 | E29: =M41 -> 1177.95 | F29: 1.7 | G29: =E29/F29 -> 692.91176 | H29: 三级 | I29: 6 | J29: =G29/2*I29-0.01 -> 2078.7253 | K29: =J29 -> 2078.7253 | L29: 31-02-358 | M29: 阿市国用(2013)第84747号 | N29: 土地证
A30: 2 | B30: 多浪小镇A区 | C30: 37188.2 | D30: 61960.29 | H30: 三级 | I30: 6 | L30: 31-02-359 | M30: 阿市国用(2013)第84748号 | N30: 土地证
B32: 房产税 | L32: 未售房号 | M32: 未售面积
B33: 类型 | D33: 剩余未售建筑面积 | E33: 单价 | F33: 房产原值 | G33: 计税依据（原值70%） | H33: 税率 | I33: 税金 | J33: 应交 | K33: 备注
B34: 从价 | C34: 多浪一期 | D34: =E29-M36-M35 -> 1010.9 | E34: 2076.4796 | F34: =D34*E34 -> 2099113.2 | G34: =F34*0.7 -> 1469379.2 | H34: 0.012 | I34: =G34*H34 -> 17632.551 | J34: =ROUND(I34/2,2) -> 8816.28 | K34: 7-12月 | L34: C1-106 | M34: 73.71
L35: C1-107 | M35: 51.03 | N35: 已出租
L36: C1-108 | M36: 116.02 | N36: 已出租
B37: 类型 | D37: 面积 | E37: 原值 | F37: 租金 | G37: 计税依据 | H37: 税率 | I37: 税金 | J37: 应交 | K37: 备注 | L37: C1-201 | M37: 723.46
B38: 从租 | C38: 多浪一期C1-107/108 | D38: =M35+M36 -> 167.05 | E38: =D38*E34 -> 346875.91 | F38: =H6 -> 10000 | G38: =F38/1.05 -> 9523.8095 | H38: 0.12 | I38: =G38*H38 -> 1142.8571 | J38: =ROUND(I38,2) -> 1142.86 | K38: 12月 | L38: C1-301 | M38: 45.14
L39: C1-302 | M39: 72.63
B40: 项目 | C40: 金额 | L40: C16-201 | M40: 95.96
B41: 主营业务收入 | C41: 4168433 | L41: 合计 | M41: =SUM(M34:M40) -> 1177.95
B42: 其他业务收入 | C42: 29093.73
B43: 营业外收入 | C43: 92913
B44: 主营业务成本 | C44: 0
B45: 税金及附加 | C45: 1936439.2
...
