Workbook

Sheet 工资汇总表
A2: 基本信息 | H2: 其他项核算 | M2: 应发核算 | Q2: 社保、公积金及个税 | W2: 实发总额 | X2: 备注
A3: 单位名称 | B3: 月末人数 | C3: 月工资标准 | D3: 应出勤天数 | E3: 基本薪资 | F3: 绩效奖金 | G3: 年度奖金 | H3: 加班工资 | I3: 绩效考核 | J3: 假期工资 | K3: 其他 | L3: 小计 | M3: 当月日均工资 | N3: 当月日均奖金 | O3: 实际出勤天数 | P3: 应发总额 | Q3: 养老金 | R3: 失业金 | S3: 医疗金 | T3: 大额医疗保险 | U3: 税金 | V3: 小计
A4: 阿克苏通力房地产开发有限公司 | B4: 6 | C4: =工资表!E11 -> 31150 | D4: 19 | E4: =工资表!G11 -> 23370 | F4: =工资表!H11 -> 7780 | G4: =工资表!I11 -> 0 | H4: 0 | I4: =工资表!K11 -> -2415.7895 | J4: =工资表!L11 -> 0 | K4: 0 | L4: =工资表!N11 -> -2415.7895 | P4: =工资表!R11 -> 28471.053 | Q4: =工资表!S11 -> 1999.6 | R4: =工资表!T11 -> 125 | S4: =工资表!U11 -> 499.9 | T4: =工资表!V11 -> 60 | U4: =工资表!W11 -> 6.46 | V4: =工资表!X11 -> 2690.96 | W4: =工资表!Y11 -> 25780.093

Sheet 工资表
A1: 阿克苏通力房产2025年2月工资表
A3: 序号 | B3: 基本信息 | J3: 其他项核算 | O3: 应发核算 | S3: 社保、公积金及个税 | Y3: 实发总额 | Z3: 备注
B4: 姓名 | C4: 岗位 | D4: 职务 序列 | E4: 月工资 标准 | F4: 应出 勤天 | G4: 基本 薪资 | H4: 绩效 奖金 | I4: 年度 奖金 | J4: 加班 工资 | K4: 绩效 考核 | L4: 假期 工资 | M4: 其他 | N4: 小计 | O4: 日均 工资 | P4: 日均 奖金 | Q4: 实际 出勤 | R4: 应发总额 | S4: 养老金 | T4: 失业金 | U4: 医疗金 | V4: 大额 医保 | W4: 税金 | X4: 小计
A5: 1 | B5: 刘念 | C5: 人事运营 | D5: PB | E5: 5500 | F5: 19 | G5: =E5*VLOOKUP(D5,职务序列取数!B:E,2,0) -> 4400 | H5: =E5*VLOOKUP(D5,职务序列取数!B:E,3,0) -> 1100 | I5: =E5*VLOOKUP(D5,职务序列取数!B:E,4,0) -> 0 | N5: =SUM(J5:M5) -> 0 | O5: =G5/F5 -> 231.57895 | P5: =H5/F5 -> 57.894737 | Q5: =VLOOKUP(B5,考勤!B:AI,34,0) -> 19 | R5: =(O5*Q5)+(P5*Q5)+N5 -> 5500 | S5: 399.92 | T5: 25 | U5: 99.98 | V5: 10 | X5: =SUM(S5:W5) -> 534.9 | Y5: =R5-X5 -> 4965.1
A6: 2 | B6: 郭满庆 | C6: 开发报建工程师 | D6: PB | E6: 5400 | F6: 19 | G6: =E6*VLOOKUP(D6,职务序列取数!B:E,2,0) -> 4320 | H6: =E6*VLOOKUP(D6,职务序列取数!B:E,3,0) -> 1080 | I6: =E6*VLOOKUP(D6,职务序列取数!B:E,4,0) -> 0 | N6: =SUM(J6:M6) -> 0 | O6: =G6/F6 -> 227.36842 | P6: =H6/F6 -> 56.842105 | Q6: =VLOOKUP(B6,考勤!B:AI,34,0) -> 19 | R6: =(O6*Q6)+(P6*Q6)+N6 -> 5400 | V6: 10 | X6: =SUM(S6:W6) -> 10 | Y6: =R6-X6 -> 5390
A7: 3 | B7: 李梦鑫 | C7: 出纳 | D7: PB | E7: 5500 | F7: 19 | G7: =E7*VLOOKUP(D7,职务序列取数!B:E,2,0) -> 4400 | H7: =E7*VLOOKUP(D7,职务序列取数!B:E,3,0) -> 1100 | I7: =E7*VLOOKUP(D7,职务序列取数!B:E,4,0) -> 0 | N7: =SUM(J7:M7) -> 0 | O7: =G7/F7 -> 231.57895 | P7: =H7/F7 -> 57.894737 | Q7: =VLOOKUP(B7,考勤!B:AI,34,0) -> 19 | R7: =(O7*Q7)+(P7*Q7)+N7 -> 5500 | S7: 399.92 | T7: 25 | U7: 99.98 | V7: 10 | X7: =SUM(S7:W7) -> 534.9 | Y7: =R7-X7 -> 4965.1
A8: 4 | B8: 马木提·阿吉 | C8: 商管专员 | D8: PB | E8: 4000 | F8: 19 | G8: =E8*VLOOKUP(D8,职务序列取数!B:E,2,0) -> 3200 | H8: =E8*VLOOKUP(D8,职务序列取数!B:E,3,0) -> 800 | I8: =E8*VLOOKUP(D8,职务序列取数!B:E,4,0) -> 0 | N8: =SUM(J8:M8) -> 0 | O8: =G8/F8 -> 168.42105 | P8: =H8/F8 -> 42.105263 | Q8: =VLOOKUP(B8,考勤!B:AI,34,0) -> 19 | R8: =(O8*Q8)+(P8*Q8)+N8 -> 4000 | S8: 399.92 | T8: 25 | U8: 99.98 | V8: 10 | X8: =SUM(S8:W8) -> 534.9 | Y8: =R8-X8 -> 3465.1
A9: 5 | B9: 杜芊 | C9: 销售内勤 | D9: PB | E9: 5750 | F9: 19 | G9: =E9*VLOOKUP(D9,职务序列取数!B:E,2,0) -> 4600 | H9: =E9*VLOOKUP(D9,职务序列取数!B:E,3,0) -> 1150 | I9: =E9*VLOOKUP(D9,职务序列取数!B:E,4,0) -> 0 | N9: =SUM(J9:M9) -> 0 | O9: =G9/F9 -> 242.10526 | P9: =H9/F9 -> 60.526316 | Q9: =VLOOKUP(B9,考勤!B:AI,34,0) -> 19 | R9: =(O9*Q9)+(P9*Q9)+N9 -> 5750 | S9: 399.92 | T9: 25 | U9: 99.98 | V9: 10 | W9: 6.46 | X9: =SUM(S9:W9) -> 541.36 | Y9: =R9-X9 -> 5208.64
A10: 6 | B10: 依明·阿扎提 | C10: 销售主管 | D10: PA | E10: 5000 | F10: 19 | G10: 2450 | H10: 2550 | I10: =E10*VLOOKUP(D10,职务序列取数!B:E,4,0) -> 0 | K10: =-P10*Q10 -> -2415.7895 | N10: =SUM(J10:M10) -> -2415.7895 | O10: =G10/F10 -> 128.94737 | P10: =H10/F10 -> 134.21053 | Q10: =VLOOKUP(B10,考勤!B:AI,34,0) -> 18 | R10: =(O10*Q10)+(P10*Q10)+N10 -> 2321.0526 | S10: 399.92 | T10: 25 | U10: 99.98 | V10: 10 | X10: =SUM(S10:W10) -> 534.9 | Y10: =R10-X10 -> 1786.1526
B11: 合计 | E11: =SUM(E5:E10) -> 31150 | F11: 19 | G11: =SUM(G5:G10) -> 23370 | H11: =SUM(H5:H10) -> 7780 | I11: =SUM(I5:I10) -> 0 | J11: =SUM(J5:J5) -> 0 | K11: =SUM(K5:K10) -> -2415.7895 | L11: =SUM(L5:L5) -> 0 | M11: =SUM(M5:M5) -> 0 | N11: =SUM(N5:N10) -> -2415.7895 | R11: =SUM(R5:R10) -> 28471.053 | S11: =SUM(S5:S10) -> 1999.6 | T11: =SUM(T5:T10) -> 125 | U11: =SUM(U5:U10) -> 499.9 | V11: =SUM(V5:V10) -> 60 | W11: =SUM(W5:W10) -> 6.46 | X11: =SUM(X5:X10) -> 2690.96 | Y11: =SUM(Y5:Y10) -> 25780.093
A12: 注：依明·阿扎提本月执行-2416元，其暂未执行的绩效考核共计-20737元（含9月-5089元；10月-11690元；11月-1736元；12月-980元；2025年1-2月-1242元）
B13: 单位领导： | N13: 审核： | V13: 制表：

Sheet 考勤
A1: =[1]封面!A10 -> 2025年 | V1: =[1]工资表!M1 -> 2 | X1: 月职工考勤表
B2: 单位: | C2: 阿克苏通力 | AK2: =[1]工资表!AB2 -> 2025年2月4日
A3: 序号 | B3: 姓名 | C3: 职务工种 | D3: 出 勤 情 况 | AI3: 实际出勤天数 | AJ3: 公休节日天数 | AK3: 考 勤 天 数 | AZ3: 员工本人 签字
D4: =V1 -> 2 | T4: 月
D5: 1 | E5: 2 | F5: 3 | G5: 4 | H5: 5 | I5: 6 | J5: 7 | K5: 8 | L5: 9 | M5: 10 | N5: 11 | O5: 12 | P5: 13 | Q5: 14 | R5: 15 | S5: 16 | T5: 17 | U5: 18 | V5: 19 | W5: 20 | X5: 21 | Y5: 22 | Z5: 23 | AA5: 24 | AB5: 25 | AC5: 26 | AD5: 27 | AE5: 28 | AF5: 29 | AG5: 30 | AH5: 31 | AK5: 出勤√ | AL5: 出差 | AM5: 公休 | AN5: 病假 | AO5: 事假 | AP5: 旷工 | AQ5: 工伤 | AR5: 培训 | AS5: 冬休 | AT5: 休假 | AU5: 探亲 | AV5: 产假 | AW5: 陪护假 | AX5: 婚丧假 | AY5: 待岗
A6: 1 | B6: 刘念 | C6: 人事运营 | D6: 公休 | E6: 公休 | F6: 公休 | G6: 公休 | H6: √ | I6: √ | J6: √ | K6: √ | L6: 公休 | M6: √ | N6: √ | O6: √ | P6: √ | Q6: √ | R6: 公休 | S6: 公休 | T6: √ | U6: √ | V6: √ | W6: √ | X6: √ | Y6: 公休 | Z6: 公休 | AA6: √ | AB6: √ | AC6: √ | AD6: √ | AE6: √ | AI6: 19 | AJ6: 9 | AK6: =COUNTIF($D7:$AE7,"√") -> 19 | AL6: =COUNTIF($D7:$AE7,"出差") -> 0 | AM6: =COUNTIF($D7:$AE7,"公休") -> 9 | AN6: 0 | AO6: 0 | AP6: 0 | AQ6: 0 | AR6: 0 | AS6: 0 | AT6: 0 | AU6: 0 | AV6: 0 | AW6: 0 | AX6: 0 | AY6: 0
A7: 2 | B7: 郭满庆 | C7: 开发报建工程师 | D7: 公休 | E7: 公休 | F7: 公休 | G7: 公休 | H7: √ | I7: √ | J7: √ | K7: √ | L7: 公休 | M7: √ | N7: √ | O7: √ | P7: √ | Q7: √ | R7: 公休 | S7: 公休 | T7: √ | U7: √ | V7: √ | W7: √ | X7: √ | Y7: 公休 | Z7: 公休 | AA7: √ | AB7: √ | AC7: √ | AD7: √ | AE7: √ | AI7: 19 | AJ7: 9 | AK7: =COUNTIF($D8:$AE8,"√") -> 19 | AL7: =COUNTIF($D8:$AE8,"出差") -> 0 | AM7: =COUNTIF($D8:$AE8,"公休") -> 9 | AN7: 0 | AO7: 0 | AP7: 0 | AQ7: 0 | AR7: 0 | AS7: 0 | AT7: 0 | AU7: 0 | AV7: 0 | AW7: 0 | AX7: 0 | AY7: 0
A8: 3 | B8: 李梦鑫 | C8: 出纳 | D8: 公休 | E8: 公休 | F8: 公休 | G8: 公休 | H8: √ | I8: √ | J8: √ | K8: √ | L8: 公休 | M8: √ | N8: √ | O8: √ | P8: √ | Q8: √ | R8: 公休 | S8: 公休 | T8: √ | U8: √ | V8: √ | W8: √ | X8: √ | Y8: 公休 | Z8: 公休 | AA8: √ | AB8: √ | AC8: √ | AD8: √ | AE8: √ | AI8: 19 | AJ8: 9 | AK8: =COUNTIF($D9:$AE9,"√") -> 19 | AL8: =COUNTIF($D9:$AE9,"出差") -> 0 | AM8: =COUNTIF($D9:$AE9,"公休") -> 9 | AN8: 0 | AO8: 0 | AP8: 0 | AQ8: 0 | AR8: 0 | AS8: 0 | AT8: 0 | AU8: 0 | AV8: 0 | AW8: 0 | AX8: 0 | AY8: 0
A9: 4 | B9: 马木提·阿吉 | C9: 销售 | D9: 公休 | E9: 公休 | F9: 公休 | G9: 公休 | H9: √ | I9: √ | J9: √ | K9: √ | L9: 公休 | M9: √ | N9: √ | O9: √ | P9: √ | Q9: √ | R9: 公休 | S9: 公休 | T9: √ | U9: √ | V9: √ | W9: √ | X9: √ | Y9: 公休 | Z9: 公休 | AA9: √ | AB9: √ | AC9: √ | AD9: √ | AE9: √ | AI9: 19 | AJ9: 9 | AK9: =COUNTIF($D10:$AE10,"√") -> 19 | AL9: =COUNTIF($D10:$AE10,"出差") -> 0 | AM9: =COUNTIF($D10:$AE10,"公休") -> 9 | AN9: 0 | AO9: 0 | AP9: 0 | AQ9: 0 | AR9: 0 | AS9: 0 | AT9: 0 | AU9: 0 | AV9: 0 | AW9: 0 | AX9: 0 | AY9: 0
A10: 5 | B10: 杜芊 | C10: 销售内勤 | D10: 公休 | E10: 公休 | F10: 公休 | G10: 公休 | H10: √ | I10: √ | J10: √ | K10: √ | L10: 公休 | M10: √ | N10: √ | O10: √ | P10: √ | Q10: √ | R10: 公休 | S10: 公休 | T10: √ | U10: √ | V10: √ | W10: √ | X10: √ | Y10: 公休 | Z10: 公休 | AA10: √ | AB10: √ | AC10: √ | AD10: √ | AE10: √ | AI10: 19 | AJ10: 9 | AK10: =COUNTIF($D10:$AE10,"√") -> 19 | AL10: =COUNTIF($D11:$AE11,"出差") -> 0 | AM10: =COUNTIF($D10:AE10,"公休") -> 9 | AN10: 0 | AO10: 0 | AP10: 0 | AQ10: 0 | AR10: 0 | AS10: 0 | AT10: 0 | AU10: 0 | AV10: 0 | AW10: 0 | AX10: 0 | AY10: 0
A11: 6 | B11: 依明·阿扎提 | C11: 销售 | D11: 公休 | E11: 公休 | F11: 公休 | G11: 公休 | H11: 事假 | I11: √ | J11: √ | K11: √ | L11: 公休 | M11: √ | N11: √ | O11: √ | P11: √ | Q11: √ | R11: 公休 | S11: 公休 | T11: √ | U11: √ | V11: √ | W11: √ | X11: √ | Y11: 公休 | Z11: 公休 | AA11: √ | AB11: √ | AC11: √ | AD11: √ | AE11: √ | AI11: =AK11 -> 18 | AJ11: 9 | AK11: =COUNTIF($D11:$AE11,"√") -> 18 | AL11: =COUNTIF($D12:$AE12,"出差") -> 0 | AM11: =COUNTIF($D11:AE11,"公休") -> 9 | AN11: 0 | AO11: =COUNTIF($D11:$AE11,"事假") -> 1 | AP11: 0 | AQ11: 0 | AR11: 0 | AS11: 0 | AT11: 0 | AU11: 0 | AV11: 0 | AW11: 0 | AX11: 0 | AY11: 0
B12: 注：本月依明·阿扎提事假1天
E13: 单位领导： | V13: 审核： | AI13: 制表：

Sheet 校验
A2: 序号 | B2: 姓名 | C2: 实际出勤天数 | D2: 月工资标准 | E2: 月度应发 | F2: 差额 | G2: 备注
A3: 1 | B3: 刘念 | C3: 19 | D3: =(VLOOKUP(B3,工资表!B5:G5,6,0)+VLOOKUP(B3,工资表!B5:H5,7,0))/工资表!F5*VLOOKUP(B3,考勤!B6:AI6,34,0) -> 5500 | E3: =VLOOKUP(B3,工资表!B5:R5,17,0) -> 5500 | F3: =D3-E3 -> 0
A4: 2 | B4: 郭满庆 | C4: 19 | D4: =(VLOOKUP(B4,工资表!B6:G6,6,0)+VLOOKUP(B4,工资表!B6:H6,7,0))/工资表!F6*VLOOKUP(B4,考勤!B7:AI7,34,0) -> 5400 | E4: =VLOOKUP(B4,工资表!B6:R6,17,0) -> 5400 | F4: =D4-E4 -> -8.1854523e-12
A5: 3 | B5: 李梦鑫 | C5: 19 | D5: =(VLOOKUP(B5,工资表!B7:G7,6,0)+VLOOKUP(B5,工资表!B7:H7,7,0))/工资表!F7*VLOOKUP(B5,考勤!B8:AI8,34,0) -> 5500 | E5: =VLOOKUP(B5,工资表!B7:R7,17,0) -> 5500 | F5: =D5-E5 -> 0
A6: 3 | B6: 马木提·阿吉 | C6: 19 | D6: =(VLOOKUP(B6,工资表!B8:G8,6,0)+VLOOKUP(B6,工资表!B8:H8,7,0))/工资表!F8*VLOOKUP(B6,考勤!B9:AI9,34,0) -> 4000 | E6: =VLOOKUP(B6,工资表!B8:R8,17,0) -> 4000 | F6: =D6-E6 -> 0
A7: 3 | B7: 杜芊 | C7: 19 | D7: =(VLOOKUP(B7,工资表!B9:G9,6,0)+VLOOKUP(B7,工资表!B9:H9,7,0))/工资表!F9*VLOOKUP(B7,考勤!B10:AI10,34,0) -> 5750 | E7: =VLOOKUP(B7,工资表!B9:R9,17,0) -> 5750 | F7: =D7-E7 -> 0
A8: 3 | B8: 依明·阿扎提 | C8: 19 | D8: =(VLOOKUP(B8,工资表!B10:G10,6,0)+VLOOKUP(B8,工资表!B10:H10,7,0))/工资表!F10*VLOOKUP(B8,考勤!B11:AI11,34,0) -> 4736.8421 | E8: =VLOOKUP(B8,工资表!B10:R10,17,0) -> 2321.0526 | F8: =D8-E8 -> 2415.7895 | G8: 绩效扣款

Sheet 职务序列取数
B2: 职务序列 | C2: 月度基本工资比例 | D2: 月度绩效奖金比例 | E2: 年度奖金比例
B3: A1 | C3: 1 | D3: 0 | E3: 0
B4: A2 | C4: 0.375 | D4: 0.375 | E4: 0.25
B5: A3 | C5: 0.375 | D5: 0.375 | E5: 0.25
B6: A4 | C6: 0.375 | D6: 0.375 | E6: 0.25
B7: A5 | C7: 0.375 | D7: 0.375 | E7: 0.25
B8: M1 | C8: 0.51 | D8: 0.34 | E8: 0.15
B9: M2 | C9: 0.51 | D9: 0.34 | E9: 0.15
B10: M3 | C10: 0.51 | D10: 0.34 | E10: 0.15
B11: PM | C11: 0.7 | D11: 0.3 | E11: 0
B12: PB | C12: 0.8 | D12: 0.2 | E12: 0
B13: PA
