Workbook

Sheet Sheet1
A1: 新疆元盛美华房地产开发有限责任公司2025年8月公积金明细表（账号:018963221480016818）
A2: 序号 | B2: 姓名 | C2: 身份证号 | D2: 手机号 | E2: 公积金基数 | F2: 企业 | G2: 个人 | H2: 总额 | I2: 增减员 | J2: 发薪单位
A3: 1 | B3: 何健 | C3: =VLOOKUP(B3,[1]全员带薪级!$B$3:$N$87,13,FALSE) -> 25655 | D3: =VLOOKUP(B3,[2]员工数据!$B$2:$C$94,2,FALSE) -> 13999912749 | E3: 9000 | F3: 450 | G3: 450 | H3: 900 | J3: 集团机关
A4: 2 | B4: 胡前新 | C4: 210204197503155774 | E4: 9000 | F4: 450 | G4: 450 | H4: 900
A5: 3 | B5: 任霄 | C5: 650103199309280618 | D5: 15699119730 | E5: 9000 | F5: 450 | G5: 450 | H5: 900
A6: 4 | B6: 欧振华 | C6: =VLOOKUP(B6,[1]全员带薪级!$B$3:$N$87,13,FALSE) -> 28822 | D6: =VLOOKUP(B6,[2]员工数据!$B$2:$C$94,2,FALSE) -> 18195941682 | E6: 9000 | F6: 450 | G6: 450 | H6: 900
A7: 5 | B7: 袁豫 | C7: =VLOOKUP(B7,[1]全员带薪级!$B$3:$N$87,13,FALSE) -> 31868 | D7: =VLOOKUP(B7,[2]员工数据!$B$2:$C$94,2,FALSE) -> 17797822272 | E7: 7000 | F7: 350 | G7: 350 | H7: 700
A8: 6 | B8: 卢婷婷 | C8: =VLOOKUP(B8,[1]全员带薪级!$B$3:$N$87,13,FALSE) -> 35704 | D8: =VLOOKUP(B8,[2]员工数据!$B$2:$C$94,2,FALSE) -> 13199840890 | E8: 7000 | F8: 350 | G8: 350 | H8: 700
A9: 7 | B9: 张宇 | C9: =VLOOKUP(B9,[1]全员带薪级!$B$3:$N$87,13,FALSE) -> 32450 | D9: =VLOOKUP(B9,[2]员工数据!$B$2:$C$94,2,FALSE) -> 13279911673 | E9: 5000 | F9: 250 | G9: 250 | H9: 500
A10: 8 | B10: 尹江 | C10: =VLOOKUP(B10,[1]全员带薪级!$B$3:$N$87,13,FALSE) -> 32414 | D10: =VLOOKUP(B10,[2]员工数据!$B$2:$C$94,2,FALSE) -> 18199811880 | E10: 5000 | F10: 250 | G10: 250 | H10: 500
A11: 9 | B11: 马金帮 | C11: =VLOOKUP(B11,[1]全员带薪级!$B$3:$N$87,13,FALSE) -> 28039 | D11: =VLOOKUP(B11,[2]员工数据!$B$2:$C$94,2,FALSE) -> 13899838993 | E11: 5000 | F11: 250 | G11: 250 | H11: 500
A12: 10 | B12: 李倩 | C12: =VLOOKUP(B12,[1]全员带薪级!$B$3:$N$87,13,FALSE) -> 29840 | D12: =VLOOKUP(B12,[2]员工数据!$B$2:$C$94,2,FALSE) -> 13579912126 | E12: 5000 | F12: 250 | G12: 250 | H12: 500
A13: 11 | B13: 薛双双 | C13: =VLOOKUP(B13,[1]全员带薪级!$B$3:$N$87,13,FALSE) -> 36422 | D13: =VLOOKUP(B13,[2]员工数据!$B$2:$C$94,2,FALSE) -> 18399952078 | E13: 5000 | F13: 250 | G13: 250 | H13: 500
A14: 12 | B14: 刘海梅 | C14: =VLOOKUP(B14,[1]全员带薪级!$B$3:$N$87,13,FALSE) -> 27979 | D14: =VLOOKUP(B14,[2]员工数据!$B$2:$C$94,2,FALSE) -> 18999850410 | E14: 5000 | F14: 250 | G14: 250 | H14: 500
A15: 13 | B15: 何昱珉 | C15: =VLOOKUP(B15,[1]全员带薪级!$B$3:$N$87,13,FALSE) -> 35542 | D15: =VLOOKUP(B15,[2]员工数据!$B$2:$C$94,2,FALSE) -> 18119116451 | E15: 5000 | F15: 250 | G15: 250 | H15: 500 | J15: 集团机关
A16: 14 | B16: 岳丽 | C16: =VLOOKUP(B16,[1]全员带薪级!$B$3:$N$87,13,FALSE) -> 32547 | D16: =VLOOKUP(B16,[2]员工数据!$B$2:$C$94,2,FALSE) -> 15026090871 | E16: 5000 | F16: 250 | G16: 250 | H16: 500 | J16: 集团机关
A17: 15 | B17: 冯影 | C17: 342124198202022201 | D17: =VLOOKUP(B17,[2]员工数据!$B$2:$C$94,2,FALSE) -> 18160637598 | E17: 5000 | F17: 250 | G17: 250 | H17: 500 | J17: 集团机关
A18: 16 | B18: 王国强 | C18: =VLOOKUP(B18,[1]全员带薪级!$B$3:$N$87,13,FALSE) -> 33887 | D18: =VLOOKUP(B18,[2]员工数据!$B$2:$C$94,2,FALSE) -> 18699123761 | E18: 5000 | F18: 250 | G18: 250 | H18: 500 | J18: 集团机关
A19: 17 | B19: 吴梦杨 | C19: =VLOOKUP(B19,[1]全员带薪级!$B$3:$N$87,13,FALSE) -> 34239 | D19: =VLOOKUP(B19,[2]员工数据!$B$2:$C$94,2,FALSE) -> 15109977110 | E19: 5000 | F19: 250 | G19: 250 | H19: 500 | J19: 集团机关
A20: 18 | B20: 李婷 | C20: =VLOOKUP(B20,[1]全员带薪级!$B$3:$N$87,13,FALSE) -> 33126 | D20: =VLOOKUP(B20,[2]员工数据!$B$2:$C$94,2,FALSE) -> 18699176193 | E20: 5000 | F20: 250 | G20: 250 | H20: 500 | J20: 集团机关
A21: 19 | B21: 马思宇 | C21: =VLOOKUP(B21,[1]全员带薪级!$B$3:$N$87,13,FALSE) -> 36519 | D21: =VLOOKUP(B21,[2]员工数据!$B$2:$C$94,2,FALSE) -> 18209052764 | E21: 5000 | F21: 250 | G21: 250 | H21: 500 | J21: 集团机关
A22: 20 | B22: 吕蓉 | C22: =VLOOKUP(B22,[1]全员带薪级!$B$3:$N$87,13,FALSE) -> 27123 | D22: =VLOOKUP(B22,[2]员工数据!$B$2:$C$94,2,FALSE) -> 15276629058 | E22: 5000 | F22: 250 | G22: 250 | H22: 500
A23: 21 | B23: 张旭 | C23: =VLOOKUP(B23,[1]全员带薪级!$B$3:$N$87,13,FALSE) -> 33100 | D23: =VLOOKUP(B23,[2]员工数据!$B$2:$C$94,2,FALSE) -> 13639978485 | E23: 5000 | F23: 250 | G23: 250 | H23: 500 | J23: 集团机关
A24: 22 | B24: 李海涛 | C24: =VLOOKUP(B24,[1]全员带薪级!$B$3:$N$87,13,FALSE) -> 32108 | D24: =VLOOKUP(B24,[2]员工数据!$B$2:$C$94,2,FALSE) -> 13579409517 | E24: 5000 | F24: 250 | G24: 250 | H24: 500 | J24: 集团机关
A25: 23 | B25: 王兴怡 | C25: =VLOOKUP(B25,[1]全员带薪级!$B$3:$N$87,13,FALSE) -> 35157 | D25: =VLOOKUP(B25,[2]员工数据!$B$2:$C$94,2,FALSE) -> 13095052772 | E25: 5000 | F25: 250 | G25: 250 | H25: 500
A26: 24 | B26: 鲜侁 | C26: 620525199712162018 | D26: 18699096003 | E26: 5000 | F26: 250 | G26: 250 | H26: 500 | J26: 集团机关
A27: 25 | B27: 张丽珍 | C27: 371722200112286822 | D27: 15020287282 | E27: 5000 | F27: 250 | G27: 250 | H27: 500 | J27: 集团机关
A28: 26 | B28: 何亚君 | E28: 5000 | F28: 250 | G28: 250 | H28: 500 | I28: 8月增员 | J28: 集团机关
A29: 合计 | D29: 25 | E29: =SUM(E3:E28) -> 150000 | F29: =SUM(F3:F28) -> 7500 | G29: =SUM(G3:G28) -> 7500 | H29: =SUM(H3:H28) -> 15000
