Workbook

Sheet 工资汇总表
A2: 基本信息 | H2: 其他项核算 | M2: 应发核算 | Q2: 社保、公积金及个税 | W2: 实发总额 | X2: 备注
A3: 单位名称 | B3: 月末人数 | C3: 月工资标准 | D3: 应出勤天数 | E3: 基本薪资 | F3: 绩效奖金 | G3: 年度奖金 | H3: 加班工资 | I3: 绩效考核 | J3: 假期工资 | K3: 其他 | L3: 小计 | M3: 当月日均工资 | N3: 当月日均奖金 | O3: 实际出勤天数 | P3: 应发总额 | Q3: 养老金 | R3: 失业金 | S3: 医疗金 | T3: 大额医疗保险 | U3: 税金 | V3: 小计
A4: 元盛美华营销部 | B4: =工资表!A7 -> 3 | C4: =工资表!E8 -> 15500 | D4: =工资表!F8 -> 0 | E4: =工资表!G8 -> 8900 | F4: =工资表!H8 -> 6600 | G4: =工资表!I8 -> 0 | H4: =工资表!J8 -> 0 | I4: =工资表!K8 -> -2550 | J4: =工资表!L8 -> 0 | ... W4: =工资表!Y8 -> 9100.2

Sheet 工资表
A1: 元盛美华营销部2025年3月工资表
A3: 序号 | B3: 基本信息 | J3: 其他项核算 | O3: 应发核算 | S3: 社保、公积金及个税 | Y3: 实发总额 | Z3: 备注
B4: 姓名 | C4: 岗位 | D4: 职务 序列 | E4: 月工资 标准 | F4: 应出 勤天 | G4: 基本 薪资 | H4: 绩效 奖金 | I4: 年度 奖金 | J4: 加班 工资 | K4: 绩效 考核 | L4: 假期 工资 | M4: 其他 | N4: 小计 | O4: 日均 工资 | P4: 日均 奖金 | Q4: 实际 出勤 | R4: 应发总额 | S4: 养老金 | T4: 失业金 | U4: 医疗金 | V4: 大额 医保 | W4: 税金 | X4: 小计
A5: 1 | B5: 王乔华 | C5: 置业顾问 | D5: PA | E5: 5000 | F5: 26 | G5: =1900+550 -> 2450 | H5: =E5-G5 -> 2550 | I5: =E5*VLOOKUP(D5,职务序列取数!B:E,4,0) -> 0 | K5: -2550 | N5: =SUM(J5:M5) -> -2550 | O5: =G5/F5 -> 94.230769 | P5: =H5/F5 -> 98.076923 | Q5: =VLOOKUP(B5,考勤!B:AI,34,0) -> 26 | R5: =(O5*Q5)+(P5*Q5)+N5 -> 2450 | S5: 399.92 | T5: 25 | U5: 99.98 | V5: 25 | X5: =SUM(S5:W5) -> 549.9 | Y5: =R5-X5 -> 1900.1
A6: 2 | B6: 张宇 | C6: 销售内勤 | D6: PB | E6: 5000 | F6: 20 | G6: =E6*VLOOKUP(D6,职务序列取数!B:E,2,0) -> 4000 | H6: =E6*VLOOKUP(D6,职务序列取数!B:E,3,0) -> 1000 | I6: =E6*VLOOKUP(D6,职务序列取数!B:E,4,0) -> 0 | N6: =SUM(J6:M6) -> 0 | O6: =G6/F6 -> 200 | P6: =H6/F6 -> 50 | Q6: =VLOOKUP(B6,考勤!B:AI,34,0) -> 20 | R6: =(O6*Q6)+(P6*Q6)+N6 -> 5000 | S6: 399.92 | T6: 25 | U6: 99.98 | V6: 25 | X6: =SUM(S6:W6) -> 549.9 | Y6: =R6-X6 -> 4450.1
A7: 3 | B7: 张旭东 | C7: 置业顾问 | D7: PA | E7: 5500 | F7: 26 | G7: =1900+550 -> 2450 | H7: =E7-G7 -> 3050 | O7: =G7/F7 -> 94.230769 | P7: =H7/F7 -> 117.30769 | Q7: =VLOOKUP(B7,考勤!B:AI,34,0) -> 13 | R7: =(O7*Q7)+(P7*Q7)+N7 -> 2750 | X7: =SUM(S7:W7) -> 0 | Y7: =R7-X7 -> 2750
B8: 合计 | E8: =SUM(E5:E7) -> 15500 | G8: =SUM(G5:G7) -> 8900 | H8: =SUM(H5:H7) -> 6600 | I8: =SUM(I5:I7) -> 0 | J8: =SUM(J5:J7) -> 0 | K8: =SUM(K5:K7) -> -2550 | L8: =SUM(L5:L7) -> 0 | M8: =SUM(M5:M7) -> 0 | N8: =SUM(N5:N7) -> -2550 | ... Y8: =SUM(Y5:Y7) -> 9100.2
A9: 注：王乔华本月执行，其暂未执行绩效考核共计-7707元（含2025年3月绩效-1739元，2025年1-2月绩效-1199元，12月绩效-1935元，11月绩效考核-1122元，10月绩效考核-1712元）
B10: 单位领导： | N10: 审核： | V10: 制表：

Sheet 考勤
A1: =[1]封面!A10 -> 2025年 | V1: 3 | X1: 月职工考勤表
B2: 单位: | C2: 元盛营销部 | AK2: 45750
A3: 序号 | B3: 姓名 | C3: 职务工种 | D3: 出 勤 情 况 | AI3: 实际出勤天数 | AJ3: 公休节日天数 | AK3: 考 勤 天 数 | AZ3: 员工本人 签字
D4: =V1 -> 3 | T4: 月
D5: 1 | E5: 2 | F5: 3 | G5: 4 | H5: 5 | I5: 6 | J5: 7 | K5: 8 | L5: 9 | M5: 10 | N5: 11 | O5: 12 | P5: 13 | Q5: 14 | R5: 15 | S5: 16 | T5: 17 | U5: 18 | V5: 19 | W5: 20 | X5: 21 | Y5: 22 | Z5: 23 | AA5: 24 | AB5: 25 | AC5: 26 | AD5: 27 | AE5: 28 | AF5: 29 | AG5: 30 | AH5: 31 | AK5: 出勤√ | AL5: 出差 | AM5: 公休 | AN5: 病假 | AO5: 事假 | AP5: 旷工 | AQ5: 工伤 | AR5: 培训 | AS5: 冬休 | AT5: 休假 | AU5: 探亲 | AV5: 产假 | AW5: 陪护假 | AX5: 婚丧假 | AY5: 待岗
A6: 1 | B6: 王乔华 | C6: 职员级 | D6: √ | E6: 公休 | F6: √ | G6: √ | H6: √ | I6: √ | J6: √ | K6: √ | L6: 公休 | M6: √ | N6: √ | O6: √ | P6: √ | Q6: √ | R6: √ | S6: 公休 | T6: √ | U6: √ | V6: √ | W6: √ | X6: √ | Y6: √ | Z6: 公休 | AA6: √ | AB6: √ | AC6: √ | AD6: √ | AE6: √ | AF6: √ | AG6: 公休 | AH6: √ | AI6: =AK6+AL6+AT6 -> 26 | AJ6: =AM6 -> 5 | AK6: =COUNTIF($D6:$AH6,"√") -> 26 | AL6: =COUNTIF($D6:$AH6,"出差") -> 0 | AM6: =COUNTIF($D6:$AH6,"公休") -> 5 | AN6: =COUNTIF($D6:$AH6,"病假") -> 0 | AO6: =COUNTIF($D6:$AH6,"事假") -> 0 | AP6: =COUNTIF($D6:$AH6,"旷工") -> 0 | AQ6: =COUNTIF($D6:$AH6,"工伤") -> 0 | AR6: =COUNTIF($D6:$AH6,"培训") -> 0 | AS6: =COUNTIF($D6:$AH6,"冬休") -> 0 | AT6: =COUNTIF($D6:$AH6,"年假") -> 0 | AU6: =COUNTIF($D6:$AH6,"探亲") -> 0 | AV6: =COUNTIF($D6:$AH6,"产假") -> 0 | AW6: =COUNTIF($D6:$AH6,"陪护假") -> 0 | AX6: =COUNTIF($D6:$AH6,"婚丧假") -> 0 | AY6: =COUNTIF($D6:$AH6,"待岗") -> 0
A7: 2 | B7: 张宇 | C7: 职员级 | D7: 公休 | E7: 公休 | F7: √ | G7: √ | H7: √ | I7: √ | J7: √ | K7: 公休 | L7: 公休 | M7: √ | N7: √ | O7: √ | P7: √ | Q7: √ | R7: 公休 | S7: 公休 | T7: √ | U7: √ | V7: √ | W7: √ | X7: √ | Y7: 公休 | Z7: 公休 | AA7: √ | AB7: √ | AC7: √ | AD7: √ | AE7: √ | AF7: 公休 | AG7: 公休 | AH7: 公休 | AI7: =AK7+AL7+AT7 -> 20 | AJ7: =AM7 -> 11 | AK7: =COUNTIF($D7:$AH7,"√") -> 20 | AL7: =COUNTIF($D7:$AH7,"出差") -> 0 | AM7: =COUNTIF($D7:$AH7,"公休") -> 11 | AN7: =COUNTIF($D7:$AH7,"病假") -> 0 | AO7: =COUNTIF($D7:$AH7,"事假") -> 0 | AP7: =COUNTIF($D7:$AH7,"旷工") -> 0 | AQ7: =COUNTIF($D7:$AH7,"工伤") -> 0 | AR7: =COUNTIF($D7:$AH7,"培训") -> 0 | AS7: =COUNTIF($D7:$AH7,"冬休") -> 0 | AT7: =COUNTIF($D7:$AH7,"年假") -> 0 | AU7: =COUNTIF($D7:$AH7,"探亲") -> 0 | AV7: =COUNTIF($D7:$AH7,"产假") -> 0 | AW7: =COUNTIF($D7:$AH7,"陪护假") -> 0 | AX7: =COUNTIF($D7:$AH7,"婚丧假") -> 0 | AY7: =COUNTIF($D7:$AH7,"待岗") -> 0
A8: 3 | B8: 张旭东 | C8: 职员级 | V8: √ | W8: √ | X8: √ | Y8: √ | Z8: √ | AA8: √ | AB8: √ | AC8: √ | AD8: √ | AE8: √ | AF8: √ | AG8: √ | AH8: √ | AI8: =AK8+AL8+AT8 -> 13 | AJ8: =AM8 -> 0 | AK8: =COUNTIF($D8:$AH8,"√") -> 13 | AL8: =COUNTIF($D8:$AH8,"出差") -> 0 | AM8: =COUNTIF($D8:$AH8,"公休") -> 0 | AN8: =COUNTIF($D8:$AH8,"病假") -> 0 | AO8: =COUNTIF($D8:$AH8,"事假") -> 0 | AP8: =COUNTIF($D8:$AH8,"旷工") -> 0 | AQ8: =COUNTIF($D8:$AH8,"工伤") -> 0 | AR8: =COUNTIF($D8:$AH8,"培训") -> 0 | AS8: =COUNTIF($D8:$AH8,"冬休") -> 0 | AT8: =COUNTIF($D8:$AH8,"年假") -> 0 | AU8: =COUNTIF($D8:$AH8,"探亲") -> 0 | AV8: =COUNTIF($D8:$AH8,"产假") -> 0 | AW8: =COUNTIF($D8:$AH8,"陪护假") -> 0 | AX8: =COUNTIF($D8:$AH8,"婚丧假") -> 0 | AY8: =COUNTIF($D8:$AH8,"待岗") -> 0
B9: 注：
E10: 单位领导： | V10: 审核： | AI10: 制表：

Sheet 校验
A2: 序号 | B2: 姓名 | C2: 实际出勤天数 | D2: 月工资标准 | E2: 月度应发 | F2: 差额 | G2: 备注
A3: 1 | B3: 王乔华 | C3: 26 | D3: =(VLOOKUP(B3,工资表!B5:G5,6,0)+VLOOKUP(B3,工资表!B5:H5,7,0))/工资表!F5*VLOOKUP(B3,考勤!B6:AI6,34,0) -> 5000 | E3: =VLOOKUP(B3,工资表!B5:R5,17,0) -> 2450 | F3: =D3-E3 -> 2550
A4: 2 | B4: 张宇 | C4: 20 | D4: =(VLOOKUP(B4,工资表!B6:G6,6,0)+VLOOKUP(B4,工资表!B6:H6,7,0))/工资表!F6*VLOOKUP(B4,考勤!B7:AI7,34,0) -> 5000 | E4: =VLOOKUP(B4,工资表!B6:R6,17,0) -> 5000 | F4: =D4-E4 -> 0
A5: 3 | B5: 张旭东 | C5: 13 | D5: =(VLOOKUP(B5,工资表!B7:G7,6,0)+VLOOKUP(B5,工资表!B7:H7,7,0))/工资表!F7*VLOOKUP(B5,考勤!B8:AI8,34,0) -> 2750 | E5: =VLOOKUP(B5,工资表!B7:R7,17,0) -> 2750 | G5: =5500/26*13 -> 2750

Sheet 职务序列取数
B2: 职务序列 | C2: 月度基本工资比例 | D2: 月度绩效奖金比例 | E2: 年度奖金比例
B3: A1 | C3: 1 | D3: 0 | E3: 0
B4: A2 | C4: 0.375 | D4: 0.375 | E4: 0.25
B5: A3 | C5: 0.375 | D5: 0.375 | E5: 0.25
B6: A4 | C6: 0.375 | D6: 0.375 | E6: 0.25
B7: A5 | C7: 0.375 | D7: 0.375 | E7: 0.25
B8: M1 | C8: 0.51 | D8: 0.34 | E8: 0.15
B9: M2 | C9: 0.51 | D9: 0.34 | E9: 0.15
B10: M3 | C10: 0.51 | D10: 0.34 | E10: 0.15
B11: PM | C11: 0.7 | D11: 0.3 | E11: 0
B12: PB | C12: 0.8 | D12: 0.2 | E12: 0
B13: PA
