Workbook

Sheet 工资汇总表
A2: 基本信息 | H2: 其他项核算 | M2: 应发核算 | Q2: 社保、公积金及个税 | W2: 实发总额 | X2: 备注
A3: 单位名称 | B3: 月末人数 | C3: 月工资标准 | D3: 应出勤天数 | E3: 基本薪资 | F3: 绩效奖金 | G3: 年度奖金 | H3: 加班工资 | I3: 绩效考核 | J3: 假期工资 | K3: 其他 | L3: 小计 | M3: 当月日均工资 | N3: 当月日均奖金 | O3: 实际出勤天数 | P3: 应发总额 | Q3: 养老金 | R3: 失业金 | S3: 医疗金 | T3: 大额医疗保险 | U3: 税金 | V3: 小计
A4: 元盛美华 | B4: =工资表!A22 -> 18 | C4: =工资表!E23 -> 276000 | D4: =工资表!F23 -> 19 | E4: =工资表!G23 -> 186250 | F4: =工资表!H23 -> 61250 | G4: =工资表!I23 -> 28500 | H4: =工资表!J23 -> 0 | I4: =工资表!K23 -> -6015 | J4: =工资表!L23 -> 0 | ... W4: =工资表!Y23 -> 230223.73

Sheet 工资表
A1: 元盛美华2025年2月工资表
A3: 序号 | B3: 基本信息 | J3: 其他项核算 | O3: 应发核算 | S3: 社保、公积金及个税 | Y3: 实发总额 | Z3: 备注
B4: 姓名 | C4: 岗位 | D4: 职务 序列 | E4: 月工资 标准 | F4: 应出 勤天 | G4: 基本 薪资 | H4: 绩效 奖金 | I4: 年度 奖金 | J4: 加班 工资 | K4: 绩效 考核 | L4: 假期 工资 | M4: 其他 | N4: 小计 | O4: 日均 工资 | P4: 日均 奖金 | Q4: 实际 出勤 | R4: 应发总额 | S4: 养老金 | T4: 失业金 | U4: 医疗金 | V4: 大额 医保 | W4: 税金 | X4: 小计
A5: 1 | B5: 张璐燕 | C5: 董事长 | D5: A1 | E5: 25000 | F5: 19 | G5: =E5*VLOOKUP(D5,职务序列取数!B:E,2,0) -> 25000 | H5: =E5*VLOOKUP(D5,职务序列取数!B:E,3,0) -> 0 | I5: =E5*VLOOKUP(D5,职务序列取数!B:E,4,0) -> 0 | N5: =SUM(J5:M5) -> 0 | O5: =G5/F5 -> 1315.7895 | P5: =H5/F5 -> 0 | Q5: =VLOOKUP(B5,考勤!B:AI,34,0) -> 19 | R5: =(O5*Q5)+(P5*Q5)+N5 -> 25000 | W5: 510 | X5: =SUM(S5:W5) -> 510 | Y5: =R5-X5 -> 24490
A6: 2 | B6: 许宗奎 | C6: 法人、董事长 | D6: A1 | E6: 15000 | F6: 19 | G6: =E6*VLOOKUP(D6,职务序列取数!B:E,2,0) -> 15000 | H6: =E6*VLOOKUP(D6,职务序列取数!B:E,3,0) -> 0 | I6: =E6*VLOOKUP(D6,职务序列取数!B:E,4,0) -> 0 | N6: =SUM(J6:M6) -> 0 | O6: =G6/F6 -> 789.47368 | P6: =H6/F6 -> 0 | Q6: =VLOOKUP(B6,考勤!B:AI,34,0) -> 19 | R6: =(O6*Q6)+(P6*Q6)+N6 -> 15000 | W6: 300 | X6: =SUM(S6:W6) -> 300 | Y6: =R6-X6 -> 14700
A7: 3 | B7: 胡前新 | C7: 集团副总经理 | D7: A3 | E7: 58000 | F7: 19 | G7: =E7*VLOOKUP(D7,职务序列取数!B:E,2,0) -> 21750 | H7: =E7*VLOOKUP(D7,职务序列取数!B:E,3,0) -> 21750 | I7: =E7*VLOOKUP(D7,职务序列取数!B:E,4,0) -> 14500 | K7: -1690 | N7: =SUM(J7:M7) -> -1690 | O7: =G7/F7 -> 1144.7368 | P7: =H7/F7 -> 1144.7368 | Q7: =VLOOKUP(B7,考勤!B:AI,34,0) -> 19 | R7: =(O7*Q7)+(P7*Q7)+N7 -> 41810 | S7: 400 | T7: 25 | U7: 100 | V7: 25 | W7: 2322.25 | X7: =SUM(S7:W7) -> 2872.25 | Y7: =R7-X7 -> 38937.75
A8: 4 | B8: 欧振华 | C8: 财务管理中心副总经理 | D8: A5 | E8: 20000 | F8: 19 | G8: =E8*VLOOKUP(D8,职务序列取数!B:E,2,0) -> 7500 | H8: =E8*VLOOKUP(D8,职务序列取数!B:E,3,0) -> 7500 | I8: =E8*VLOOKUP(D8,职务序列取数!B:E,4,0) -> 5000 | M8: -20 | N8: =SUM(J8:M8) -> -20 | O8: =G8/F8 -> 394.73684 | P8: =H8/F8 -> 394.73684 | Q8: =VLOOKUP(B8,考勤!B:AI,34,0) -> 19 | R8: =(O8*Q8)+(P8*Q8)+N8 -> 14980 | S8: 400 | T8: 25 | U8: 100 | V8: 25 | W8: 0 | X8: =SUM(S8:W8) -> 550 | Y8: =R8-X8 -> 14430 | Z8: 缺卡1次
A9: 5 | B9: 杨秀萍 | C9: 业务支持中心副总经理 | D9: M1 | E9: 30000 | F9: 19 | G9: =E9*VLOOKUP(D9,职务序列取数!B:E,2,0) -> 15300 | H9: =E9*VLOOKUP(D9,职务序列取数!B:E,3,0) -> 10200 | I9: =E9*VLOOKUP(D9,职务序列取数!B:E,4,0) -> 4500 | K9: -2798 | M9: -20 | N9: =SUM(J9:M9) -> -2818 | O9: =G9/F9 -> 805.26316 | P9: =H9/F9 -> 536.84211 | Q9: =VLOOKUP(B9,考勤!B:AI,34,0) -> 19 | R9: =(O9*Q9)+(P9*Q9)+N9 -> 22682 | W9: 1057.75 | X9: =SUM(S9:W9) -> 1057.75 | Y9: =R9-X9 -> 21624.25 | Z9: 缺卡1次
A10: 6 | B10: 袁豫 | C10: 营销部副经理 | D10: M2 | E10: 18000 | F10: 19 | G10: =E10*VLOOKUP(D10,职务序列取数!B:E,2,0) -> 9180 | H10: =E10*VLOOKUP(D10,职务序列取数!B:E,3,0) -> 6120 | I10: =E10*VLOOKUP(D10,职务序列取数!B:E,4,0) -> 2700 | K10: -1527 | M10: -60 | N10: =SUM(J10:M10) -> -1587 | O10: =G10/F10 -> 483.15789 | P10: =H10/F10 -> 322.10526 | Q10: =VLOOKUP(B10,考勤!B:AI,34,0) -> 19 | R10: =(O10*Q10)+(P10*Q10)+N10 -> 13713 | S10: 400 | T10: 25 | U10: 100 | V10: 25 | W10: 244.89 | X10: =SUM(S10:W10) -> 794.89 | Y10: =R10-X10 -> 12918.11 | Z10: 缺卡3次
A11: 7 | B11: 卢婷婷 | C11: 营销策划 | D11: M2 | E11: 12000 | F11: 19 | G11: =E11*VLOOKUP(D11,职务序列取数!B:E,2,0) -> 6120 | H11: =E11*VLOOKUP(D11,职务序列取数!B:E,3,0) -> 4080 | I11: =E11*VLOOKUP(D11,职务序列取数!B:E,4,0) -> 1800 | N11: =SUM(J11:M11) -> 0 | O11: =G11/F11 -> 322.10526 | P11: =H11/F11 -> 214.73684 | Q11: =VLOOKUP(B11,考勤!B:AI,34,0) -> 19 | R11: =(O11*Q11)+(P11*Q11)+N11 -> 10200 | S11: 399.92 | T11: 25 | U11: 99.98 | V11: 25 | W11: 246.87 | X11: =SUM(S11:W11) -> 796.77 | Y11: =R11-X11 -> 9403.23
A12: 8 | B12: 尹江 | C12: 水电工程师 | D12: PB | E12: 11000 | F12: 19 | G12: =E12*VLOOKUP(D12,职务序列取数!B:E,2,0) -> 8800 | H12: =E12*VLOOKUP(D12,职务序列取数!B:E,3,0) -> 2200 | I12: =E12*VLOOKUP(D12,职务序列取数!B:E,4,0) -> 0 | N12: =SUM(J12:M12) -> 0 | O12: =G12/F12 -> 463.15789 | P12: =H12/F12 -> 115.78947 | Q12: =VLOOKUP(B12,考勤!B:AI,34,0) -> 19 | R12: =(O12*Q12)+(P12*Q12)+N12 -> 11000 | S12: 400 | T12: 25 | U12: 100 | V12: 25 | W12: 163.5 | X12: =SUM(S12:W12) -> 713.5 | Y12: =R12-X12 -> 10286.5
A13: 9 | B13: 吕蓉 | C13: 会计 | D13: PB | E13: 8500 | F13: 19 | G13: =E13*VLOOKUP(D13,职务序列取数!B:E,2,0) -> 6800 | H13: =E13*VLOOKUP(D13,职务序列取数!B:E,3,0) -> 1700 | I13: =E13*VLOOKUP(D13,职务序列取数!B:E,4,0) -> 0 | N13: =SUM(J13:M13) -> 0 | O13: =G13/F13 -> 357.89474 | P13: =H13/F13 -> 89.473684 | Q13: =VLOOKUP(B13,考勤!B:AI,34,0) -> 19 | R13: =(O13*Q13)+(P13*Q13)+N13 -> 8500 | S13: 400 | T13: 25 | U13: 100 | V13: 25 | W13: 43.5 | X13: =SUM(S13:W13) -> 593.5 | Y13: =R13-X13 -> 7906.5
A14: 10 | B14: 马金帮 | C14: 开发报建工程师 | D14: PB | E14: 8000 | F14: 19 | G14: =E14*VLOOKUP(D14,职务序列取数!B:E,2,0) -> 6400 | H14: =E14*VLOOKUP(D14,职务序列取数!B:E,3,0) -> 1600 | I14: =E14*VLOOKUP(D14,职务序列取数!B:E,4,0) -> 0 | N14: =SUM(J14:M14) -> 0 | O14: =G14/F14 -> 336.84211 | P14: =H14/F14 -> 84.210526 | Q14: =VLOOKUP(B14,考勤!B:AI,34,0) -> 19 | R14: =(O14*Q14)+(P14*Q14)+N14 -> 8000 | S14: 400 | T14: 25 | U14: 100 | V14: 25 | W14: 0 | X14: =SUM(S14:W14) -> 550 | Y14: =R14-X14 -> 7450
A15: 11 | B15: 李倩 | C15: 出纳 | D15: PB | E15: 6500 | F15: 19 | G15: =E15*VLOOKUP(D15,职务序列取数!B:E,2,0) -> 5200 | H15: =E15*VLOOKUP(D15,职务序列取数!B:E,3,0) -> 1300 | I15: =E15*VLOOKUP(D15,职务序列取数!B:E,4,0) -> 0 | M15: 800 | N15: =SUM(J15:M15) -> 800 | O15: =G15/F15 -> 273.68421 | P15: =H15/F15 -> 68.421053 | Q15: =VLOOKUP(B15,考勤!B:AI,34,0) -> 19 | R15: =(O15*Q15)+(P15*Q15)+N15 -> 7300 | S15: 400 | T15: 25 | U15: 100 | V15: 25 | X15: =SUM(S15:W15) -> 550 | Y15: =R15-X15 -> 6750
A16: 12 | B16: 赵星星 | C16: 开发报建工程师 | D16: PB | E16: 6000 | F16: 19 | G16: =E16*VLOOKUP(D16,职务序列取数!B:E,2,0) -> 4800 | H16: =E16*VLOOKUP(D16,职务序列取数!B:E,3,0) -> 1200 | I16: =E16*VLOOKUP(D16,职务序列取数!B:E,4,0) -> 0 | N16: =SUM(J16:M16) -> 0 | O16: =G16/F16 -> 252.63158 | P16: =H16/F16 -> 63.157895 | Q16: =VLOOKUP(B16,考勤!B:AI,34,0) -> 19 | R16: =(O16*Q16)+(P16*Q16)+N16 -> 6000 | W16: 0 | X16: =SUM(S16:W16) -> 0 | Y16: =R16-X16 -> 6000
A17: 13 | B17: 薛双双 | C17: 会计 | D17: PB | E17: 5500 | F17: 19 | G17: =E17*VLOOKUP(D17,职务序列取数!B:E,2,0) -> 4400 | H17: =E17*VLOOKUP(D17,职务序列取数!B:E,3,0) -> 1100 | I17: =E17*VLOOKUP(D17,职务序列取数!B:E,4,0) -> 0 | N17: =SUM(J17:M17) -> 0 | O17: =G17/F17 -> 231.57895 | P17: =H17/F17 -> 57.894737 | Q17: =VLOOKUP(B17,考勤!B:AI,34,0) -> 19 | R17: =(O17*Q17)+(P17*Q17)+N17 -> 5500 | S17: 399.92 | T17: 25 | U17: 99.98 | V17: 25 | W17: 0 | X17: =SUM(S17:W17) -> 549.9 | Y17: =R17-X17 -> 4950.1
A18: 14 | B18: 王兴怡 | C18: 营销设计 | D18: PB | E18: 9000 | F18: 19 | G18: =E18*VLOOKUP(D18,职务序列取数!B:E,2,0) -> 7200 | H18: =E18*VLOOKUP(D18,职务序列取数!B:E,3,0) -> 1800 | I18: =E18*VLOOKUP(D18,职务序列取数!B:E,4,0) -> 0 | M18: -20 | N18: =SUM(J18:M18) -> -20 | O18: =G18/F18 -> 378.94737 | P18: =H18/F18 -> 94.736842 | Q18: =VLOOKUP(B18,考勤!B:AI,34,0) -> 19 | R18: =(O18*Q18)+(P18*Q18)+N18 -> 8980 | S18: 399.92 | T18: 25 | U18: 99.98 | V18: 25 | W18: 102.91 | X18: =SUM(S18:W18) -> 652.81 | Y18: =R18-X18 -> 8327.19 | Z18: 缺卡1次
A19: 15 | B19: 刘海梅 | C19: 保洁员 | D19: PB | E19: 3500 | F19: 19 | G19: =E19*VLOOKUP(D19,职务序列取数!B:E,2,0) -> 2800 | H19: =E19*VLOOKUP(D19,职务序列取数!B:E,3,0) -> 700 | I19: =E19*VLOOKUP(D19,职务序列取数!B:E,4,0) -> 0 | N19: =SUM(J19:M19) -> 0 | O19: =G19/F19 -> 147.36842 | P19: =H19/F19 -> 36.842105 | Q19: =VLOOKUP(B19,考勤!B:AI,34,0) -> 19 | R19: =(O19*Q19)+(P19*Q19)+N19 -> 3500 | S19: 399.92 | T19: 25 | U19: 99.98 | V19: 25 | W19: 0 | X19: =SUM(S19:W19) -> 549.9 | Y19: =R19-X19 -> 2950.1
A20: 16 | B20: 汪传香 | C20: / | E20: 20000 | F20: 19 | G20: 20000 | N20: =SUM(J20:M20) -> 0 | O20: =G20/F20 -> 1052.6316 | P20: =H20/F20 -> 0 | Q20: =VLOOKUP(B20,考勤!B:AI,34,0) -> 19 | R20: =(O20*Q20)+(P20*Q20)+N20 -> 20000 | W20: 450 | X20: =SUM(S20:W20) -> 450 | Y20: =R20-X20 -> 19550
A21: 17 | B21: 张江河 | C21: / | E21: 20000 | F21: 19 | G21: 20000 | N21: =SUM(J21:M21) -> 0 | O21: =G21/F21 -> 1052.6316 | P21: =H21/F21 -> 0 | Q21: =VLOOKUP(B21,考勤!B:AI,34,0) -> 19 | R21: =(O21*Q21)+(P21*Q21)+N21 -> 20000 | W21: 450 | X21: =SUM(S21:W21) -> 450 | Y21: =R21-X21 -> 19550
A22: 18 | B22: 柯花 | C22: / | F22: 19 | M22: 550 | N22: =SUM(J22:M22) -> 550 | O22: =G22/F22 -> 0 | P22: =H22/F22 -> 0 | Q22: =VLOOKUP(B22,考勤!B:AI,34,0) -> 0 | R22: =(O22*Q22)+(P22*Q22)+N22 -> 550 | S22: 400 | T22: 25 | U22: 100 | V22: 25 | X22: =SUM(S22:W22) -> 550 | Y22: =R22-X22 -> 0
B23: 合计 | E23: =SUM(E5:E22) -> 276000 | F23: 19 | G23: =SUM(G5:G22) -> 186250 | H23: =SUM(H5:H22) -> 61250 | I23: =SUM(I5:I22) -> 28500 | J23: =SUM(J5:J22) -> 0 | K23: =SUM(K5:K22) -> -6015 | L23: =SUM(L5:L22) -> 0 | M23: =SUM(M5:M22) -> 1230 | N23: =SUM(N5:N22) -> -4785 | R23: =SUM(R5:R22) -> 242715 | S23: =SUM(S5:S22) -> 4799.68 | T23: =SUM(T5:T22) -> 300 | U23: =SUM(U5:U22) -> 1199.92 | V23: =SUM(V5:V22) -> 300 | W23: =SUM(W5:W22) -> 5891.67 | X23: =SUM(X5:X22) -> 12491.27 | Y23: =SUM(Y5:Y22) -> 230223.73
A24: 注：高管级留存25%全额工资，经理级留存15%全额工资，年底发放
B25: 单位领导： | N25: 审核： | V25: 制表：

Sheet 考勤
A1: =[1]封面!A10 -> 2025年 | V1: =[1]工资表!M1 -> 2 | X1: 月职工考勤表
B2: 单位: | C2: =[1]工资表!C2 -> 集团公司机关 | AK2: =[1]工资表!AB2 -> 2025年2月4日
A3: 序号 | B3: 姓名 | C3: 职务工种 | D3: 出 勤 情 况 | AI3: 实际出勤天数 | AJ3: 公休节日天数 | AK3: 考 勤 天 数 | AZ3: 员工本人 签字
D4: =V1 -> 2 | T4: 月
D5: 1 | E5: 2 | F5: 3 | G5: 4 | H5: 5 | I5: 6 | J5: 7 | K5: 8 | L5: 9 | M5: 10 | N5: 11 | O5: 12 | P5: 13 | Q5: 14 | R5: 15 | S5: 16 | T5: 17 | U5: 18 | V5: 19 | W5: 20 | X5: 21 | Y5: 22 | Z5: 23 | AA5: 24 | AB5: 25 | AC5: 26 | AD5: 27 | AE5: 28 | AF5: 29 | AG5: 30 | AH5: 31 | AK5: 出勤√ | AL5: 出差 | AM5: 公休 | AN5: 病假 | AO5: 事假 | AP5: 旷工 | AQ5: 工伤 | AR5: 培训 | AS5: 冬休 | AT5: 休假 | AU5: 探亲 | AV5: 产假 | AW5: 陪护假 | AX5: 婚丧假 | AY5: 待岗
A6: 1 | B6: 张璐燕 | C6: 董事长 | D6: 公休 | E6: 公休 | F6: 公休 | G6: 公休 | H6: √ | I6: √ | J6: √ | K6: √ | L6: 公休 | M6: √ | N6: √ | O6: √ | P6: √ | Q6: √ | R6: 公休 | S6: 公休 | T6: √ | U6: √ | V6: √ | W6: √ | X6: √ | Y6: 公休 | Z6: 公休 | AA6: √ | AB6: √ | AC6: √ | AD6: √ | AE6: √ | AI6: 19 | AJ6: 9 | AK6: 19 | AL6: 0 | AM6: 9 | AN6: 0 | AO6: 0 | AP6: 0 | AQ6: 0 | AR6: 0 | AS6: 0 | AT6: 0 | AU6: 0 | AV6: 0 | AW6: 0 | AX6: 0 | AY6: 0
A7: 2 | B7: 许宗奎 | C7: 法人、董事长 | D7: 公休 | E7: 公休 | F7: 公休 | G7: 公休 | H7: √ | I7: √ | J7: √ | K7: √ | L7: 公休 | M7: √ | N7: √ | O7: √ | P7: √ | Q7: √ | R7: 公休 | S7: 公休 | T7: √ | U7: √ | V7: √ | W7: √ | X7: √ | Y7: 公休 | Z7: 公休 | AA7: √ | AB7: √ | AC7: √ | AD7: √ | AE7: √ | AI7: 19 | AJ7: 9 | AK7: 19 | AL7: 0 | AM7: 9 | AN7: 0 | AO7: 0 | AP7: 0 | AQ7: 0 | AR7: 0 | AS7: 0 | AT7: 0 | AU7: 0 | AV7: 0 | AW7: 0 | AX7: 0 | AY7: 0
A8: 3 | B8: 胡前新 | C8: 集团副总经理 | D8: 公休 | E8: 公休 | F8: 公休 | G8: 公休 | H8: √ | I8: √ | J8: √ | K8: √ | L8: 公休 | M8: √ | N8: √ | O8: √ | P8: √ | Q8: √ | R8: 公休 | S8: 公休 | T8: √ | U8: √ | V8: √ | W8: √ | X8: √ | Y8: 公休 | Z8: 公休 | AA8: √ | AB8: √ | AC8: √ | AD8: √ | AE8: √ | AI8: 19 | AJ8: 9 | AK8: 19 | AL8: 0 | AM8: 9 | AN8: 0 | AO8: 0 | AP8: 0 | AQ8: 0 | AR8: 0 | AS8: 0 | AT8: 0 | AU8: 0 | AV8: 0 | AW8: 0 | AX8: 0 | AY8: 0
A9: 4 | B9: 欧振华 | C9: 财务管理中心副总经理 | D9: 公休 | E9: 公休 | F9: 公休 | G9: 公休 | H9: √ | I9: √ | J9: √ | K9: √ | L9: 公休 | M9: √ | N9: √ | O9: √ | P9: √ | Q9: √ | R9: 公休 | S9: 公休 | T9: √ | U9: √ | V9: √ | W9: √ | X9: √ | Y9: 公休 | Z9: 公休 | AA9: √ | AB9: √ | AC9: √ | AD9: √ | AE9: √ | AI9: 19 | AJ9: 9 | AK9: 19 | AL9: 0 | AM9: 9 | AN9: 0 | AO9: 0 | AP9: 0 | AQ9: 0 | AR9: 0 | AS9: 0 | AT9: 0 | AU9: 0 | AV9: 0 | AW9: 0 | AX9: 0 | AY9: 0
A10: 5 | B10: 杨秀萍 | C10: 业务支持中心副总经理 | D10: 公休 | E10: 公休 | F10: 公休 | G10: 公休 | H10: √ | I10: √ | J10: √ | K10: √ | L10: 公休 | M10: √ | N10: √ | O10: √ | P10: √ | Q10: √ | R10: 公休 | S10: 公休 | T10: √ | U10: √ | V10: √ | W10: √ | X10: √ | Y10: 公休 | Z10: 公休 | AA10: √ | AB10: √ | AC10: √ | AD10: √ | AE10: √ | AI10: 19 | AJ10: 9 | AK10: 19 | AL10: 0 | AM10: 9 | AN10: 0 | AO10: 0 | AP10: 0 | AQ10: 0 | AR10: 0 | AS10: 0 | AT10: 0 | AU10: 0 | AV10: 0 | AW10: 0 | AX10: 0 | AY10: 0
A11: 6 | B11: 袁豫 | C11: 营销部副经理 | D11: 公休 | E11: 公休 | F11: 公休 | G11: 公休 | H11: √ | I11: √ | J11: √ | K11: √ | L11: 公休 | M11: √ | N11: √ | O11: √ | P11: √ | Q11: √ | R11: 公休 | S11: 公休 | T11: √ | U11: √ | V11: √ | W11: √ | X11: √ | Y11: 公休 | Z11: 公休 | AA11: √ | AB11: √ | AC11: √ | AD11: √ | AE11: √ | AI11: 19 | AJ11: 9 | AK11: 19 | AL11: 0 | AM11: 9 | AN11: 0 | AO11: 0 | AP11: 0 | AQ11: 0 | AR11: 0 | AS11: 0 | AT11: 0 | AU11: 0 | AV11: 0 | AW11: 0 | AX11: 0 | AY11: 0
A12: 7 | B12: 卢婷婷 | C12: 营销策划 | D12: 公休 | E12: 公休 | F12: 公休 | G12: 公休 | H12: √ | I12: √ | J12: √ | K12: √ | L12: 公休 | M12: √ | N12: √ | O12: √ | P12: √ | Q12: √ | R12: 公休 | S12: 公休 | T12: √ | U12: √ | V12: √ | W12: √ | X12: √ | Y12: 公休 | Z12: 公休 | AA12: √ | AB12: √ | AC12: √ | AD12: √ | AE12: √ | AI12: 19 | AJ12: 9 | AK12: 19 | AL12: 0 | AM12: 9 | AN12: 0 | AO12: 0 | AP12: 0 | AQ12: 0 | AR12: 0 | AS12: 0 | AT12: 0 | AU12: 0 | AV12: 0 | AW12: 0 | AX12: 0 | AY12: 0
A13: 8 | B13: 尹江 | C13: 水电工程师 | D13: 公休 | E13: 公休 | F13: 公休 | G13: 公休 | H13: √ | I13: √ | J13: √ | K13: √ | L13: 公休 | M13: √ | N13: √ | O13: √ | P13: √ | Q13: √ | R13: 公休 | S13: 公休 | T13: √ | U13: √ | V13: √ | W13: √ | X13: √ | Y13: 公休 | Z13: 公休 | AA13: √ | AB13: √ | AC13: √ | AD13: √ | AE13: √ | AI13: 19 | AJ13: 9 | AK13: 19 | AL13: 0 | AM13: 9 | AN13: 0 | AO13: 0 | AP13: 0 | AQ13: 0 | AR13: 0 | AS13: 0 | AT13: 0 | AU13: 0 | AV13: 0 | AW13: 0 | AX13: 0 | AY13: 0
A14: 9 | B14: 吕蓉 | C14: 会计 | D14: 公休 | E14: 公休 | F14: 公休 | G14: 公休 | H14: √ | I14: √ | J14: √ | K14: √ | L14: 公休 | M14: √ | N14: √ | O14: √ | P14: √ | Q14: √ | R14: 公休 | S14: 公休 | T14: √ | U14: √ | V14: √ | W14: √ | X14: √ | Y14: 公休 | Z14: 公休 | AA14: √ | AB14: √ | AC14: √ | AD14: √ | AE14: √ | AI14: 19 | AJ14: 9 | AK14: 19 | AL14: 0 | AM14: 9 | AN14: 0 | AO14: 0 | AP14: 0 | AQ14: 0 | AR14: 0 | AS14: 0 | AT14: 0 | AU14: 0 | AV14: 0 | AW14: 0 | AX14: 0 | AY14: 0
A15: 10 | B15: 马金帮 | C15: 开发报建工程师 | D15: 公休 | E15: 公休 | F15: 公休 | G15: 公休 | H15: √ | I15: √ | J15: √ | K15: √ | L15: 公休 | M15: √ | N15: √ | O15: √ | P15: √ | Q15: √ | R15: 公休 | S15: 公休 | T15: √ | U15: √ | V15: √ | W15: √ | X15: √ | Y15: 公休 | Z15: 公休 | AA15: √ | AB15: √ | AC15: √ | AD15: √ | AE15: √ | AI15: 19 | AJ15: 9 | AK15: 19 | AL15: 0 | AM15: 9 | AN15: 0 | AO15: 0 | AP15: 0 | AQ15: 0 | AR15: 0 | AS15: 0 | AT15: 0 | AU15: 0 | AV15: 0 | AW15: 0 | AX15: 0 | AY15: 0
A16: 11 | B16: 李倩 | C16: 出纳 | D16: 公休 | E16: 公休 | F16: 公休 | G16: 公休 | H16: √ | I16: √ | J16: √ | K16: √ | L16: 公休 | M16: √ | N16: √ | O16: √ | P16: √ | Q16: √ | R16: 公休 | S16: 公休 | T16: √ | U16: √ | V16: √ | W16: √ | X16: √ | Y16: 公休 | Z16: 公休 | AA16: √ | AB16: √ | AC16: √ | AD16: √ | AE16: √ | AI16: 19 | AJ16: 9 | AK16: 19 | AL16: 0 | AM16: 9 | AN16: 0 | AO16: 0 | AP16: 0 | AQ16: 0 | AR16: 0 | AS16: 0 | AT16: 0 | AU16: 0 | AV16: 0 | AW16: 0 | AX16: 0 | AY16: 0
A17: 12 | B17: 赵星星 | C17: 开发报建工程师 | D17: 公休 | E17: 公休 | F17: 公休 | G17: 公休 | H17: √ | I17: √ | J17: √ | K17: √ | L17: 公休 | M17: √ | N17: √ | O17: √ | P17: √ | Q17: √ | R17: 公休 | S17: 公休 | T17: √ | U17: √ | V17: √ | W17: √ | X17: √ | Y17: 公休 | Z17: 公休 | AA17: √ | AB17: √ | AC17: √ | AD17: √ | AE17: √ | AI17: 19 | AJ17: 9 | AK17: 19 | AL17: 0 | AM17: 9 | AN17: 0 | AO17: 0 | AP17: 0 | AQ17: 0 | AR17: 0 | AS17: 0 | AT17: 0 | AU17: 0 | AV17: 0 | AW17: 0 | AX17: 0 | AY17: 0
... A22: 17 | B22: 张江河 | C22: / | D22: 公休 | E22: 公休 | F22: 公休 | G22: 公休 | H22: √ | I22: √ | J22: √ | K22: √ | L22: 公休 | M22: √ | N22: √ | O22: √ | P22: √ | Q22: √ | R22: 公休 | S22: 公休 | T22: √ | U22: √ | V22: √ | W22: √ | X22: √ | Y22: 公休 | Z22: 公休 | AA22: √ | AB22: √ | AC22: √ | AD22: √ | AE22: √ | AI22: 19 | AJ22: 9 | AK22: 19 | AL22: 0 | AM22: 9 | AN22: 0 | AO22: 0 | AP22: 0 | AQ22: 0 | AR22: 0 | AS22: 0 | AT22: 0 | AU22: 0 | AV22: 0 | AW22: 0 | AX22: 0 | AY22: 0
A23: 18 | B23: 柯花 | C23: / | AI23: 0 | AJ23: 0 | AK23: 0 | AL23: 0 | AM23: 0 | AN23: 0 | AO23: 0 | AP23: 0 | AQ23: 0 | AR23: 0 | AS23: 0 | AT23: 0 | AU23: 0 | AV23: 0 | AW23: 0 | AX23: 0 | AY23: 0
B24: 注：
E25: 单位领导： | V25: 审核： | AI25: 制表：

Sheet 校验
A2: 序号 | B2: 姓名 | C2: 实际出勤天数 | D2: 月工资标准 | E2: 月度应发 | F2: 差额 | G2: 备注
A3: 1 | B3: 张璐燕 | C3: 19 | D3: =(VLOOKUP(B3,工资表!B5:G5,6,0)+VLOOKUP(B3,工资表!B5:H5,7,0))/工资表!F5*VLOOKUP(B3,考勤!B6:AI6,34,0) -> 25000 | E3: =VLOOKUP(B3,工资表!B5:R5,17,0) -> 25000 | F3: =D3-E3 -> 0
A4: 2 | B4: 许宗奎 | C4: 19 | D4: =(VLOOKUP(B4,工资表!B6:G6,6,0)+VLOOKUP(B4,工资表!B6:H6,7,0))/工资表!F6*VLOOKUP(B4,考勤!B7:AI7,34,0) -> 15000 | E4: =VLOOKUP(B4,工资表!B6:R6,17,0) -> 15000 | F4: =D4-E4 -> 0
A5: 3 | B5: 胡前新 | C5: 19 | D5: =(VLOOKUP(B5,工资表!B7:G7,6,0)+VLOOKUP(B5,工资表!B7:H7,7,0))/工资表!F7*VLOOKUP(B5,考勤!B8:AI8,34,0) -> 43500 | E5: =VLOOKUP(B5,工资表!B7:R7,17,0) -> 41810 | F5: =D5-E5 -> 1690 | G5: 绩效
A6: 3 | B6: 欧振华 | C6: 19 | D6: =(VLOOKUP(B6,工资表!B8:G8,6,0)+VLOOKUP(B6,工资表!B8:H8,7,0))/工资表!F8*VLOOKUP(B6,考勤!B9:AI9,34,0) -> 15000 | E6: =VLOOKUP(B6,工资表!B8:R8,17,0) -> 14980 | F6: =D6-E6 -> 20 | G6: 缺卡
A7: 3 | B7: 杨秀萍 | C7: 19 | D7: =(VLOOKUP(B7,工资表!B9:G9,6,0)+VLOOKUP(B7,工资表!B9:H9,7,0))/工资表!F9*VLOOKUP(B7,考勤!B10:AI10,34,0) -> 25500 | E7: =VLOOKUP(B7,工资表!B9:R9,17,0) -> 22682 | F7: =D7-E7 -> 2818 | G7: 绩效
A8: 3 | B8: 袁豫 | C8: 19 | D8: =(VLOOKUP(B8,工资表!B10:G10,6,0)+VLOOKUP(B8,工资表!B10:H10,7,0))/工资表!F10*VLOOKUP(B8,考勤!B11:AI11,34,0) -> 15300 | E8: =VLOOKUP(B8,工资表!B10:R10,17,0) -> 13713 | F8: =D8-E8 -> 1587 | G8: 绩效
A9: 3 | B9: 卢婷婷 | C9: 19 | D9: =(VLOOKUP(B9,工资表!B11:G11,6,0)+VLOOKUP(B9,工资表!B11:H11,7,0))/工资表!F11*VLOOKUP(B9,考勤!B12:AI12,34,0) -> 10200 | E9: =VLOOKUP(B9,工资表!B11:R11,17,0) -> 10200 | F9: =D9-E9 -> 0
A10: 3 | B10: 尹江 | C10: 19 | D10: =(VLOOKUP(B10,工资表!B12:G12,6,0)+VLOOKUP(B10,工资表!B12:H12,7,0))/工资表!F12*VLOOKUP(B10,考勤!B13:AI13,34,0) -> 11000 | E10: =VLOOKUP(B10,工资表!B12:R12,17,0) -> 11000 | F10: =D10-E10 -> 0
A11: 3 | B11: 吕蓉 | C11: 19 | D11: =(VLOOKUP(B11,工资表!B13:G13,6,0)+VLOOKUP(B11,工资表!B13:H13,7,0))/工资表!F13*VLOOKUP(B11,考勤!B14:AI14,34,0) -> 8500 | E11: =VLOOKUP(B11,工资表!B13:R13,17,0) -> 8500 | F11: =D11-E11 -> 0
A12: 3 | B12: 马金帮 | C12: 19 | D12: =(VLOOKUP(B12,工资表!B14:G14,6,0)+VLOOKUP(B12,工资表!B14:H14,7,0))/工资表!F14*VLOOKUP(B12,考勤!B15:AI15,34,0) -> 8000 | E12: =VLOOKUP(B12,工资表!B14:R14,17,0) -> 8000 | F12: =D12-E12 -> 0
A13: 3 | B13: 李倩 | C13: 19 | D13: =(VLOOKUP(B13,工资表!B15:G15,6,0)+VLOOKUP(B13,工资表!B15:H15,7,0))/工资表!F15*VLOOKUP(B13,考勤!B16:AI16,34,0) -> 6500 | E13: =VLOOKUP(B13,工资表!B15:R15,17,0) -> 7300 | F13: =D13-E13 -> -800 | G13: 法人补贴
A14: 3 | B14: 赵星星 | C14: 19 | D14: =(VLOOKUP(B14,工资表!B16:G16,6,0)+VLOOKUP(B14,工资表!B16:H16,7,0))/工资表!F16*VLOOKUP(B14,考勤!B17:AI17,34,0) -> 6000 | E14: =VLOOKUP(B14,工资表!B16:R16,17,0) -> 6000 | F14: =D14-E14 -> 8.1854523e-12
A15: 3 | B15: 薛双双 | C15: 19 | D15: =(VLOOKUP(B15,工资表!B17:G17,6,0)+VLOOKUP(B15,工资表!B17:H17,7,0))/工资表!F17*VLOOKUP(B15,考勤!B18:AI18,34,0) -> 5500 | E15: =VLOOKUP(B15,工资表!B17:R17,17,0) -> 5500 | F15: =D15-E15 -> 0
A16: 3 | B16: 王兴怡 | C16: 19 | D16: =(VLOOKUP(B16,工资表!B18:G18,6,0)+VLOOKUP(B16,工资表!B18:H18,7,0))/工资表!F18*VLOOKUP(B16,考勤!B19:AI19,34,0) -> 9000 | E16: =VLOOKUP(B16,工资表!B18:R18,17,0) -> 8980 | F16: =D16-E16 -> 20 | G16: 缺卡
A17: 3 | B17: 刘海梅 | C17: 19 | D17: =(VLOOKUP(B17,工资表!B19:G19,6,0)+VLOOKUP(B17,工资表!B19:H19,7,0))/工资表!F19*VLOOKUP(B17,考勤!B20:AI20,34,0) -> 3500 | E17: =VLOOKUP(B17,工资表!B19:R19,17,0) -> 3500 | F17: =D17-E17 -> -7.730705e-12
A18: 3 | B18: 汪传香 | C18: 19 | D18: 20000 | E18: =VLOOKUP(B18,工资表!B20:R20,17,0) -> 20000 | F18: =D18-E18 -> -2.910383e-11
A19: 3 | B19: 张江河 | C19: 19 | D19: 20000 | E19: =VLOOKUP(B19,工资表!B21:R21,17,0) -> 20000 | F19: =D19-E19 -> -2.910383e-11
A20: 3 | B20: 柯花 | C20: 19 | D20: 0 | E20: =VLOOKUP(B20,工资表!B22:R22,17,0) -> 550 | F20: =D20-E20 -> -550 | G20: 挂证社保

Sheet 职务序列取数
B2: 职务序列 | C2: 月度基本工资比例 | D2: 月度绩效奖金比例 | E2: 年度奖金比例
B3: A1 | C3: 1 | D3: 0 | E3: 0
B4: A2 | C4: 0.375 | D4: 0.375 | E4: 0.25
B5: A3 | C5: 0.375 | D5: 0.375 | E5: 0.25
B6: A4 | C6: 0.375 | D6: 0.375 | E6: 0.25
B7: A5 | C7: 0.375 | D7: 0.375 | E7: 0.25
B8: M1 | C8: 0.51 | D8: 0.34 | E8: 0.15
B9: M2 | C9: 0.51 | D9: 0.34 | E9: 0.15
B10: M3 | C10: 0.51 | D10: 0.34 | E10: 0.15
B11: PM | C11: 0.7 | D11: 0.3 | E11: 0
B12: PB | C12: 0.8 | D12: 0.2 | E12: 0
B13: PA
