Workbook

Sheet 工资汇总表
A2: 基本信息 | H2: 其他项核算 | M2: 应发核算 | Q2: 社保、公积金及个税 | X2: 实发总额 | Y2: 备注
A3: 单位名称 | B3: 月末人数 | C3: 月工资标准 | D3: 应出勤天数 | E3: 基本薪资 | F3: 绩效奖金 | G3: 年度奖金 | H3: 加班工资 | I3: 绩效考核 | J3: 假期工资 | K3: 其他 | L3: 小计 | M3: 当月日均工资 | N3: 当月日均奖金 | O3: 实际出勤天数 | P3: 应发总额 | Q3: 养老金 | R3: 失业金 | S3: 医疗金 | T3: 大额医疗保险 | U3: 税金 | V3: 其他 | W3: 小计
A4: 库尔勒创智源房地产经纪有限公司 | B4: 18 | C4: 71000 | E4: 49450 | F4: 21550 | G4: 0 | H4: 541.66667 | I4: 163 | J4: 0 | K4: 4355 | L4: 5059.6667 | P4: 72393 | Q4: 6798.64 | R4: 425 | S4: 1699.66 | T4: 354.11 | U4: 0 | V4: 0 | W4: 9277.41 | X4: 63115.59

Sheet 工资表
A1: 库尔勒创智源房地产经纪有限公司2025年2月工资表
A2: 序号 | B2: 基本信息 | J2: 其他项核算 | O2: 应发核算 | S2: 社保、公积金及个税 | Z2: 实发总额 | AA2: 备注
B3: 姓名 | C3: 岗位 | D3: 职务序列 | E3: 月工资标准 | F3: 应出勤天数 | G3: 基本薪资 | H3: 绩效奖金 | I3: 年度奖金 | J3: 加班工资 | K3: 绩效考核 | L3: 假期工资 | M3: 其他 | N3: 小计 | O3: 当月日均工资 | P3: 当月日均奖金 | Q3: 实际出勤天数 | R3: 应发总额 | S3: 养老金 | T3: 失业金 | U3: 医疗金 | V3: 大额医疗保险 | W3: 税金 | X3: 其他 | Y3: 小计
A4: 1 | B4: 王玉慧 | C4: 案场销售经理 | D4: PM | E4: 6000 | F4: 24 | G4: =E4*VLOOKUP(D4,职务序列取数!B:E,2,0) -> 4200 | H4: =E4*VLOOKUP(D4,职务序列取数!B:E,3,0) -> 1800 | I4: =E4*VLOOKUP(D4,职务序列取数!B:E,4,0) -> 0 | K4: 163 | N4: =SUM(J4:M4) -> 163 | O4: =G4/F4 -> 175 | P4: =H4/F4 -> 75 | Q4: =VLOOKUP(B4,考勤!B:AI,34,0) -> 24 | R4: =(O4*Q4)+(P4*Q4)+N4 -> 6163 | S4: 399.92 | T4: 25 | U4: 99.98 | V4: 20.83 | W4: 500.6 | Y4: =SUM(S4:X4) -> 1046.33 | Z4: =R4-Y4 -> 5116.67
A5: 2 | B5: 师艳莉 | C5: 招商主管 | D5: PM | E5: 7000 | F5: 19 | G5: =E5*VLOOKUP(D5,职务序列取数!B:E,2,0) -> 4900 | H5: =E5*VLOOKUP(D5,职务序列取数!B:E,3,0) -> 2100 | I5: =E5*VLOOKUP(D5,职务序列取数!B:E,4,0) -> 0 | N5: =SUM(J5:M5) -> 0 | O5: =G5/F5 -> 257.89474 | P5: =H5/F5 -> 110.52632 | Q5: =VLOOKUP(B5,考勤!B:AI,34,0) -> 19 | R5: =(O5*Q5)+(P5*Q5)+N5 -> 7000 | S5: 399.92 | T5: 25 | U5: 99.98 | V5: 20.83 | W5: 13.63 | Y5: =SUM(S5:X5) -> 559.36 | Z5: =R5-Y5 -> 6440.64
A6: 3 | B6: 谢华军 | C6: 招商专员 | D6: PB | E6: 4500 | F6: 19 | G6: =E6*VLOOKUP(D6,职务序列取数!B:E,2,0) -> 3600 | H6: =E6*VLOOKUP(D6,职务序列取数!B:E,3,0) -> 900 | I6: =E6*VLOOKUP(D6,职务序列取数!B:E,4,0) -> 0 | M6: 4355 | N6: =SUM(J6:M6) -> 4355 | O6: =G6/F6 -> 189.47368 | P6: =H6/F6 -> 47.368421 | Q6: =VLOOKUP(B6,考勤!B:AI,34,0) -> 19 | R6: =(O6*Q6)+(P6*Q6)+N6 -> 8855 | S6: 799.84 | T6: 50 | U6: 199.96 | V6: 41.66 | Y6: =SUM(S6:X6) -> 1091.46 | Z6: =R6-Y6 -> 7763.54 | AA6: 4355为1月工资
A7: 4 | B7: 张志慧 | C7: 置业顾问 | D7: PA | E7: 5000 | F7: 24 | G7: 2450 | H7: =E7-G7 -> 2550 | I7: =E7*VLOOKUP(D7,职务序列取数!B:E,4,0) -> 0 | N7: =SUM(J7:M7) -> 0 | O7: =G7/F7 -> 102.08333 | P7: =H7/F7 -> 106.25 | Q7: =VLOOKUP(B7,考勤!B:AI,34,0) -> 24 | R7: =(O7*Q7)+(P7*Q7)+N7 -> 5000 | Y7: =SUM(S7:X7) -> 0 | Z7: =R7-Y7 -> 5000
A8: 5 | B8: 张玉琴 | C8: 置业顾问 | D8: PA | E8: 3000 | F8: 24 | G8: 2450 | H8: =E8-G8 -> 550 | I8: =E8*VLOOKUP(D8,职务序列取数!B:E,4,0) -> 0 | N8: =SUM(J8:M8) -> 0 | O8: =G8/F8 -> 102.08333 | P8: =H8/F8 -> 22.916667 | Q8: =VLOOKUP(B8,考勤!B:AI,34,0) -> 24 | R8: =(O8*Q8)+(P8*Q8)+N8 -> 3000 | S8: 399.92 | T8: 25 | U8: 99.98 | V8: 20.83 | W8: 328.43 | Y8: =SUM(S8:X8) -> 874.16 | Z8: =R8-Y8 -> 2125.84
A9: 6 | B9: 王荣 | C9: 置业顾问 | D9: PA | E9: 3000 | F9: 24 | G9: 2450 | H9: =E9-G9 -> 550 | I9: =E9*VLOOKUP(D9,职务序列取数!B:E,4,0) -> 0 | N9: =SUM(J9:M9) -> 0 | O9: =G9/F9 -> 102.08333 | P9: =H9/F9 -> 22.916667 | Q9: =VLOOKUP(B9,考勤!B:AI,34,0) -> 24 | R9: =(O9*Q9)+(P9*Q9)+N9 -> 3000 | S9: 399.92 | T9: 25 | U9: 99.98 | V9: 20.83 | W9: 500.23 | Y9: =SUM(S9:X9) -> 1045.96 | Z9: =R9-Y9 -> 1954.04
A10: 7 | B10: 肖陶丽 | C10: 置业顾问 | D10: PA | E10: 3000 | F10: 24 | G10: 2450 | H10: =E10-G10 -> 550 | I10: =E10*VLOOKUP(D10,职务序列取数!B:E,4,0) -> 0 | N10: =SUM(J10:M10) -> 0 | O10: =G10/F10 -> 102.08333 | P10: =H10/F10 -> 22.916667 | Q10: =VLOOKUP(B10,考勤!B:AI,34,0) -> 18 | R10: =(O10*Q10)+(P10*Q10)+N10 -> 2250 | S10: 399.92 | T10: 25 | U10: 99.98 | V10: 20.83 | Y10: =SUM(S10:X10) -> 545.73 | Z10: =R10-Y10 -> 1704.27
A11: 8 | B11: 李秀莲 | C11: 置业顾问 | D11: PA | E11: 3000 | F11: 24 | G11: 2450 | H11: =E11-G11 -> 550 | I11: =E11*VLOOKUP(D11,职务序列取数!B:E,4,0) -> 0 | N11: =SUM(J11:M11) -> 0 | O11: =G11/F11 -> 102.08333 | P11: =H11/F11 -> 22.916667 | Q11: =VLOOKUP(B11,考勤!B:AI,34,0) -> 20 | R11: =(O11*Q11)+(P11*Q11)+N11 -> 2500 | S11: 399.92 | T11: 25 | U11: 99.98 | V11: 20.83 | Y11: =SUM(S11:X11) -> 545.73 | Z11: =R11-Y11 -> 1954.27
A12: 9 | B12: 霍苒 | C12: 置业顾问 | D12: PA | E12: 5000 | F12: 24 | G12: 2450 | H12: =E12-G12 -> 2550 | I12: 0 | M12: 2000 | N12: =SUM(J12:M12) -> 2000 | O12: =G12/F12 -> 102.08333 | P12: =H12/F12 -> 106.25 | Q12: =VLOOKUP(B12,考勤!B:AI,34,0) -> 24 | R12: =(O12*Q12)+(P12*Q12)+N12 -> 7000 | S12: 399.92 | T12: 25 | U12: 99.98 | V12: 20.83 | W12: 102.4 | Y12: =SUM(S12:X12) -> 648.13 | Z12: =R12-Y12 -> 6351.87
A13: 10 | B13: 连阵阵 | C13: 置业顾问 | D13: PA | E13: 3000 | F13: 24 | G13: 2450 | H13: =E13-G13 -> 550 | I13: =E13*VLOOKUP(D13,职务序列取数!B:E,4,0) -> 0 | N13: =SUM(J13:M13) -> 0 | O13: =G13/F13 -> 102.08333 | P13: =H13/F13 -> 22.916667 | Q13: =VLOOKUP(B13,考勤!B:AI,34,0) -> 24 | R13: =(O13*Q13)+(P13*Q13)+N13 -> 3000 | S13: 399.92 | T13: 25 | U13: 99.98 | V13: 20.83 | Y13: =SUM(S13:X13) -> 545.73 | Z13: =R13-Y13 -> 2454.27
A14: 11 | B14: 闫金秀 | C14: 置业顾问 | D14: PA | E14: 4000 | F14: 24 | G14: 2450 | H14: =E14-G14 -> 1550 | I14: =E14*VLOOKUP(D14,职务序列取数!B:E,4,0) -> 0 | N14: =SUM(J14:M14) -> 0 | O14: =G14/F14 -> 102.08333 | P14: =H14/F14 -> 64.583333 | Q14: 24 | R14: =(O14*Q14)+(P14*Q14)+N14 -> 4000 | S14: 399.92 | T14: 25 | U14: 99.98 | V14: 20.83 | W14: 513.1 | Y14: =SUM(S14:X14) -> 1058.83 | Z14: =R14-Y14 -> 2941.17
A15: 12 | B15: 潘亦玹 | C15: 置业顾问 | D15: PA | E15: 3000 | F15: 24 | G15: 2450 | H15: =E15-G15 -> 550 | I15: =E15*VLOOKUP(D15,职务序列取数!B:E,4,0) -> 0 | N15: =SUM(J15:M15) -> 0 | O15: =G15/F15 -> 102.08333 | P15: =H15/F15 -> 22.916667 | Q15: =VLOOKUP(B15,考勤!B:AI,34,0) -> 24 | R15: =(O15*Q15)+(P15*Q15)+N15 -> 3000 | S15: 399.92 | T15: 25 | U15: 99.98 | V15: 20.83 | Y15: =SUM(S15:X15) -> 545.73 | Z15: =R15-Y15 -> 2454.27
A16: 13 | B16: 赵江龙 | C16: 置业顾问 | D16: PA | E16: 3000 | F16: 24 | G16: 2450 | H16: =E16-G16 -> 550 | I16: =E16*VLOOKUP(D16,职务序列取数!B:E,4,0) -> 0 | M16: -2000 | N16: =SUM(J16:M16) -> -2000 | O16: =G16/F16 -> 102.08333 | P16: =H16/F16 -> 22.916667 | Q16: =VLOOKUP(B16,考勤!B:AI,34,0) -> 24 | R16: =(O16*Q16)+(P16*Q16)+N16 -> 1000 | S16: 399.92 | T16: 25 | U16: 99.98 | V16: 20.83 | Y16: =SUM(S16:X16) -> 545.73 | Z16: =R16-Y16 -> 454.27
A17: 14 | B17: 张新艳 | C17: 置业顾问 | D17: PA | E17: 4500 | F17: 24 | G17: 2450 | H17: =E17-G17 -> 2050 | I17: =E17*VLOOKUP(D17,职务序列取数!B:E,4,0) -> 0 | N17: =SUM(J17:M17) -> 0 | O17: =G17/F17 -> 102.08333 | P17: =H17/F17 -> 85.416667 | Q17: =VLOOKUP(B17,考勤!B:AI,34,0) -> 24 | R17: =(O17*Q17)+(P17*Q17)+N17 -> 4500 | S17: 399.92 | T17: 25 | U17: 99.98 | V17: 20.83 | W17: 7.03 | Y17: =SUM(S17:X17) -> 552.76 | Z17: =R17-Y17 -> 3947.24
A18: 15 | B18: 刘宁宁 | C18: 置业顾问 | D18: PA | E18: 3000 | F18: 24 | G18: 2450 | H18: =E18-G18 -> 550 | I18: =E18*VLOOKUP(D18,职务序列取数!B:E,4,0) -> 0 | N18: =SUM(J18:M18) -> 0 | O18: =G18/F18 -> 102.08333 | P18: =H18/F18 -> 22.916667 | Q18: =VLOOKUP(B18,考勤!B:AI,34,0) -> 15 | R18: =(O18*Q18)+(P18*Q18)+N18 -> 1875 | W18: 85.83 | Y18: =SUM(S18:X18) -> 85.83 | Z18: =R18-Y18 -> 1789.17
A19: 16 | B19: 米云鹤 | C19: 置业顾问 | D19: PA | E19: 3000 | F19: 24 | G19: 2450 | H19: =E19-G19 -> 550 | I19: =E19*VLOOKUP(D19,职务序列取数!B:E,4,0) -> 0 | N19: =SUM(J19:M19) -> 0 | O19: =G19/F19 -> 102.08333 | P19: =H19/F19 -> 22.916667 | Q19: 24 | R19: =(O19*Q19)+(P19*Q19)+N19 -> 3000 | S19: 399.92 | T19: 25 | U19: 99.98 | V19: 20.83 | Y19: =SUM(S19:X19) -> 545.73 | Z19: =R19-Y19 -> 2454.27
A20: 17 | B20: 刘思汉 | C20: 置业顾问 | D20: PA | E20: 4000 | F20: 24 | G20: 2450 | H20: =E20-G20 -> 1550 | I20: =E20*VLOOKUP(D20,职务序列取数!B:E,4,0) -> 0 | N20: =SUM(J20:M20) -> 0 | O20: =G20/F20 -> 102.08333 | P20: =H20/F20 -> 64.583333 | Q20: =VLOOKUP(B20,考勤!B:AI,34,0) -> 24 | R20: =(O20*Q20)+(P20*Q20)+N20 -> 4000 | S20: 399.92 | T20: 25 | U20: 99.98 | V20: 20.83 | W20: 22.8 | Y20: =SUM(S20:X20) -> 568.53 | Z20: =R20-Y20 -> 3431.47 | AA20: 直播专员
A21: 18 | B21: 李福晴 | C21: 置业顾问 | D21: PA | E21: 4000 | F21: 24 | G21: 2450 | H21: =E21-G21 -> 1550 | I21: =E21*VLOOKUP(D21,职务序列取数!B:E,4,0) -> 0 | N21: =SUM(J21:M21) -> 0 | O21: =G21/F21 -> 102.08333 | P21: =H21/F21 -> 64.583333 | Q21: =VLOOKUP(B21,考勤!B:AI,34,0) -> 14 | R21: =(O21*Q21)+(P21*Q21)+N21 -> 2333.3333 | S21: 399.92 | T21: 25 | U21: 99.98 | V21: 20.83 | W21: 147.05 | Y21: =SUM(S21:X21) -> 692.78 | Z21: =R21-Y21 -> 1640.5533 | AA21: 直播专员
B22: 合计 | E22: =SUM(E4:E21) -> 71000 | G22: =SUM(G4:G21) -> 49450 | H22: =SUM(H4:H21) -> 21550 | I22: =SUM(I4:I21) -> 0 | J22: =SUM(J4:J21) -> 0 | K22: =SUM(K4:K21) -> 163 | L22: =SUM(L4:L21) -> 0 | M22: =SUM(M4:M21) -> 4355 | N22: =SUM(N4:N21) -> 4518 | R22: =SUM(R4:R21) -> 71476.333 | S22: =SUM(S4:S21) -> 6798.64 | T22: =SUM(T4:T21) -> 425 | U22: =SUM(U4:U21) -> 1699.66 | V22: =SUM(V4:V21) -> 354.11 | W22: =SUM(W4:W21) -> 2221.1 | X22: =SUM(X4:X21) -> 0 | Y22: =SUM(Y4:Y21) -> 11498.51 | Z22: =SUM(Z4:Z21) -> 59977.823
A23: 注 | B23: 谢华军其他项为1.2-1.31日工资，霍苒、赵江龙为1月小组排名调整
B25: 单位领导： | N25: 审核： | V25: 制表：

Sheet 考勤
A1: =[1]封面!A10 -> 2025年 | V1: =[1]工资表!M1 -> 2 | X1: 月职工考勤表
B2: 单位: | C2: =[1]工资表!C2 -> 集团公司机关 | AK2: 45720
A3: 序号 | B3: 姓名 | C3: 职务工种 | D3: 出 勤 情 况 | AI3: 实际出勤天数 | AJ3: 公休节日天数 | AK3: 考 勤 天 数 | AZ3: 员工本人 签字
D4: =V1 -> 2 | T4: 月
D5: 1 | E5: 2 | F5: 3 | G5: 4 | H5: 5 | I5: 6 | J5: 7 | K5: 8 | L5: 9 | M5: 10 | N5: 11 | O5: 12 | P5: 13 | Q5: 14 | R5: 15 | S5: 16 | T5: 17 | U5: 18 | V5: 19 | W5: 20 | X5: 21 | Y5: 22 | Z5: 23 | AA5: 24 | AB5: 25 | AC5: 26 | AD5: 27 | AE5: 28 | AF5: 29 | AG5: 30 | AH5: 31 | AK5: 出勤√ | AL5: 出差 | AM5: 公休 | AN5: 病假 | AO5: 事假 | AP5: 旷工 | AQ5: 工伤 | AR5: 培训 | AS5: 冬休 | AT5: 休假 | AU5: 探亲 | AV5: 产假 | AW5: 陪护假 | AX5: 婚丧假 | AY5: 待岗
A6: 1 | B6: =[2]工资表!B5 -> 王玉慧 | C6: =[2]工资表!C5 -> 案场销售经理 | D6: 公休 | E6: 公休 | F6: 公休 | G6: 公休 | H6: √ | I6: √ | J6: √ | K6: √ | L6: √ | M6: √ | N6: √ | O6: √ | P6: √ | Q6: √ | R6: √ | S6: √ | T6: √ | U6: √ | V6: √ | W6: √ | X6: √ | Y6: √ | Z6: √ | AA6: √ | AB6: √ | AC6: √ | AD6: √ | AE6: √ | AI6: =AK6+AL6+AR6 -> 24 | AJ6: =AM6 -> 4 | AK6: =COUNTIF($D6:$AH6,"√") -> 24 | AL6: =COUNTIF($D6:$AH6,"出差") -> 0 | AM6: =COUNTIF($D6:$AH6,"公休") -> 4 | AN6: =COUNTIF($D6:$AH6,"病假") -> 0 | AO6: =COUNTIF($D6:$AH6,"事假") -> 0 | AP6: =COUNTIF($D6:$AH6,"旷工") -> 0 | AQ6: =COUNTIF($D6:$AH6,"工伤") -> 0 | AR6: =COUNTIF($D6:$AH6,"培训") -> 0 | AS6: =COUNTIF($D6:$AH6,"冬休") -> 0 | AT6: =COUNTIF($D6:$AH6,"休假") -> 0 | AU6: =COUNTIF($D6:$AH6,"探亲") -> 0 | AV6: =COUNTIF($D6:$AH6,"产假") -> 0 | AW6: =COUNTIF($D6:$AH6,"陪护假") -> 0 | AX6: =COUNTIF($D6:$AH6,"婚丧假") -> 0 | AY6: =COUNTIF($D6:$AH6,"待岗") -> 0
A7: 2 | B7: =[2]工资表!B6 -> 师艳莉 | C7: =[2]工资表!C6 -> 案场销售经理 | D7: 公休 | E7: 公休 | F7: 公休 | G7: 公休 | H7: √ | I7: √ | J7: √ | K7: √ | L7: 公休 | M7: √ | N7: √ | O7: √ | P7: √ | Q7: √ | R7: 公休 | S7: 公休 | T7: √ | U7: √ | V7: √ | W7: √ | X7: √ | Y7: 公休 | Z7: 公休 | AA7: √ | AB7: √ | AC7: √ | AD7: √ | AE7: √ | AI7: =AK7+AL7+AR7 -> 19 | AJ7: =AM7 -> 9 | AK7: =COUNTIF($D7:$AH7,"√") -> 19 | AL7: =COUNTIF($D7:$AH7,"出差") -> 0 | AM7: =COUNTIF($D7:$AH7,"公休") -> 9 | AN7: =COUNTIF($D7:$AH7,"病假") -> 0 | AO7: =COUNTIF($D7:$AH7,"事假") -> 0 | AP7: =COUNTIF($D7:$AH7,"旷工") -> 0 | AQ7: =COUNTIF($D7:$AH7,"工伤") -> 0 | AR7: =COUNTIF($D7:$AH7,"培训") -> 0 | AS7: =COUNTIF($D7:$AH7,"冬休") -> 0 | AT7: =COUNTIF($D7:$AH7,"休假") -> 0 | AU7: =COUNTIF($D7:$AH7,"探亲") -> 0 | AV7: =COUNTIF($D7:$AH7,"产假") -> 0 | AW7: =COUNTIF($D7:$AH7,"陪护假") -> 0 | AX7: =COUNTIF($D7:$AH7,"婚丧假") -> 0 | AY7: =COUNTIF($D7:$AH7,"待岗") -> 0
A8: 3 | B8: =[2]工资表!B7 -> 谢华军 | C8: =[2]工资表!C7 -> 招商专员 | D8: 公休 | E8: 公休 | F8: 公休 | G8: 公休 | H8: √ | I8: √ | J8: √ | K8: √ | L8: 公休 | M8: √ | N8: √ | O8: √ | P8: √ | Q8: √ | R8: 公休 | S8: 公休 | T8: √ | U8: √ | V8: √ | W8: √ | X8: √ | Y8: 公休 | Z8: 公休 | AA8: √ | AB8: √ | AC8: √ | AD8: √ | AE8: √ | AI8: =AK8+AL8+AR8 -> 19 | AJ8: =AM8 -> 9 | AK8: =COUNTIF($D8:$AH8,"√") -> 19 | AL8: =COUNTIF($D8:$AH8,"出差") -> 0 | AM8: =COUNTIF($D8:$AH8,"公休") -> 9 | AN8: =COUNTIF($D8:$AH8,"病假") -> 0 | AO8: =COUNTIF($D8:$AH8,"事假") -> 0 | AP8: =COUNTIF($D8:$AH8,"旷工") -> 0 | AQ8: =COUNTIF($D8:$AH8,"工伤") -> 0 | AR8: =COUNTIF($D8:$AH8,"培训") -> 0 | AS8: =COUNTIF($D8:$AH8,"冬休") -> 0 | AT8: =COUNTIF($D8:$AH8,"休假") -> 0 | AU8: =COUNTIF($D8:$AH8,"探亲") -> 0 | AV8: =COUNTIF($D8:$AH8,"产假") -> 0 | AW8: =COUNTIF($D8:$AH8,"陪护假") -> 0 | AX8: =COUNTIF($D8:$AH8,"婚丧假") -> 0 | AY8: =COUNTIF($D8:$AH8,"待岗") -> 0
A9: 4 | B9: =[2]工资表!B8 -> 张志慧 | C9: =[2]工资表!C8 -> 置业顾问 | D9: 公休 | E9: 公休 | F9: 公休 | G9: 公休 | H9: √ | I9: √ | J9: √ | K9: √ | L9: √ | M9: √ | N9: √ | O9: √ | P9: √ | Q9: √ | R9: √ | S9: √ | T9: √ | U9: √ | V9: √ | W9: √ | X9: √ | Y9: √ | Z9: √ | AA9: √ | AB9: √ | AC9: √ | AD9: √ | AE9: √ | AI9: =AK9+AL9+AR9 -> 24 | AJ9: =AM9 -> 4 | AK9: =COUNTIF($D9:$AH9,"√") -> 24 | AL9: =COUNTIF($D9:$AH9,"出差") -> 0 | AM9: =COUNTIF($D9:$AH9,"公休") -> 4 | AN9: =COUNTIF($D9:$AH9,"病假") -> 0 | AO9: =COUNTIF($D9:$AH9,"事假") -> 0 | AP9: =COUNTIF($D9:$AH9,"旷工") -> 0 | AQ9: =COUNTIF($D9:$AH9,"工伤") -> 0 | AR9: =COUNTIF($D9:$AH9,"培训") -> 0 | AS9: =COUNTIF($D9:$AH9,"冬休") -> 0 | AT9: =COUNTIF($D9:$AH9,"休假") -> 0 | AU9: =COUNTIF($D9:$AH9,"探亲") -> 0 | AV9: =COUNTIF($D9:$AH9,"产假") -> 0 | AW9: =COUNTIF($D9:$AH9,"陪护假") -> 0 | AX9: =COUNTIF($D9:$AH9,"婚丧假") -> 0 | AY9: =COUNTIF($D9:$AH9,"待岗") -> 0
A10: 5 | B10: =[2]工资表!B9 -> 张玉琴 | C10: =[2]工资表!C9 -> 置业顾问 | D10: 公休 | E10: √ | F10: √ | G10: √ | H10: √ | I10: √ | J10: √ | K10: √ | L10: 公休 | M10: √ | N10: √ | O10: √ | P10: √ | Q10: √ | R10: √ | S10: √ | T10: √ | U10: 公休 | V10: √ | W10: √ | X10: √ | Y10: √ | Z10: √ | AA10: 公休 | AB10: √ | AC10: √ | AD10: √ | AE10: √ | AI10: =AK10+AL10+AR10 -> 24 | AJ10: =AM10 -> 4 | AK10: =COUNTIF($D10:$AH10,"√") -> 24 | AL10: =COUNTIF($D10:$AH10,"出差") -> 0 | AM10: =COUNTIF($D10:$AH10,"公休") -> 4 | AN10: =COUNTIF($D10:$AH10,"病假") -> 0 | AO10: =COUNTIF($D10:$AH10,"事假") -> 0 | AP10: =COUNTIF($D10:$AH10,"旷工") -> 0 | AQ10: =COUNTIF($D10:$AH10,"工伤") -> 0 | AR10: =COUNTIF($D10:$AH10,"培训") -> 0 | AS10: =COUNTIF($D10:$AH10,"冬休") -> 0 | AT10: =COUNTIF($D10:$AH10,"休假") -> 0 | AU10: =COUNTIF($D10:$AH10,"探亲") -> 0 | AV10: =COUNTIF($D10:$AH10,"产假") -> 0 | AW10: =COUNTIF($D10:$AH10,"陪护假") -> 0 | AX10: =COUNTIF($D10:$AH10,"婚丧假") -> 0 | AY10: =COUNTIF($D10:$AH10,"待岗") -> 0
A11: 6 | B11: =[2]工资表!B10 -> 王荣 | C11: =[2]工资表!C10 -> 置业顾问 | D11: √ | E11: √ | F11: √ | G11: √ | H11: √ | I11: √ | J11: √ | K11: √ | L11: √ | M11: √ | N11: √ | O11: √ | P11: √ | Q11: √ | R11: √ | S11: √ | T11: 公休 | U11: 公休 | V11: 公休 | W11: 公休 | X11: √ | Y11: √ | Z11: √ | AA11: √ | AB11: √ | AC11: √ | AD11: √ | AE11: √ | AI11: =AK11+AL11+AR11 -> 24 | AJ11: =AM11 -> 4 | AK11: =COUNTIF($D11:$AH11,"√") -> 24 | AL11: =COUNTIF($D11:$AH11,"出差") -> 0 | AM11: =COUNTIF($D11:$AH11,"公休") -> 4 | AN11: =COUNTIF($D11:$AH11,"病假") -> 0 | AO11: =COUNTIF($D11:$AH11,"事假") -> 0 | AP11: =COUNTIF($D11:$AH11,"旷工") -> 0 | AQ11: =COUNTIF($D11:$AH11,"工伤") -> 0 | AR11: =COUNTIF($D11:$AH11,"培训") -> 0 | AS11: =COUNTIF($D11:$AH11,"冬休") -> 0 | AT11: =COUNTIF($D11:$AH11,"休假") -> 0 | AU11: =COUNTIF($D11:$AH11,"探亲") -> 0 | AV11: =COUNTIF($D11:$AH11,"产假") -> 0 | AW11: =COUNTIF($D11:$AH11,"陪护假") -> 0 | AX11: =COUNTIF($D11:$AH11,"婚丧假") -> 0 | AY11: =COUNTIF($D11:$AH11,"待岗") -> 0
A12: 7 | B12: =[2]工资表!B11 -> 肖陶丽 | C12: =[2]工资表!C11 -> 置业顾问 | D12: 公休 | E12: 公休 | F12: 公休 | G12: 公休 | H12: 事假 | I12: 事假 | J12: 事假 | K12: 事假 | L12: 事假 | M12: 事假 | N12: √ | O12: √ | P12: √ | Q12: √ | R12: √ | S12: √ | T12: √ | U12: √ | V12: √ | W12: √ | X12: √ | Y12: √ | Z12: √ | AA12: √ | AB12: √ | AC12: √ | AD12: √ | AE12: √ | AI12: =AK12+AL12+AR12 -> 18 | AJ12: =AM12 -> 4 | AK12: =COUNTIF($D12:$AH12,"√") -> 18 | AL12: =COUNTIF($D12:$AH12,"出差") -> 0 | AM12: =COUNTIF($D12:$AH12,"公休") -> 4 | AN12: =COUNTIF($D12:$AH12,"病假") -> 0 | AO12: =COUNTIF($D12:$AH12,"事假") -> 6 | AP12: =COUNTIF($D12:$AH12,"旷工") -> 0 | AQ12: =COUNTIF($D12:$AH12,"工伤") -> 0 | AR12: =COUNTIF($D12:$AH12,"培训") -> 0 | AS12: =COUNTIF($D12:$AH12,"冬休") -> 0 | AT12: =COUNTIF($D12:$AH12,"休假") -> 0 | AU12: =COUNTIF($D12:$AH12,"探亲") -> 0 | AV12: =COUNTIF($D12:$AH12,"产假") -> 0 | AW12: =COUNTIF($D12:$AH12,"陪护假") -> 0 | AX12: =COUNTIF($D12:$AH12,"婚丧假") -> 0 | AY12: =COUNTIF($D12:$AH12,"待岗") -> 0
A13: 8 | B13: =[2]工资表!B12 -> 李秀莲 | C13: =[2]工资表!C12 -> 置业顾问 | D13: 公休 | E13: 公休 | F13: 公休 | G13: 公休 | H13: 事假 | I13: 事假 | J13: 事假 | K13: 事假 | L13: √ | M13: √ | N13: √ | O13: √ | P13: √ | Q13: √ | R13: √ | S13: √ | T13: √ | U13: √ | V13: √ | W13: √ | X13: √ | Y13: √ | Z13: √ | AA13: √ | AB13: √ | AC13: √ | AD13: √ | AE13: √ | AI13: =AK13+AL13+AR13 -> 20 | AJ13: =AM13 -> 4 | AK13: =COUNTIF($D13:$AH13,"√") -> 20 | AL13: =COUNTIF($D13:$AH13,"出差") -> 0 | AM13: =COUNTIF($D13:$AH13,"公休") -> 4 | AN13: =COUNTIF($D13:$AH13,"病假") -> 0 | AO13: =COUNTIF($D13:$AH13,"事假") -> 4 | AP13: =COUNTIF($D13:$AH13,"旷工") -> 0 | AQ13: =COUNTIF($D13:$AH13,"工伤") -> 0 | AR13: =COUNTIF($D13:$AH13,"培训") -> 0 | AS13: =COUNTIF($D13:$AH13,"冬休") -> 0 | AT13: =COUNTIF($D13:$AH13,"休假") -> 0 | AU13: =COUNTIF($D13:$AH13,"探亲") -> 0 | AV13: =COUNTIF($D13:$AH13,"产假") -> 0 | AW13: =COUNTIF($D13:$AH13,"陪护假") -> 0 | AX13: =COUNTIF($D13:$AH13,"婚丧假") -> 0 | AY13: =COUNTIF($D13:$AH13,"待岗") -> 0
A14: 9 | B14: =[2]工资表!B13 -> 霍苒 | C14: =[2]工资表!C13 -> 置业顾问 | D14: 公休 | E14: 公休 | F14: 公休 | G14: 公休 | H14: √ | I14: √ | J14: √ | K14: √ | L14: √ | M14: √ | N14: √ | O14: √ | P14: √ | Q14: √ | R14: √ | S14: √ | T14: √ | U14: √ | V14: √ | W14: √ | X14: √ | Y14: √ | Z14: √ | AA14: √ | AB14: √ | AC14: √ | AD14: √ | AE14: √ | AI14: =AK14+AL14+AR14 -> 24 | AJ14: =AM14 -> 4 | AK14: =COUNTIF($D14:$AH14,"√") -> 24 | AL14: =COUNTIF($D14:$AH14,"出差") -> 0 | AM14: =COUNTIF($D14:$AH14,"公休") -> 4 | AN14: =COUNTIF($D14:$AH14,"病假") -> 0 | AO14: =COUNTIF($D14:$AH14,"事假") -> 0 | AP14: =COUNTIF($D14:$AH14,"旷工") -> 0 | AQ14: =COUNTIF($D14:$AH14,"工伤") -> 0 | AR14: =COUNTIF($D14:$AH14,"培训") -> 0 | AS14: =COUNTIF($D14:$AH14,"冬休") -> 0 | AT14: =COUNTIF($D14:$AH14,"休假") -> 0 | AU14: =COUNTIF($D14:$AH14,"探亲") -> 0 | AV14: =COUNTIF($D14:$AH14,"产假") -> 0 | AW14: =COUNTIF($D14:$AH14,"陪护假") -> 0 | AX14: =COUNTIF($D14:$AH14,"婚丧假") -> 0 | AY14: =COUNTIF($D14:$AH14,"待岗") -> 0
A15: 10 | B15: =[2]工资表!B14 -> 连阵阵 | C15: =[2]工资表!C14 -> 置业顾问 | D15: 公休 | E15: 公休 | F15: 公休 | G15: 公休 | H15: √ | I15: √ | J15: √ | K15: √ | L15: √ | M15: √ | N15: √ | O15: √ | P15: √ | Q15: √ | R15: √ | S15: √ | T15: √ | U15: √ | V15: √ | W15: √ | X15: √ | Y15: √ | Z15: √ | AA15: √ | AB15: √ | AC15: √ | AD15: √ | AE15: √ | AI15: =AK15+AL15+AR15 -> 24 | AJ15: =AM15 -> 4 | AK15: =COUNTIF($D15:$AH15,"√") -> 24 | AL15: =COUNTIF($D15:$AH15,"出差") -> 0 | AM15: =COUNTIF($D15:$AH15,"公休") -> 4 | AN15: =COUNTIF($D15:$AH15,"病假") -> 0 | AO15: =COUNTIF($D15:$AH15,"事假") -> 0 | AP15: =COUNTIF($D15:$AH15,"旷工") -> 0 | AQ15: =COUNTIF($D15:$AH15,"工伤") -> 0 | AR15: =COUNTIF($D15:$AH15,"培训") -> 0 | AS15: =COUNTIF($D15:$AH15,"冬休") -> 0 | AT15: =COUNTIF($D15:$AH15,"休假") -> 0 | AU15: =COUNTIF($D15:$AH15,"探亲") -> 0 | AV15: =COUNTIF($D15:$AH15,"产假") -> 0 | AW15: =COUNTIF($D15:$AH15,"陪护假") -> 0 | AX15: =COUNTIF($D15:$AH15,"婚丧假") -> 0 | AY15: =COUNTIF($D15:$AH15,"待岗") -> 0
A16: 11 | B16: =[2]工资表!B15 -> 闫金秀 | C16: =[2]工资表!C15 -> 置业顾问 | D16: 公休 | E16: √ | F16: √ | G16: √ | H16: √ | I16: √ | J16: √ | K16: √ | L16: √ | M16: √ | N16: √ | O16: √ | P16: √ | Q16: √ | R16: √ | S16: √ | T16: √ | U16: 公休 | V16: √ | W16: √ | X16: 公休 | Y16: √ | Z16: √ | AA16: √ | AB16: 公休 | AC16: √ | AD16: √ | AE16: √ | AI16: =AK16+AL16+AR16 -> 24 | AJ16: =AM16 -> 4 | AK16: =COUNTIF($D16:$AH16,"√") -> 24 | AL16: =COUNTIF($D16:$AH16,"出差") -> 0 | AM16: =COUNTIF($D16:$AH16,"公休") -> 4 | AN16: =COUNTIF($D16:$AH16,"病假") -> 0 | AO16: =COUNTIF($D16:$AH16,"事假") -> 0 | AP16: =COUNTIF($D16:$AH16,"旷工") -> 0 | AQ16: =COUNTIF($D16:$AH16,"工伤") -> 0 | AR16: =COUNTIF($D16:$AH16,"培训") -> 0 | AS16: =COUNTIF($D16:$AH16,"冬休") -> 0 | AT16: =COUNTIF($D16:$AH16,"休假") -> 0 | AU16: =COUNTIF($D16:$AH16,"探亲") -> 0 | AV16: =COUNTIF($D16:$AH16,"产假") -> 0 | AW16: =COUNTIF($D16:$AH16,"陪护假") -> 0 | AX16: =COUNTIF($D16:$AH16,"婚丧假") -> 0 | AY16: =COUNTIF($D16:$AH16,"待岗") -> 0
A17: 12 | B17: =[2]工资表!B16 -> 潘亦玹 | C17: =[2]工资表!C16 -> 置业顾问 | D17: 公休 | E17: √ | F17: √ | G17: √ | H17: √ | I17: √ | J17: √ | K17: √ | L17: √ | M17: 公休 | N17: √ | O17: √ | P17: √ | Q17: √ | R17: 公休 | S17: √ | T17: √ | U17: √ | V17: √ | W17: √ | X17: √ | Y17: √ | Z17: √ | AA17: √ | AB17: √ | AC17: 公休 | AD17: √ | AE17: √ | AI17: =AK17+AL17+AR17 -> 24 | AJ17: =AM17 -> 4 | AK17: =COUNTIF($D17:$AH17,"√") -> 24 | AL17: =COUNTIF($D17:$AH17,"出差") -> 0 | AM17: =COUNTIF($D17:$AH17,"公休") -> 4 | AN17: =COUNTIF($D17:$AH17,"病假") -> 0 | AO17: =COUNTIF($D17:$AH17,"事假") -> 0 | AP17: =COUNTIF($D17:$AH17,"旷工") -> 0 | AQ17: =COUNTIF($D17:$AH17,"工伤") -> 0 | AR17: =COUNTIF($D17:$AH17,"培训") -> 0 | AS17: =COUNTIF($D17:$AH17,"冬休") -> 0 | AT17: =COUNTIF($D17:$AH17,"休假") -> 0 | AU17: =COUNTIF($D17:$AH17,"探亲") -> 0 | AV17: =COUNTIF($D17:$AH17,"产假") -> 0 | AW17: =COUNTIF($D17:$AH17,"陪护假") -> 0 | AX17: =COUNTIF($D17:$AH17,"婚丧假") -> 0 | AY17: =COUNTIF($D17:$AH17,"待岗") -> 0
... A23: 18 | B23: =[2]工资表!B22 -> 李福晴 | C23: =[2]工资表!C22 -> 置业顾问 | D23: 公休 | E23: 公休 | F23: 公休 | G23: 公休 | H23: 事假 | I23: 事假 | J23: 事假 | K23: 事假 | L23: 事假 | M23: 事假 | N23: 事假 | O23: 事假 | P23: 事假 | Q23: 事假 | R23: √ | S23: √ | T23: √ | U23: √ | V23: √ | W23: √ | X23: √ | Y23: √ | Z23: √ | AA23: √ | AB23: √ | AC23: √ | AD23: √ | AE23: √ | AI23: =AK23+AL23+AR23 -> 14 | AJ23: =AM23 -> 4 | AK23: =COUNTIF($D23:$AH23,"√") -> 14 | AL23: =COUNTIF($D23:$AH23,"出差") -> 0 | AM23: =COUNTIF($D23:$AH23,"公休") -> 4 | AN23: =COUNTIF($D23:$AH23,"病假") -> 0 | AO23: =COUNTIF($D23:$AH23,"事假") -> 10 | AP23: =COUNTIF($D23:$AH23,"旷工") -> 0 | AQ23: =COUNTIF($D23:$AH23,"工伤") -> 0 | AR23: =COUNTIF($D23:$AH23,"培训") -> 0 | AS23: =COUNTIF($D23:$AH23,"冬休") -> 0 | AT23: =COUNTIF($D23:$AH23,"休假") -> 0 | AU23: =COUNTIF($D23:$AH23,"探亲") -> 0 | AV23: =COUNTIF($D23:$AH23,"产假") -> 0 | AW23: =COUNTIF($D23:$AH23,"陪护假") -> 0 | AX23: =COUNTIF($D23:$AH23,"婚丧假") -> 0 | AY23: =COUNTIF($D23:$AH23,"待岗") -> 0
B24: 注： | C24: 本月肖陶丽事假6天；李秀莲事假4天；刘宁宁事假9天；李福晴事假10天
E25: 单位领导： | V25: 审核： | AI25: 制表：

Sheet 校验
A2: 序号 | B2: 姓名 | C2: 实际出勤天数 | D2: 月工资标准 | E2: 月度应发 | F2: 差额
A3: 1 | B3: 王玉慧 | C3: 19 | D3: =(VLOOKUP(B3,工资表!B4:G21,6,0)+VLOOKUP(B3,工资表!B4:H21,7,0))/工资表!F4*VLOOKUP(B3,考勤!B6:AI23,34,0) -> 6000 | E3: =VLOOKUP(B3,工资表!B4:R21,17,0) -> 6163 | F3: =D3-E3 -> -163 | G3: 163绩效
A4: 2 | B4: 师艳莉 | C4: 19 | D4: =(VLOOKUP(B4,工资表!B5:G22,6,0)+VLOOKUP(B4,工资表!B5:H22,7,0))/工资表!F5*VLOOKUP(B4,考勤!B7:AI24,34,0) -> 7000 | E4: =VLOOKUP(B4,工资表!B5:R22,17,0) -> 7000 | F4: =D4-E4 -> 0
A5: 3 | B5: 谢华军 | C5: 19 | D5: =(VLOOKUP(B5,工资表!B6:G23,6,0)+VLOOKUP(B5,工资表!B6:H23,7,0))/工资表!F6*VLOOKUP(B5,考勤!B8:AI25,34,0) -> 4500 | E5: =VLOOKUP(B5,工资表!B6:R23,17,0) -> 8855 | F5: =D5-E5 -> -4355 | G5: 4355为1月工资补发
A6: 4 | B6: 张志慧 | C6: 19 | D6: =(VLOOKUP(B6,工资表!B7:G24,6,0)+VLOOKUP(B6,工资表!B7:H24,7,0))/工资表!F7*VLOOKUP(B6,考勤!B9:AI26,34,0) -> 5000 | E6: =VLOOKUP(B6,工资表!B7:R24,17,0) -> 5000 | F6: =E6-D6 -> 0
A7: 5 | B7: 张玉琴 | C7: 19 | D7: =(VLOOKUP(B7,工资表!B8:G25,6,0)+VLOOKUP(B7,工资表!B8:H25,7,0))/工资表!F8*VLOOKUP(B7,考勤!B10:AI27,34,0) -> 3000 | E7: =VLOOKUP(B7,工资表!B8:R25,17,0) -> 3000 | F7: =D7-E7 -> 0
A8: 6 | B8: 王荣 | C8: 18 | D8: =(VLOOKUP(B8,工资表!B9:G26,6,0)+VLOOKUP(B8,工资表!B9:H26,7,0))/工资表!F9*VLOOKUP(B8,考勤!B11:AI28,34,0) -> 3000 | E8: =VLOOKUP(B8,工资表!B9:R26,17,0) -> 3000 | F8: =D8-E8 -> 0
A9: 7 | B9: 肖陶丽 | C9: 19 | D9: =(VLOOKUP(B9,工资表!B10:G27,6,0)+VLOOKUP(B9,工资表!B10:H27,7,0))/工资表!F10*VLOOKUP(B9,考勤!B12:AI29,34,0) -> 2250 | E9: =VLOOKUP(B9,工资表!B10:R27,17,0) -> 2250 | F9: =D9-E9 -> 0
A10: 8 | B10: 李秀莲 | C10: 19 | D10: =(VLOOKUP(B10,工资表!B11:G28,6,0)+VLOOKUP(B10,工资表!B11:H28,7,0))/工资表!F11*VLOOKUP(B10,考勤!B13:AI30,34,0) -> 2500 | E10: =VLOOKUP(B10,工资表!B11:R28,17,0) -> 2500 | F10: =D10-E10 -> 0
A11: 9 | B11: 霍苒 | C11: 18 | D11: =(VLOOKUP(B11,工资表!B12:G29,6,0)+VLOOKUP(B11,工资表!B12:H29,7,0))/工资表!F12*VLOOKUP(B11,考勤!B14:AI31,34,0) -> 5000 | E11: =VLOOKUP(B11,工资表!B12:R29,17,0) -> 7000 | F11: =D11-E11 -> -2000 | G11: 奖励
A12: 10 | B12: 连阵阵 | C12: 19 | D12: =(VLOOKUP(B12,工资表!B13:G30,6,0)+VLOOKUP(B12,工资表!B13:H30,7,0))/工资表!F13*VLOOKUP(B12,考勤!B15:AI32,34,0) -> 3000 | E12: =VLOOKUP(B12,工资表!B13:R30,17,0) -> 3000 | F12: =D12-E12 -> 0
A13: 11 | B13: 闫金秀 | C13: 19 | D13: =(VLOOKUP(B13,工资表!B14:G31,6,0)+VLOOKUP(B13,工资表!B14:H31,7,0))/工资表!F14*VLOOKUP(B13,考勤!B16:AI33,34,0) -> 4000 | E13: =VLOOKUP(B13,工资表!B14:R31,17,0) -> 4000 | F13: =D13-E13 -> 0
A14: 12 | B14: 潘亦玹 | C14: 16 | D14: =(VLOOKUP(B14,工资表!B15:G32,6,0)+VLOOKUP(B14,工资表!B15:H32,7,0))/工资表!F15*VLOOKUP(B14,考勤!B17:AI34,34,0) -> 3000 | E14: =VLOOKUP(B14,工资表!B15:R32,17,0) -> 3000 | F14: =D14-E14 -> 0
A15: 13 | B15: 赵江龙 | C15: 19 | D15: =(VLOOKUP(B15,工资表!B16:G33,6,0)+VLOOKUP(B15,工资表!B16:H33,7,0))/工资表!F16*VLOOKUP(B15,考勤!B18:AI35,34,0) -> 3000 | E15: =VLOOKUP(B15,工资表!B16:R33,17,0) -> 1000 | F15: =D15-E15 -> 2000 | G15: 扣罚
A16: 14 | B16: 张新艳 | C16: 19 | D16: =(VLOOKUP(B16,工资表!B17:G34,6,0)+VLOOKUP(B16,工资表!B17:H34,7,0))/工资表!F17*VLOOKUP(B16,考勤!B19:AI36,34,0) -> 4500 | E16: =VLOOKUP(B16,工资表!B17:R34,17,0) -> 4500 | F16: =D16-E16 -> 0
A17: 15 | B17: 刘宁宁 | C17: 19 | D17: =(VLOOKUP(B17,工资表!B18:G35,6,0)+VLOOKUP(B17,工资表!B18:H35,7,0))/工资表!F18*VLOOKUP(B17,考勤!B20:AI37,34,0) -> 1875 | E17: =VLOOKUP(B17,工资表!B18:R35,17,0) -> 1875 | F17: =D17-E17 -> 0
A18: 16 | B18: 米云鹤 | C18: 19 | D18: =(VLOOKUP(B18,工资表!B19:G36,6,0)+VLOOKUP(B18,工资表!B19:H36,7,0))/工资表!F19*VLOOKUP(B18,考勤!B21:AI38,34,0) -> 3000 | E18: =VLOOKUP(B18,工资表!B19:R36,17,0) -> 3000 | F18: =D18-E18 -> 0
A19: 17 | B19: 刘思汉 | C19: 19 | D19: =(VLOOKUP(B19,工资表!B20:G37,6,0)+VLOOKUP(B19,工资表!B20:H37,7,0))/工资表!F20*VLOOKUP(B19,考勤!B22:AI39,34,0) -> 4000 | E19: =VLOOKUP(B19,工资表!B20:R37,17,0) -> 4000 | F19: =D19-E19 -> 0
A20: 18 | B20: 李福晴 | C20: 6 | D20: =(VLOOKUP(B20,工资表!B21:G38,6,0)+VLOOKUP(B20,工资表!B21:H38,7,0))/工资表!F21*VLOOKUP(B20,考勤!B23:AI40,34,0) -> 2333.3333 | E20: =VLOOKUP(B20,工资表!B21:R38,17,0) -> 2333.3333 | F20: =D20-E20 -> 0

Sheet 职务序列取数
B2: 职务序列 | C2: 月度基本工资比例 | D2: 月度绩效奖金比例 | E2: 年度奖金比例
B3: A1 | C3: 1 | D3: 0 | E3: 0
B4: A2 | C4: 0.375 | D4: 0.375 | E4: 0.25
B5: A3 | C5: 0.375 | D5: 0.375 | E5: 0.25
B6: A4 | C6: 0.375 | D6: 0.375 | E6: 0.25
B7: A5 | C7: 0.375 | D7: 0.375 | E7: 0.25
B8: M1 | C8: 0.51 | D8: 0.34 | E8: 0.15
B9: M2 | C9: 0.51 | D9: 0.34 | E9: 0.15
B10: M3 | C10: 0.51 | D10: 0.34 | E10: 0.15
B11: PM | C11: 0.7 | D11: 0.3 | E11: 0
B12: PB | C12: 0.8 | D12: 0.2 | E12: 0
B13: PA
