Workbook

Sheet 泰康小区
B1: 房屋资料 | F1: 客户资料
A2: 序号 | B2: 房号 | C2: 面积 | D2: 基准 | F2: 姓名 | G2: 购房 方式 | H2: 实际售价 | J2: 账面截至2023年11月累计回款金额 | N2: 台账与账面差异 | O2: 差异原因 | P2: 备注 | Q2: 已开票金额 | R2: 已结转收入（以前年度损益） | S2: 已结转收入主营业务收入 | T2: 应结转收入 | U2: 应确认销项税 | V2: 本期结转收入 | W2: 本期确认销项税 | X2: 账面已确认销项税
D3: 单价 | E3: 房价 | G3: 甲控 | H3: 单价 | I3: 总售价 | J3: 预收账款 | K3: 其他应付款 | L3: 应收账款-房产 | M3: 其他应收款
A4: 1 | B4: 101 | C4: 170.18 | D4: 17000 | E4: =ROUND(IF(F4<>0,C4*D4,0),0) -> 2893060 | F4: 王金川 | H4: 12000 | I4: =C4*H4 -> 2042160 | J4: 100000 | K4: =其他应付款!J928+其他应付款!J1186+其他应付款!J1254+其他应付款!J1315+其他应付款!J1350+其他应付款!J1351+其他应付款!J1395 -> 1465910 | L4: ='2019年12月-2023年7月科目余额表'!H5 -> 200000 | M4: ='2019年12月-2023年7月科目余额表'!H37 -> 50000 | T4: =I4/1.05 -> 1944914.3 | U4: =I4-T4 -> 97245.714 | V4: =T4-S4-R4 -> 1944914.3 | W4: =V4*0.05 -> 97245.714 | Y4: 全额确认收入 | Z4: =V4+W4 -> 2042160
A5: 2 | B5: 102 | C5: 60.32 | D5: 17000 | E5: =ROUND(IF(F5<>0,C5*D5,0),0) -> 1025440 | F5: 王金川 | H5: 12000 | I5: =C5*H5 -> 723840 | T5: =I5/1.05-R5-S5 -> 689371.43 | U5: =I5-T5 -> 34468.571 | V5: =T5-S5-R5 -> 689371.43 | W5: =V5*0.05 -> 34468.571 | Y5: 全额确认收入 | Z5: =V5+W5 -> 723840
A6: 3 | B6: 103 | C6: 112.96 | E6: =ROUND(IF(F6<>0,C6*D6,0),0) -> 0 | F6: 刘永平 | I6: 1976800 | J6: =泰康小区账面房号及收款金额!B4 -> 1663820.4 | N6: =I6-J6 -> 312979.6 | R6: =[1]sheet1!$K$405 -> 727448 | S6: 857142.86 | T6: =I6/1.05 -> 1882666.7 | U6: =I6-T6 -> 94133.333 | V6: =T6-S6-R6 -> 298075.81 | W6: 14903.793 | Z6: =V6+W6 -> 312979.6
A7: 4 | B7: 104-1 | C7: 55.17 | E7: =ROUND(IF(F7<>0,C7*D7,0),0) -> 0 | F7: 刘永平 | I7: 1675752 | J7: =泰康小区账面房号及收款金额!B5 -> 729999.8 | N7: =I7-J7 -> 945752.2 | R7: =[1]sheet1!$K$413 -> 190476 | S7: =219047.62+142857.14+142857.14 -> 504761.9 | T7: =I7/1.05 -> 1595954.3 | U7: =I7-T7 -> 79797.714 | V7: =T7-S7-R7 -> 900716.39 | W7: 45035.614 | X7: 2857 | Z7: =V7+W7 -> 945752
A8: 5 | B8: 104-2 | C8: 47.02 | E8: =ROUND(IF(F8<>0,C8*D8,0),0) -> 0 | I8: 0 | N8: =I8-J8 -> 0 | O8: 不可售 | T8: =I8/1.05 -> 0 | U8: =I8-T8 -> 0 | Z8: =V8+W8 -> 0
A9: 6 | B9: 105 | C9: 102.18 | D9: 11900 | E9: =ROUND(IF(F9<>0,C9*D9,0),0) -> 1215942 | F9: 洪雪玲 | H9: 11900 | I9: 1215942 | J9: =泰康小区账面房号及收款金额!B6+'2023年8-11月预收账款'!K3+100000 -> 1050000 | N9: =I9-J9-M9-K9-L9 -> 165942 | T9: =I9/1.05 -> 1158040 | U9: =I9-T9 -> 57902 | V9: =T9-S9-R9 -> 1158040 | W9: =V9*0.05 -> 57902 | Y9: 全额确认收入 | Z9: =V9+W9 -> 1215942
A10: 7 | B10: 106-1 | C10: 55.16 | E10: =ROUND(IF(F10<>0,C10*D10,0),0) -> 0 | F10: 王德军 | I10: 0 | J10: =泰康小区账面房号及收款金额!B7 -> 10000.2 | N10: =I10-J10 -> -10000.2 | P10: 未售 | R10: =[1]sheet1!$K$391 -> 9524 | T10: =I10/1.05 -> 0 | U10: =I10-T10 -> 0 | Z10: =V10+W10 -> 0
A11: 8 | B11: 106-2 | C11: 47.02 | D11: 13400 | E11: =ROUND(IF(F11<>0,C11*D11,0),0) -> 630068 | F11: 张雪静 | H11: 13400 | I11: 630068 | J11: =泰康小区账面房号及收款金额!B8+'2023年8-11月预收账款'!K11 -> 630068 | N11: =I11-J11 -> 0 | Q11: =[2]信息汇总表!$T$744 -> 630068 | S11: 600064.76 | T11: =I11/1.05 -> 600064.76 | U11: =I11-T11 -> 30003.238 | V11: =T11-S11-R11 -> 0.0019047619 | W11: =V11*0.05 -> 9.5238094e-05 | Y11: 不调整 | Z11: =V11+W11 -> 0.002
A12: 9 | B12: 107 | C12: 102.18 | D12: 17500 | E12: =ROUND(IF(F12<>0,C12*D12,0),0) -> 1788150 | F12: 雷良华 | H12: 17500 | I12: 1788150 | J12: =泰康小区账面房号及收款金额!B2 -> 1788150 | N12: =I12-J12 -> 0 | Q12: =[2]信息汇总表!$T$343+[2]信息汇总表!$T$344 -> 1788150 | R12: 1703000 | T12: =I12/1.05 -> 1703000 | U12: =I12-T12 -> 85150 | V12: =T12-S12-R12 -> 0 | W12: =V12*0.05 -> 0 | Y12: 不调整 | Z12: =V12+W12 -> 0
A13: 10 | B13: 108-1 | C13: 55.17 | E13: =ROUND(IF(F13<>0,C13*D13,0),0) -> 0 | I13: 570000 | J13: =泰康小区账面房号及收款金额!B10 -> 570000 | N13: =I13-J13 -> 0.003 | O13: 抵通力集团工程款 | Q13: =[2]信息汇总表!$T$287 -> 452266 | R13: =[1]sheet1!$K$410 -> 542857.14 | T13: =I13/1.05 -> 542857.14 | U13: =I13-T13 -> 27142.857 | V13: =T13-S13-R13 -> 0.0028571429 | W13: =V13*0.05 -> 0.00014285715 | Y13: 不调整 | Z13: =V13+W13 -> 0.0030000001
A14: 11 | B14: 108-2 | C14: 47.02 | E14: =ROUND(IF(F14<>0,C14*D14,0),0) -> 0 | I14: 0 | N14: =I14-J14 -> 0 | P14: 未售 | T14: =I14/1.05 -> 0 | U14: =I14-T14 -> 0 | Z14: =V14+W14 -> 0
A15: 12 | B15: 109 | C15: 102.19 | D15: 15657 | E15: =ROUND(IF(F15<>0,C15*D15,0),0) -> 1599989 | F15: 赵登兵 | G15: 抵账 | H15: 15657 | I15: 1600000 | N15: =I15-J15 -> 1600000 | O15: 抵账房，未实际付款 | T15: =I15/1.05 -> 1523809.5 | U15: =I15-T15 -> 76190.476 | Y15: 全额确认收入 | Z15: =V15+W15 -> 0
A16: 13 | B16: 110 | C16: 81.62 | E16: =ROUND(IF(F16<>0,C16*D16,0),0) -> 0 | N16: =I16-J16 -> 0 | T16: =I16/1.05 -> 0 | U16: =I16-T16 -> 0 | Z16: =V16+W16 -> 0
A17: 14 | B17: 111 | C17: 89.44 | D17: 14249.89 | E17: =ROUND(IF(F17<>0,C17*D17,0),0) -> 1274510 | F17: 赵海棠 | I17: 1274510 | J17: =泰康小区账面房号及收款金额!B16 -> 1274510 | N17: =I17-J17 -> 0 | Q17: =[2]信息汇总表!$T$714+[2]信息汇总表!$T$715 -> 1274510 | R17: =603109.46+610709.59 -> 1213819.1 | T17: =I17/1.05 -> 1213819 | U17: =I17-T17 -> 60690.952 | V17: =T17-S17-R17 -> -0.0023809501 | W17: =V17*0.05 -> -0.00011904751 | Y17: 不调整 | Z17: =V17+W17 -> -0.0024999977
A18: 15 | B18: 1-1-201 | C18: 102.51 | D18: 2676 | E18: =ROUND(IF(F18<>0,C18*D18,0),0) -> 274317 | F18: 雍宁宁 | H18: 2670 | I18: 273702 | J18: =VLOOKUP(B18,泰康小区账面房号及收款金额!$A$2:$B$424,2,0) -> 274688.4 | N18: =I18-J18 -> -986.4 | O18: 多收款 | Q18: =VLOOKUP(B18,[2]信息汇总表!$M$2:$T$816,8,0) -> 273702 | R18: =VLOOKUP(B18,[1]sheet1!$J$4:$K$413,2,0) -> 261608 | T18: =J18/1.05 -> 261608 | U18: =I18-T18 -> 12094 | V18: =T18-S18-R18 -> 0 | W18: =V18*0.05 -> 0 | Y18: 不调整 | Z18: =V18+W18 -> 0
A19: 16 | B19: 1-1-202 | C19: 103.38 | D19: 2676 | E19: =ROUND(IF(F19<>0,C19*D19,0),0) -> 276645 | F19: 卿银霞 | H19: 2640 | I19: 272923 | J19: =VLOOKUP(B19,泰康小区账面房号及收款金额!$A$2:$B$424,2,0) -> 273899.85 | N19: =I19-J19 -> -976.85 | O19: 多收款 | Q19: =VLOOKUP(B19,[2]信息汇总表!$M$2:$T$816,8,0) -> 272923 | R19: =VLOOKUP(B19,[1]sheet1!$J$4:$K$413,2,0) -> 260857 | T19: =J19/1.05 -> 260857 | U19: =I19-T19 -> 12066 | V19: =T19-S19-R19 -> 0 | W19: =V19*0.05 -> 0 | Y19: 不调整 | Z19: =V19+W19 -> 0
A20: 17 | B20: 1-1-301 | C20: 102.51 | D20: 3428 | E20: =ROUND(IF(F20<>0,C20*D20,0),0) -> 351404 | F20: 樊浪 | H20: 3050 | I20: 312656 | J20: =VLOOKUP(B20,泰康小区账面房号及收款金额!$A$2:$B$424,2,0) -> 312656.4 | N20: =I20-J20 -> -0.4 | Q20: =VLOOKUP(B20,[2]信息汇总表!$M$2:$T$816,8,0) -> 312655 | R20: =VLOOKUP(B20,[1]sheet1!$J$4:$K$413,2,0) -> 297768 | T20: =J20/1.05 -> 297768 | U20: =I20-T20 -> 14888 | V20: =T20-S20-R20 -> 0 | W20: =V20*0.05 -> 0 | X20: 9919 | Y20: 不调整 | Z20: =V20+W20 -> 0
A21: 18 | B21: 1-1-302 | C21: 103.38 | D21: 2696 | E21: =ROUND(IF(F21<>0,C21*D21,0),0) -> 278712 | F21: 涂川江 | G21: 抵账 | H21: 2670 | I21: 276025 | J21: =VLOOKUP(B21,泰康小区账面房号及收款金额!$A$2:$B$424,2,0) -> 278125.05 | N21: =I21-J21 -> -2100.05 | O21: 检查2022-7-19#凭证入账是否准确？ | Q21: =VLOOKUP(B21,[2]信息汇总表!$M$2:$T$816,8,0) -> 276025 | R21: =VLOOKUP(B21,[1]sheet1!$J$4:$K$413,2,0) -> 262881 | T21: =J21/1.05 -> 264881 | U21: =T21*0.05 -> 13244.05 | V21: =T21-S21-R21 -> 2000 | W21: =V21*0.05 -> 100 | Z21: =V21+W21 -> 2100
A22: 19 | B22: 1-1-401 | C22: 102.51 | D22: 2566 | E22: =ROUND(IF(F22<>0,C22*D22,0),0) -> 263041 | F22: 蒲养波 | H22: 2700 | I22: 276777 | J22: =VLOOKUP(B22,泰康小区账面房号及收款金额!$A$2:$B$424,2,0) -> 277775.4 | N22: =I22-J22 -> -998.4 | O22: 多收款 | Q22: =VLOOKUP(B22,[2]信息汇总表!$M$2:$T$816,8,0) -> 276777 | R22: =VLOOKUP(B22,[1]sheet1!$J$4:$K$413,2,0) -> 264548 | T22: =J22/1.05 -> 264548 | U22: =I22-T22 -> 12229 | V22: =T22-S22-R22 -> 0 | W22: =V22*0.05 -> 0 | Y22: 不调整 | Z22: =V22+W22 -> 0
A23: 20 | B23: 1-1-402 | C23: 103.38 | D23: 2566 | E23: =ROUND(IF(F23<>0,C23*D23,0),0) -> 265273 | F23: 刘光辉 | H23: 2700 | I23: 279126 | J23: =VLOOKUP(B23,泰康小区账面房号及收款金额!$A$2:$B$424,2,0) -> 280124.25 | N23: =I23-J23 -> -998.25 | O23: 多收款 | Q23: =VLOOKUP(B23,[2]信息汇总表!$M$2:$T$816,8,0) -> 279126 | R23: =VLOOKUP(B23,[1]sheet1!$J$4:$K$413,2,0) -> 266785 | T23: =J23/1.05 -> 266785 | U23: =I23-T23 -> 12341 | V23: =T23-S23-R23 -> 0 | W23: =V23*0.05 -> 0 | Y23: 不调整 | Z23: =V23+W23 -> 0
A24: 21 | B24: 1-1-501 | C24: 102.51 | D24: 2696 | E24: =ROUND(IF(F24<>0,C24*D24,0),0) -> 276367 | F24: 李敏 | H24: 2730 | I24: 279852 | J24: =VLOOKUP(B24,泰康小区账面房号及收款金额!$A$2:$B$424,2,0) -> 280862.4 | N24: =I24-J24 -> -1010.4 | O24: 多收款 | Q24: =VLOOKUP(B24,[2]信息汇总表!$M$2:$T$816,8,0) -> 279852 | R24: =VLOOKUP(B24,[1]sheet1!$J$4:$K$413,2,0) -> 267488 | T24: =J24/1.05 -> 267488 | U24: =I24-T24 -> 12364 | V24: =T24-S24-R24 -> 0 | W24: =V24*0.05 -> 0 | Y24: 不调整 | Z24: =V24+W24 -> 0
A25: 22 | B25: 1-1-502 | C25: 103.38 | D25: 2696 | E25: =ROUND(IF(F25<>0,C25*D25,0),0) -> 278712 | F25: 毛礼思 | H25: 2740 | I25: 283261 | J25: =VLOOKUP(B25,泰康小区账面房号及收款金额!$A$2:$B$424,2,0) -> 284274.9 | N25: =I25-J25 -> -1013.9 | O25: 多收款 | Q25: =VLOOKUP(B25,[2]信息汇总表!$M$2:$T$816,8,0) -> 283261 | R25: =VLOOKUP(B25,[1]sheet1!$J$4:$K$413,2,0) -> 270738 | T25: =J25/1.05 -> 270738 | U25: =I25-T25 -> 12523 | V25: =T25-S25-R25 -> 0 | W25: =V25*0.05 -> 0 | X25: 9048 | Y25: 不调整 | Z25: =V25+W25 -> 0
A26: 23 | B26: 1-1-601 | C26: 102.51 | D26: 2726 | E26: =ROUND(IF(F26<>0,C26*D26,0),0) -> 279442 | F26: 方堃 | G26: 抵账 | H26: 2630 | I26: 269601 | J26: =VLOOKUP(B26,泰康小区账面房号及收款金额!$A$2:$B$424,2,0) -> 269601.15 | N26: =I26-J26 -> -0.15 | Q26: =VLOOKUP(B26,[2]信息汇总表!$M$2:$T$816,8,0) -> 269601 | R26: =VLOOKUP(B26,[1]sheet1!$J$4:$K$413,2,0) -> 256763 | T26: =J26/1.05 -> 256763 | U26: =I26-T26 -> 12838 | V26: =T26-S26-R26 -> 0 | W26: =V26*0.05 -> 0 | Y26: 不调整 | Z26: =V26+W26 -> 0
A27: 24 | B27: 1-1-602 | C27: 103.38 | D27: 2726 | E27: =ROUND(IF(F27<>0,C27*D27,0),0) -> 281814 | F27: 霍存武 | H27: 2860 | I27: 295667 | J27: =VLOOKUP(B27,泰康小区账面房号及收款金额!$A$2:$B$424,2,0) -> 296725 | N27: =I27-J27 -> -1058 | O27: 多收款 | Q27: =VLOOKUP(B27,[2]信息汇总表!$M$2:$T$816,8,0) -> 295666.8 | R27: =VLOOKUP(B27,[1]sheet1!$J$4:$K$413,2,0) -> 296725 | T27: =J27/1.05 -> 282595.24 | U27: =T27*0.05 -> 14129.762 | V27: =T27-S27-R27 -> -14129.762 | W27: =U27-X27 -> 14129.762 | Y27: 不调整 | Z27: =V27+W27 -> 0
A28: 25 | B28: 1-1-701 | C28: 102.51 | D28: 2756 | E28: =ROUND(IF(F28<>0,C28*D28,0),0) -> 282518 | F28: 沈仁贤 | H28: 2870 | I28: 294204 | J28: =VLOOKUP(B28,泰康小区账面房号及收款金额!$A$2:$B$424,2,0) -> 294204.75 | N28: =I28-J28 -> -0.75 | Q28: =VLOOKUP(B28,[2]信息汇总表!$M$2:$T$816,8,0) -> 294204 | R28: =VLOOKUP(B28,[1]sheet1!$J$4:$K$413,2,0) -> 280195 | T28: =J28/1.05 -> 280195 | U28: =I28-T28 -> 14009 | V28: =T28-S28-R28 -> 0 | W28: =V28*0.05 -> 0 | Y28: 不调整 | Z28: =V28+W28 -> 0
A29: 26 | B29: 1-1-702 | C29: 103.76 | D29: 2756 | E29: =ROUND(IF(F29<>0,C29*D29,0),0) -> 285963 | F29: 赵小亚 | H29: 2800 | I29: 290528 | J29: =VLOOKUP(B29,泰康小区账面房号及收款金额!$A$2:$B$424,2,0) -> 291592 | N29: =I29-J29 -> -1064 | O29: 多收款 | Q29: =VLOOKUP(B29,[2]信息汇总表!$M$2:$T$816,8,0) -> 290528 | R29: =VLOOKUP(B29,[1]sheet1!$J$4:$K$413,2,0) -> 291592 | T29: =J29/1.05 -> 277706.67 | U29: =T29*0.05 -> 13885.333 | V29: =T29-S29-R29 -> -13885.333 | W29: =U29-X29 -> 13885.333 | Y29: 前期确认收入时未计提销项税，本期调整多确认的收入至销项税 | Z29: =V29+W29 -> -1.0004442e-10
A30: 27 | B30: 1-1-801 | C30: 102.51 | D30: 2716 | E30: =ROUND(IF(F30<>0,C30*D30,0),0) -> 278417 | F30: 王志香 | G30: 抵账 | H30: 2800 | I30: 287028 | J30: =VLOOKUP(B30,泰康小区账面房号及收款金额!$A$2:$B$424,2,0) -> 287028 | N30: =I30-J30 -> 0 | Q30: =VLOOKUP(B30,[2]信息汇总表!$M$2:$T$816,8,0) -> 287028 | R30: =VLOOKUP(B30,[1]sheet1!$J$4:$K$413,2,0) -> 273360 | T30: =J30/1.05 -> 273360 | U30: =I30-T30 -> 13668 | V30: =T30-S30-R30 -> 0 | W30: =V30*0.05 -> 0 | Y30: 不调整 | Z30: =V30+W30 -> 0
A31: 28 | B31: 1-1-802 | C31: 103.76 | D31: 2716 | E31: =ROUND(IF(F31<>0,C31*D31,0),0) -> 281812 | F31: 谭见辉 | G31: 抵账 | H31: 3100 | I31: 321656 | J31: =VLOOKUP(B31,泰康小区账面房号及收款金额!$A$2:$B$424,2,0) -> 322823.65 | N31: =I31-J31 -> -1167.65 | O31: 多收款 | Q31: =VLOOKUP(B31,[2]信息汇总表!$M$2:$T$816,8,0) -> 321656 | R31: =VLOOKUP(B31,[1]sheet1!$J$4:$K$413,2,0) -> 316157 | T31: =J31/1.05 -> 307451.1 | U31: =T31*0.05 -> 15372.555 | V31: =T31-S31-R31 -> -8705.9048 | W31: =U31-X31 -> 8705.9048 | X31: 6666.65 | Y31: 前期确认收入时未计提销项税，本期调整多确认的收入至销项税 | Z31: =V31+W31 -> 4.0017767e-11
A32: 29 | B32: 1-1-901 | C32: 102.51 | D32: 2736 | E32: =ROUND(IF(F32<>0,C32*D32,0),0) -> 280467 | F32: 尚康利 | G32: 抵账 | H32: 2850 | I32: 292154 | J32: =VLOOKUP(B32,泰康小区账面房号及收款金额!$A$2:$B$424,2,0) -> 292154.1 | N32: =I32-J32 -> -0.1 | Q32: =VLOOKUP(B32,[2]信息汇总表!$M$2:$T$816,8,0) -> 292154 | R32: =VLOOKUP(B32,[1]sheet1!$J$4:$K$413,2,0) -> 278242 | T32: =I32/1.05 -> 278241.9 | U32: =I32-T32 -> 13912.095 | V32: =T32-S32-R32 -> -0.095238095 | W32: =V32*0.05 -> -0.0047619047 | Y32: 不调整 | Z32: =V32+W32 -> -0.1
A33: 30 | B33: 1-1-902 | C33: 103.76 | D33: 3638 | E33: =ROUND(IF(F33<>0,C33*D33,0),0) -> 377479 | F33: 陈淑源 | G33: 抵账 | H33: 2600 | I33: 269776 | J33: =VLOOKUP(B33,泰康小区账面房号及收款金额!$A$2:$B$424,2,0) -> 269776.2 | N33: =I33-J33 -> -0.2 | Q33: =VLOOKUP(B33,[2]信息汇总表!$M$2:$T$816,8,0) -> 269776 | R33: =VLOOKUP(B33,[1]sheet1!$J$4:$K$413,2,0) -> 269776.2 | T33: =I33/1.05 -> 256929.52 | U33: =I33-T33 -> 12846.476 | V33: =T33-S33-R33 -> -12846.676 | W33: =U33-X33 -> 12846.476 | X33: 0 | Y33: 前期确认收入时未计提销项税，本期调整多确认的收入至销项税 | Z33: =V33+W33 -> -0.2
A34: 31 | B34: 1-1-1001 | C34: 102.51 | D34: 3668 | E34: =ROUND(IF(F34<>0,C34*D34,0),0) -> 376007 | F34: 唐浩 | G34: 抵账 | H34: 2850 | I34: 292154 | J34: =VLOOKUP(B34,泰康小区账面房号及收款金额!$A$2:$B$424,2,0) -> 292154.1 | N34: =I34-J34 -> -0.1 | Q34: =VLOOKUP(B34,[2]信息汇总表!$M$2:$T$816,8,0) -> 292154 | R34: =VLOOKUP(B34,[1]sheet1!$J$4:$K$413,2,0) -> 278242 | T34: =J34/1.05 -> 278242 | U34: =I34-T34 -> 13912 | V34: =T34-S34-R34 -> 0 | W34: =V34*0.05 -> 0 | Y34: 不调整 | Z34: =V34+W34 -> 0
A35: 32 | B35: 1-1-1002 | C35: 103.76 | D35: 2756 | E35: =ROUND(IF(F35<>0,C35*D35,0),0) -> 285963 | F35: 杨阳 | G35: 抵账 | H35: 2650.35 | I35: 275000 | J35: =VLOOKUP(B35,泰康小区账面房号及收款金额!$A$2:$B$424,2,0) -> 274963.5 | N35: =I35-J35 -> 36.5 | Q35: =VLOOKUP(B35,[2]信息汇总表!$M$2:$T$816,8,0) -> 275000 | R35: =VLOOKUP(B35,[1]sheet1!$J$4:$K$413,2,0) -> 261870 | T35: =J35/1.05 -> 261870 | U35: =I35-T35 -> 13130 | V35: =T35-S35-R35 -> 0 | W35: =V35*0.05 -> 0 | Y35: 不调整 | Z35: =V35+W35 -> 0
A36: 33 | B36: 1-1-1101 | C36: 94.98 | D36: 2756 | E36: =ROUND(IF(F36<>0,C36*D36,0),0) -> 261765 | F36: 王萧宇 | H36: 2600 | I36: 246948 | J36: =VLOOKUP(B36,泰康小区账面房号及收款金额!$A$2:$B$424,2,0) -> 246949.5 | N36: =I36-J36 -> -1.5 | Q36: =VLOOKUP(B36,[2]信息汇总表!$M$2:$T$816,8,0) -> 246948 | R36: =VLOOKUP(B36,[1]sheet1!$J$4:$K$413,2,0) -> 235190 | T36: =J36/1.05 -> 235190 | U36: =I36-T36 -> 11758 | V36: =T36-S36-R36 -> 0 | W36: =V36*0.05 -> 0 | Y36: 不调整 | Z36: =V36+W36 -> 0
A37: 34 | B37: 1-1-1102 | C37: 96.23 | D37: 3658 | E37: =ROUND(IF(F37<>0,C37*D37,0),0) -> 352009 | F37: 王来来 | H37: 2800 | I37: 269444 | J37: =VLOOKUP(B37,泰康小区账面房号及收款金额!$A$2:$B$424,2,0) -> 270394.95 | N37: =I37-J37 -> -950.95 | Q37: =VLOOKUP(B37,[2]信息汇总表!$M$2:$T$816,8,0) -> 269444 | R37: =VLOOKUP(B37,[1]sheet1!$J$4:$K$413,2,0) -> 257519 | T37: =J37/1.05 -> 257519 | U37: =I37-T37 -> 11925 | V37: =T37-S37-R37 -> 0 | W37: =V37*0.05 -> 0 | Y37: 不调整 | Z37: =V37+W37 -> 0
A38: 35 | B38: 1-2-201 | C38: 101.69 | D38: 3098 | E38: =ROUND(IF(F38<>0,C38*D38,0),0) -> 315036 | F38: 张树敏 | H38: 3180 | I38: 323374 | J38: =VLOOKUP(B38,泰康小区账面房号及收款金额!$A$2:$B$424,2,0) -> 323373.75 | N38: =I38-J38 -> 0.25 | Q38: =VLOOKUP(B38,[2]信息汇总表!$M$2:$T$816,8,0) -> 323374 | R38: =VLOOKUP(B38,[1]sheet1!$J$4:$K$413,2,0) -> 307975 | T38: =J38/1.05 -> 307975 | U38: =I38-T38 -> 15399 | V38: =T38-S38-R38 -> 0 | W38: =V38*0.05 -> 0 | Y38: 不调整 | Z38: =V38+W38 -> 0
A39: 36 | B39: 1-2-202 | C39: 101.47 | D39: 3778 | E39: =ROUND(IF(F39<>0,C39*D39,0),0) -> 383354 | F39: 杨攀 | H39: 3100 | I39: 314557 | J39: =VLOOKUP(B39,泰康小区账面房号及收款金额!$A$2:$B$424,2,0) -> 314556.9 | N39: =I39-J39 -> 0.1 | Q39: =VLOOKUP(B39,[2]信息汇总表!$M$2:$T$816,8,0) -> 314557 | R39: =VLOOKUP(B39,[1]sheet1!$J$4:$K$413,2,0) -> 299578 | T39: =I39/1.05 -> 299578.1 | U39: =I39-T39 -> 14978.905 | V39: =T39-S39-R39 -> 0.095238095 | W39: =V39*0.05 -> 0.0047619047 | Y39: 不调整 | Z39: =V39+W39 -> 0.1
A40: 37 | B40: 1-2-301 | C40: 101.69 | D40: 3098 | E40: =ROUND(IF(F40<>0,C40*D40,0),0) -> 315036 | F40: 代国寿 | H40: 3000 | I40: 305070 | J40: =VLOOKUP(B40,泰康小区账面房号及收款金额!$A$2:$B$424,2,0) -> 305071.2 | N40: =I40-J40 -> -1.2 | Q40: =VLOOKUP(B40,[2]信息汇总表!$M$2:$T$816,8,0) -> 305070 | R40: =VLOOKUP(B40,[1]sheet1!$J$4:$K$413,2,0) -> 290544 | S40: 290542.86 | T40: =I40/1.05 -> 290542.86 | U40: =I40-T40 -> 14527.143 | V40: =T40-S40-R40 -> -290544 | W40: =V40*0.05 -> -14527.2 | X40: 14526 | Z40: =V40+W40 -> -305071.2
...

Sheet 多浪小镇一期
B1: 房屋资料 | F1: 客户资料 | G1: 实收房款 | I1: 账面截至2023年12月累计回款金额 | K1: 台账与账面差异 | L1: 差异原因 | M1: 备注
A2: 序号 | B2: 房号 | C2: 面积 | D2: 基准 | F2: 姓名 | G2: 台账已收房款金额 | H2: 未收房款金额 | N2: 账面已确认收入
D3: 单价 | E3: 房价 | I3: 其他应付款 | J3: 阿克苏分公司预收账款 | N3: 预收账款余额 | O3: 已开票金额 | P3: 以前年度损益 | Q3: 主营业务收入 | R3: 已确认销项 | S3: 本期应确认收入 | T3: 本期应确认税金 | U3: 调整分类
B4: A10-2-502 | E4: 121005 | G4: 121005 | J4: 121005 | P4: =[3]sheet1!$K$340 -> 115243 | R4: =J4-P4-Q4 -> 5762 | S4: =J4/1.05-P4-Q4 -> -0.14285714 | T4: =J4/1.05*0.05-R4 -> 0.14285714 | U4: 不调整
A5: 1 | B5: A11-1-101 | C5: 82.13 | D5: 2600 | E5: =ROUND(IF(F5<>0,C5*D5,0),0) -> 213538 | F5: 托乎提·麦木太克 | G5: 213538 | H5: =E5-G5 -> 0 | J5: =VLOOKUP(B5,'多浪一期账面房号及收款金额-分公司'!$A$2:$B$436,2,0) -> 213538.5 | K5: =G5-I5-J5 -> -0.5 | P5: 203370 | R5: =J5-P5-Q5 -> 10168.5 | S5: =J5/1.05-P5-Q5 -> 0 | T5: =J5/1.05*0.05-R5 -> 0 | U5: 不调整
A6: 2 | B6: A11-1-102 | C6: 81.76 | D6: 3418 | E6: =ROUND(IF(F6<>0,C6*D6,0),0) -> 279456 | F6: 巴哈古丽·托乎提 | G6: 279456 | H6: =E6-G6 -> 0 | J6: =VLOOKUP(B6,'多浪一期账面房号及收款金额-分公司'!$A$2:$B$436,2,0) -> 279456 | K6: =G6-I6-J6 -> 0 | N6: =VLOOKUP(B6,[4]Sheet1!$D$5:$N$69,11,0) -> -279456 | O6: 279456 | P6: 279456 | Q6: =279456/1.05 -> 266148.57 | R6: =Q6*0.05 -> 13307.429 | S6: =J6/1.05-P6-Q6 -> -279456 | T6: =J6/1.05*0.05-R6 -> 2.1827873e-11 | U6: 调整以前年度多确认的收入
A7: 3 | B7: A11-1-201 | C7: 82.13 | D7: 3368 | E7: =ROUND(IF(F7<>0,C7*D7,0),0) -> 276614 | F7: 吾斯曼·吐尼亚孜 | G7: 276614 | H7: =E7-G7 -> 0 | J7: =VLOOKUP(B7,'多浪一期账面房号及收款金额-分公司'!$A$2:$B$436,2,0) -> 276614 | K7: =G7-I7-J7 -> 0 | P7: 276614 | R7: =J7-P7-Q7 -> 0 | S7: =J7/1.05-P7-Q7 -> -13172.095 | T7: =J7/1.05*0.05-R7 -> 13172.095 | U7: 前期确认收入时未计提销项税，本期调整多确认的收入至销项税
A8: 4 | B8: A11-1-202 | C8: 81.76 | D8: 2460 | E8: =ROUND(IF(F8<>0,C8*D8,0),0) -> 201130 | F8: 玉苏普·图拉克 | G8: 201130 | H8: =E8-G8 -> 0 | J8: =VLOOKUP(B8,'多浪一期账面房号及收款金额-分公司'!$A$2:$B$436,2,0) -> 201130.65 | K8: =G8-I8-J8 -> -0.65 | P8: 191553 | R8: =J8-P8-Q8 -> 9577.65 | S8: =J8/1.05-P8-Q8 -> 0 | T8: =J8/1.05*0.05-R8 -> 0 | U8: 不调整
A9: 5 | B9: A11-1-301 | C9: 82.13 | D9: 2500 | E9: =ROUND(IF(F9<>0,C9*D9,0),0) -> 205325 | F9: 艾合麦提·依马木尼亚孜 | G9: 205325 | H9: =E9-G9 -> 0 | J9: =VLOOKUP(B9,'多浪一期账面房号及收款金额-分公司'!$A$2:$B$436,2,0) -> 205324.35 | K9: =G9-I9-J9 -> 0.65 | P9: 195547 | R9: =J9-P9-Q9 -> 9777.35 | S9: =J9/1.05-P9-Q9 -> 0 | T9: =J9/1.05*0.05-R9 -> 0 | U9: 不调整
A10: 6 | B10: A11-1-302 | C10: 81.76 | D10: 2500 | E10: =ROUND(IF(F10<>0,C10*D10,0),0) -> 204400 | F10: 帕特木·沙依木 | G10: 204400 | H10: =E10-G10 -> 0 | J10: =VLOOKUP(B10,'多浪一期账面房号及收款金额-分公司'!$A$2:$B$436,2,0) -> 204399.3 | K10: =G10-I10-J10 -> 0.7 | P10: 194666 | R10: =J10-P10-Q10 -> 9733.3 | S10: =J10/1.05-P10-Q10 -> 0 | T10: =J10/1.05*0.05-R10 -> 0 | U10: 不调整
A11: 7 | B11: A11-1-401 | C11: 82.13 | D11: 2200 | E11: =ROUND(IF(F11<>0,C11*D11,0),0) -> 180686 | F11: 阿布都克热木·阿布都热合曼 | G11: 180686 | H11: =E11-G11 -> 0 | J11: =VLOOKUP(B11,'多浪一期账面房号及收款金额-分公司'!$A$2:$B$436,2,0) -> 180686.1 | K11: =G11-I11-J11 -> -0.1 | P11: 172082 | R11: =J11-P11-Q11 -> 8604.1 | S11: =J11/1.05-P11-Q11 -> 0 | T11: =J11/1.05*0.05-R11 -> 0 | U11: 不调整
A12: 8 | B12: A11-1-402 | C12: 81.76 | D12: 3108 | E12: =ROUND(IF(F12<>0,C12*D12,0),0) -> 254110 | F12: 托合提阿布拉 | G12: 254110 | H12: =E12-G12 -> 0 | J12: =VLOOKUP(B12,'多浪一期账面房号及收款金额-分公司'!$A$2:$B$436,2,0) -> 254110 | K12: =G12-I12-J12 -> 0 | P12: 254110 | R12: =J12-P12-Q12 -> 0 | S12: =J12/1.05-P12-Q12 -> -12100.476 | T12: =J12/1.05*0.05-R12 -> 12100.476 | U12: 前期确认收入时未计提销项税，本期调整多确认的收入至销项税
A13: 9 | B13: A11-1-501 | C13: 82.13 | D13: 2908 | E13: =ROUND(IF(F13<>0,C13*D13,0),0) -> 238834 | F13: 哈合尼亚孜·吐尼亚孜 | G13: 238834 | H13: =E13-G13 -> 0 | J13: =VLOOKUP(B13,'多浪一期账面房号及收款金额-分公司'!$A$2:$B$436,2,0) -> 238834 | K13: =G13-I13-J13 -> 0 | P13: 238834 | R13: =J13-P13-Q13 -> 0 | S13: =J13/1.05-P13-Q13 -> -11373.048 | T13: =J13/1.05*0.05-R13 -> 11373.048 | U13: 前期确认收入时未计提销项税，本期调整多确认的收入至销项税
A14: 10 | B14: A11-1-502 | C14: 81.76 | D14: 2908 | E14: =ROUND(IF(F14<>0,C14*D14,0),0) -> 237758 | F14: 侯功甲 | G14: 237758 | H14: =E14-G14 -> 0 | J14: =VLOOKUP(B14,'多浪一期账面房号及收款金额-分公司'!$A$2:$B$436,2,0) -> 237758 | K14: =G14-I14-J14 -> 0 | N14: =[4]Sheet1!$N$16 -> -237758 | O14: 237758 | P14: 237758 | Q14: 226436.19 | R14: 11321.81 | S14: =J14/1.05-P14-Q14 -> -237758 | T14: =J14/1.05*0.05-R14 -> -0.00047619047 | U14: 调整以前年度多确认的收入
A15: 11 | B15: A11-1-601 | C15: 82.13 | D15: 2508 | E15: =ROUND(IF(F15<>0,C15*D15,0),0) -> 205982 | F15: 吐妮呀孜 | G15: 205982 | H15: =E15-G15 -> 0 | J15: =VLOOKUP(B15,'多浪一期账面房号及收款金额-分公司'!$A$2:$B$436,2,0) -> 205982 | K15: =G15-I15-J15 -> 0 | P15: 205982 | R15: =J15-P15-Q15 -> 0 | S15: =J15/1.05-P15-Q15 -> -9808.6667 | T15: =J15/1.05*0.05-R15 -> 9808.6667 | U15: 前期确认收入时未计提销项税，本期调整多确认的收入至销项税
A16: 12 | B16: A11-1-602 | C16: 81.76 | D16: 2508 | E16: =ROUND(IF(F16<>0,C16*D16,0),0) -> 205054 | F16: 韩刘梅 | G16: 205054 | H16: =E16-G16 -> 0 | J16: =VLOOKUP(B16,'多浪一期账面房号及收款金额-分公司'!$A$2:$B$436,2,0) -> 205054 | K16: =G16-I16-J16 -> 0 | P16: 205054 | R16: =J16-P16-Q16 -> 0 | S16: =J16/1.05-P16-Q16 -> -9764.4762 | T16: =J16/1.05*0.05-R16 -> 9764.4762 | U16: 前期确认收入时未计提销项税，本期调整多确认的收入至销项税
A17: 13 | B17: A11-2-101 | C17: 81.76 | D17: 2580 | E17: =ROUND(IF(F17<>0,C17*D17,0),0) -> 210941 | F17: 木沙·阿木提 | G17: 210941 | H17: =E17-G17 -> 0 | J17: =VLOOKUP(B17,'多浪一期账面房号及收款金额-分公司'!$A$2:$B$436,2,0) -> 210940.8 | K17: =G17-I17-J17 -> 0.2 | P17: 200896 | R17: =J17-P17-Q17 -> 10044.8 | S17: =J17/1.05-P17-Q17 -> 0 | T17: =J17/1.05*0.05-R17 -> 0 | U17: 不调整
A18: 14 | B18: A11-2-102 | C18: 81.76 | D18: 2500 | E18: 204700 | F18: 帕旦木·阿西丁改为艾麦尔·依斯拉木，西热力·麦麦提 | G18: 204700 | H18: =E18-G18 -> 0 | J18: =VLOOKUP(B18,'多浪一期账面房号及收款金额-分公司'!$A$2:$B$436,2,0) -> 204700.29 | K18: =G18-I18-J18 -> -0.293 | O18: =194666.67-0.01 -> 194666.66 | P18: 286 | Q18: =194666.67-0.01 -> 194666.66 | R18: =J18-P18-Q18 -> 9747.633 | S18: =J18/1.05-P18-Q18 -> 0 | T18: =J18/1.05*0.05-R18 -> 0 | U18: 不调整
A19: 15 | B19: A11-2-201 | C19: 81.76 | D19: 2500 | E19: =ROUND(IF(F19<>0,C19*D19,0),0) -> 204400 | F19: 木塔力甫·艾木都拉 | G19: 204400 | H19: =E19-G19 -> 0 | J19: =VLOOKUP(B19,'多浪一期账面房号及收款金额-分公司'!$A$2:$B$436,2,0) -> 204399.3 | K19: =G19-I19-J19 -> 0.7 | P19: 194666 | R19: =J19-P19-Q19 -> 9733.3 | S19: =J19/1.05-P19-Q19 -> 0 | T19: =J19/1.05*0.05-R19 -> 0 | U19: 不调整
A20: 16 | B20: A11-2-202 | C20: 81.76 | D20: 2500 | E20: =ROUND(IF(F20<>0,C20*D20,0),0) -> 204400 | F20: 图尔荪毛拉麦提 | G20: 204400 | H20: =E20-G20 -> 0 | J20: =VLOOKUP(B20,'多浪一期账面房号及收款金额-分公司'!$A$2:$B$436,2,0) -> 204399.3 | K20: =G20-I20-J20 -> 0.7 | P20: 194666 | R20: =J20-P20-Q20 -> 9733.3 | S20: =J20/1.05-P20-Q20 -> 0 | T20: =J20/1.05*0.05-R20 -> 0 | U20: 不调整
A21: 17 | B21: A11-2-301 | C21: 81.76 | D21: 2200 | E21: =ROUND(IF(F21<>0,C21*D21,0),0) -> 179872 | F21: 阿力莆沙依木 | G21: 179872 | H21: =E21-G21 -> 0 | J21: =VLOOKUP(B21,'多浪一期账面房号及收款金额-分公司'!$A$2:$B$436,2,0) -> 179872 | K21: =G21-I21-J21 -> 0 | P21: 179872 | R21: =J21-P21-Q21 -> 0 | S21: =J21/1.05-P21-Q21 -> -8565.3333 | T21: =J21/1.05*0.05-R21 -> 8565.3333 | U21: 前期确认收入时未计提销项税，本期调整多确认的收入至销项税
A22: 18 | B22: A11-2-302 | C22: 81.76 | D22: 2460 | E22: =ROUND(IF(F22<>0,C22*D22,0),0) -> 201130 | F22: 约尔尼沙汗·依马木尼亚孜 | G22: 201130 | H22: =E22-G22 -> 0 | J22: =VLOOKUP(B22,'多浪一期账面房号及收款金额-分公司'!$A$2:$B$436,2,0) -> 201129.6 | K22: =G22-I22-J22 -> 0.4 | P22: 191552 | R22: =J22-P22-Q22 -> 9577.6 | S22: =J22/1.05-P22-Q22 -> 0 | T22: =J22/1.05*0.05-R22 -> 0 | U22: 不调整
A23: 19 | B23: A11-2-401 | C23: 81.76 | D23: 3108 | E23: =ROUND(IF(F23<>0,C23*D23,0),0) -> 254110 | F23: 努尔尼亚斯依明 | G23: 254110 | H23: =E23-G23 -> 0 | J23: =VLOOKUP(B23,'多浪一期账面房号及收款金额-分公司'!$A$2:$B$436,2,0) -> 254110 | K23: =G23-I23-J23 -> 0 | P23: 254110 | R23: =J23-P23-Q23 -> 0 | S23: =J23/1.05-P23-Q23 -> -12100.476 | T23: =J23/1.05*0.05-R23 -> 12100.476 | U23: 前期确认收入时未计提销项税，本期调整多确认的收入至销项税
A24: 20 | B24: A11-2-402 | C24: 81.76 | D24: 3108 | E24: =ROUND(IF(F24<>0,C24*D24,0),0) -> 254110 | F24: 阿那古力玉山 | G24: 110 | H24: =E24-G24 -> 254000 | K24: =G24-I24-J24 -> 110 | R24: =J24-P24-Q24 -> 0 | S24: =J24/1.05-P24-Q24 -> 0 | T24: =J24/1.05*0.05-R24 -> 0 | U24: 不调整
A25: 21 | B25: A11-2-501 | C25: 81.76 | D25: 2928 | E25: =ROUND(IF(F25<>0,C25*D25,0),0) -> 239393 | F25: 刘杰 | G25: 239393 | H25: =E25-G25 -> 0 | J25: =VLOOKUP(B25,'多浪一期账面房号及收款金额-分公司'!$A$2:$B$436,2,0) -> 239393 | K25: =G25-I25-J25 -> 0 | P25: 239393 | R25: =J25-P25-Q25 -> 0 | S25: =J25/1.05-P25-Q25 -> -11399.667 | T25: =J25/1.05*0.05-R25 -> 11399.667 | U25: 前期确认收入时未计提销项税，本期调整多确认的收入至销项税
A26: 22 | B26: A11-2-502 | C26: 81.76 | D26: 2928 | E26: =ROUND(IF(F26<>0,C26*D26,0),0) -> 239393 | F26: 黄屹东 | G26: 239393 | H26: =E26-G26 -> 0 | J26: =VLOOKUP(B26,'多浪一期账面房号及收款金额-分公司'!$A$2:$B$436,2,0) -> 239393 | K26: =G26-I26-J26 -> 0 | P26: 239393 | R26: =J26-P26-Q26 -> 0 | S26: =J26/1.05-P26-Q26 -> -11399.667 | T26: =J26/1.05*0.05-R26 -> 11399.667 | U26: 前期确认收入时未计提销项税，本期调整多确认的收入至销项税
A27: 23 | B27: A11-2-601 | C27: 81.76 | D27: 2530 | E27: =ROUND(IF(F27<>0,C27*D27,0),0) -> 206853 | F27: 芦永峰 | G27: 206853 | H27: =E27-G27 -> 0 | J27: =VLOOKUP(B27,'多浪一期账面房号及收款金额-分公司'!$A$2:$B$436,2,0) -> 206853 | K27: =G27-I27-J27 -> 0 | P27: 206853 | R27: =J27-P27-Q27 -> 0 | S27: =J27/1.05-P27-Q27 -> -9850.1429 | T27: =J27/1.05*0.05-R27 -> 9850.1429 | U27: 前期确认收入时未计提销项税，本期调整多确认的收入至销项税
A28: 24 | B28: A11-2-602 | C28: 81.76 | D28: 2530 | E28: =ROUND(IF(F28<>0,C28*D28,0),0) -> 206853 | F28: 艾则孜。麦麦提 | G28: 206853 | H28: =E28-G28 -> 0 | J28: =VLOOKUP(B28,'多浪一期账面房号及收款金额-分公司'!$A$2:$B$436,2,0) -> 206853 | K28: =G28-I28-J28 -> 0 | P28: 206853 | R28: =J28-P28-Q28 -> 0 | S28: =J28/1.05-P28-Q28 -> -9850.1429 | T28: =J28/1.05*0.05-R28 -> 9850.1429 | U28: 前期确认收入时未计提销项税，本期调整多确认的收入至销项税
A29: 25 | B29: A11-3-101 | C29: 81.76 | D29: 2500 | E29: =ROUND(IF(F29<>0,C29*D29,0),0) -> 204400 | F29: 艾力·尤努司 | G29: 204400 | H29: =E29-G29 -> 0 | J29: =VLOOKUP(B29,'多浪一期账面房号及收款金额-分公司'!$A$2:$B$436,2,0) -> 204399.3 | K29: =G29-I29-J29 -> 0.7 | P29: 194666 | R29: =J29-P29-Q29 -> 9733.3 | S29: =J29/1.05-P29-Q29 -> 0 | T29: =J29/1.05*0.05-R29 -> 0 | U29: 不调整
A30: 26 | B30: A11-3-102 | C30: 81.76 | D30: 2480.1 | E30: =ROUND(IF(F30<>0,C30*D30,0),0) -> 202773 | F30: 黑力且木·艾依提 | G30: 202773 | H30: =E30-G30 -> 0 | J30: =VLOOKUP(B30,'多浪一期账面房号及收款金额-分公司'!$A$2:$B$436,2,0) -> 202772.85 | K30: =G30-I30-J30 -> 0.15 | P30: 193117 | R30: =J30-P30-Q30 -> 9655.85 | S30: =J30/1.05-P30-Q30 -> 0 | T30: =J30/1.05*0.05-R30 -> 0 | U30: 不调整
A31: 27 | B31: A11-3-201 | C31: 81.76 | D31: 3368 | E31: =ROUND(IF(F31<>0,C31*D31,0),0) -> 275368 | F31: 吐尼亚孜斯地克 | G31: 275368 | H31: =E31-G31 -> 0 | J31: =VLOOKUP(B31,'多浪一期账面房号及收款金额-分公司'!$A$2:$B$436,2,0) -> 275368 | K31: =G31-I31-J31 -> 0 | P31: 275368 | R31: =J31-P31-Q31 -> 0 | S31: =J31/1.05-P31-Q31 -> -13112.762 | T31: =J31/1.05*0.05-R31 -> 13112.762 | U31: 前期确认收入时未计提销项税，本期调整多确认的收入至销项税
A32: 28 | B32: A11-3-202 | C32: 81.76 | D32: 3368 | E32: =ROUND(IF(F32<>0,C32*D32,0),0) -> 275368 | F32: 哈尼克孜·铁力瓦迪 | G32: 368 | H32: =E32-G32 -> 275000 | J32: =VLOOKUP(B32,'多浪一期账面房号及收款金额-分公司'!$A$2:$B$436,2,0) -> 368.55 | K32: =G32-I32-J32 -> -0.55 | P32: 351 | R32: =J32-P32-Q32 -> 17.55 | S32: =J32/1.05-P32-Q32 -> 0 | T32: =J32/1.05*0.05-R32 -> 0 | U32: 不调整
A33: 29 | B33: A11-3-301 | C33: 81.76 | D33: 2750 | E33: =ROUND(IF(F33<>0,C33*D33,0),0) -> 224840 | F33: 阿依古力古吉克 | G33: 500 | H33: =E33-G33 -> 224340 | J33: =VLOOKUP(B33,'多浪一期账面房号及收款金额-分公司'!$A$2:$B$436,2,0) -> 499.8 | K33: =G33-I33-J33 -> 0.2 | P33: 476 | R33: =J33-P33-Q33 -> 23.8 | S33: =J33/1.05-P33-Q33 -> 0 | T33: =J33/1.05*0.05-R33 -> 0 | U33: 不调整
A34: 30 | B34: A11-3-302 | C34: 81.76 | D34: 2500 | E34: =ROUND(IF(F34<>0,C34*D34,0),0) -> 204400 | F34: 木塔力甫·木合旦 | G34: 204400 | H34: =E34-G34 -> 0 | J34: =VLOOKUP(B34,'多浪一期账面房号及收款金额-分公司'!$A$2:$B$436,2,0) -> 204399.4 | K34: =G34-I34-J34 -> 0.595 | O34: =194666.67-194666.67 -> 0 | P34: 194666.1 | R34: =J34-P34-Q34 -> 9733.305 | S34: =J34/1.05-P34-Q34 -> 0 | T34: =J34/1.05*0.05-R34 -> 0 | U34: 不调整
A35: 31 | B35: A11-3-401 | C35: 81.76 | D35: 2858 | E35: =ROUND(IF(F35<>0,C35*D35,0),0) -> 233670 | F35: 古丽阿依夏目·艾买提 | G35: 670 | H35: =E35-G35 -> 233000 | J35: =VLOOKUP(B35,'多浪一期账面房号及收款金额-分公司'!$A$2:$B$436,2,0) -> 669.9 | K35: =G35-I35-J35 -> 0.1 | P35: 638 | R35: =J35-P35-Q35 -> 31.9 | S35: =J35/1.05-P35-Q35 -> 0 | T35: =J35/1.05*0.05-R35 -> 0 | U35: 不调整
A36: 32 | B36: A11-3-402 | C36: 81.76 | D36: 2200 | E36: =ROUND(IF(F36<>0,C36*D36,0),0) -> 179872 | F36: 吐拉汗·达尼 | G36: 179872 | H36: =E36-G36 -> 0 | J36: =VLOOKUP(B36,'多浪一期账面房号及收款金额-分公司'!$A$2:$B$436,2,0) -> 179872.35 | K36: =G36-I36-J36 -> -0.35 | P36: 171307 | R36: =J36-P36-Q36 -> 8565.35 | S36: =J36/1.05-P36-Q36 -> 0 | T36: =J36/1.05*0.05-R36 -> 0 | U36: 不调整
A37: 33 | B37: A11-3-501 | C37: 81.76 | D37: 2928 | E37: =ROUND(IF(F37<>0,C37*D37,0),0) -> 239393 | F37: 张新 | G37: 239393 | H37: =E37-G37 -> 0 | J37: =VLOOKUP(B37,'多浪一期账面房号及收款金额-分公司'!$A$2:$B$436,2,0) -> 239393 | K37: =G37-I37-J37 -> 0 | O37: 227993.33 | P37: 239393 | Q37: =227993.33-227993.33 -> 0 | R37: =J37-P37-Q37 -> 0 | S37: =J37/1.05-P37-Q37 -> -11399.667 | T37: =J37/1.05*0.05-R37 -> 11399.667 | U37: 前期确认收入时未计提销项税，本期调整多确认的收入至销项税
A38: 34 | B38: A11-3-502 | C38: 81.76 | D38: 2020 | E38: =ROUND(IF(F38<>0,C38*D38,0),0) -> 165155 | F38: 帕拉提居马 | G38: 165155 | H38: =E38-G38 -> 0 | J38: =VLOOKUP(B38,'多浪一期账面房号及收款金额-分公司'!$A$2:$B$436,2,0) -> 165155 | K38: =G38-I38-J38 -> 0 | P38: 165155 | R38: =J38-P38-Q38 -> 0 | S38: =J38/1.05-P38-Q38 -> -7864.5238 | T38: =J38/1.05*0.05-R38 -> 7864.5238 | U38: 前期确认收入时未计提销项税，本期调整多确认的收入至销项税
A39: 35 | B39: A11-3-601 | C39: 81.76 | D39: 1850 | E39: =ROUND(IF(F39<>0,C39*D39,0),0) -> 151256 | F39: 蒋达华 | G39: 151256 | H39: =E39-G39 -> 0 | J39: =VLOOKUP(B39,'多浪一期账面房号及收款金额-分公司'!$A$2:$B$436,2,0) -> 151256 | K39: =G39-I39-J39 -> 0 | P39: 151256 | R39: =J39-P39-Q39 -> 0 | S39: =J39/1.05-P39-Q39 -> -7202.6667 | T39: =J39/1.05*0.05-R39 -> 7202.6667 | U39: 前期确认收入时未计提销项税，本期调整多确认的收入至销项税
A40: 36 | B40: A11-3-602 | C40: 81.76 | D40: 2530 | E40: =ROUND(IF(F40<>0,C40*D40,0),0) -> 206853 | F40: 韩冰 | G40: 206853 | H40: =E40-G40 -> 0 | J40: =VLOOKUP(B40,'多浪一期账面房号及收款金额-分公司'!$A$2:$B$436,2,0) -> 206853 | K40: =G40-I40-J40 -> 0 | P40: 206853 | R40: =J40-P40-Q40 -> 0 | S40: =J40/1.05-P40-Q40 -> -9850.1429 | T40: =J40/1.05*0.05-R40 -> 9850.1429 | U40: 前期确认收入时未计提销项税，本期调整多确认的收入至销项税
...

Sheet 多浪小镇二期
B1: 房屋资料 | F1: 客户资料 | G1: 实收房款 | I1: 账面截至2023年10月累计回款金额 | K1: 台账与账面差异 | L1: 差异原因 | M1: 备注 | N1: 已开票金额 | P1: 已结转收入
A2: 序号 | B2: 房号 | C2: 面积 | D2: 确认销售 | F2: 姓名 | G2: 台账已收房款金额 | H2: 未收房款金额 | R2: 应结转收入 | S2: 应确认销项税 | T2: 本期结转收入 | U2: 本期确认销项税
D3: 单价 | E3: 房价 | I3: 预收账款 | J3: 应收账款 | Q3: 12月开票
A4: 1 | B4: A1-1-201 | C4: 77.25 | D4: 3000 | E4: =ROUND(IF(F4<>0,C4*D4,0),0) -> 231750 | F4: 帕旦木·阿不来提 | G4: 231750 | H4: =E4-G4 -> 0 | I4: =VLOOKUP(B4,多浪小区账面房号及收款金额!$A$2:$B$474,2,0) -> 231750 | K4: =G4-I4 -> 0 | N4: =VLOOKUP(B4,[2]信息汇总表!$M$2:$T$816,8,0) -> 231750 | O4: =N4/1.09 -> 212614.68 | P4: 212614.68 | R4: =I4/1.09 -> 212614.68 | S4: =R4*0.05 -> 10630.734 | T4: =R4-P4 -> -0.0011009174 | U4: =S4-(P4*0.05) -> -5.5045872e-05
A5: 2 | B5: A1-1-202 | C5: 72.37 | D5: 2980 | E5: =ROUND(IF(F5<>0,C5*D5,0),0) -> 215663 | F5: 古力扎尔·玉素甫（阿不都热依木·阿不来提） | G5: 215663 | H5: =E5-G5 -> 0 | I5: =VLOOKUP(B5,多浪小区账面房号及收款金额!$A$2:$B$474,2,0) -> 215663 | K5: =G5-I5 -> 0 | N5: =VLOOKUP(B5,[2]信息汇总表!$M$2:$T$816,8,0) -> 215663 | O5: =N5/1.09 -> 197855.96 | P5: 197855.96 | R5: =I5/1.09 -> 197855.96 | S5: =R5*0.05 -> 9892.7982 | T5: =R5-P5 -> 0.003302752 | U5: =S5-(P5*0.05) -> 0.0001651376
A6: 3 | B6: A1-1-301 | C6: 77.25 | D6: 2900 | E6: =ROUND(IF(F6<>0,C6*D6,0),0) -> 224025 | F6: 库尔班·吾休尔 | G6: 224025 | H6: =E6-G6 -> 0 | I6: =VLOOKUP(B6,多浪小区账面房号及收款金额!$A$2:$B$474,2,0) -> 224025 | K6: =G6-I6 -> 0 | N6: =VLOOKUP(B6,[2]信息汇总表!$M$2:$T$816,8,0) -> 224025 | O6: =N6/1.09 -> 205527.52 | P6: 205527.52 | R6: =I6/1.09 -> 205527.52 | S6: =R6*0.05 -> 10276.376 | T6: =R6-P6 -> 0.00293578 | U6: =S6-(P6*0.05) -> 0.000146789
A7: 4 | B7: A1-1-302 | C7: 72.37 | D7: 3000 | E7: =ROUND(IF(F7<>0,C7*D7,0),0) -> 217110 | F7: 古力巴哈尔·阿皮孜 | G7: 217110 | H7: =E7-G7 -> 0 | I7: =VLOOKUP(B7,多浪小区账面房号及收款金额!$A$2:$B$474,2,0) -> 217110 | K7: =G7-I7 -> 0 | O7: =N7/1.09 -> 0 | R7: =I7/1.09 -> 199183.49 | S7: =R7*0.05 -> 9959.1743 | T7: =R7-P7 -> 199183.49 | U7: =S7-(P7*0.05) -> 9959.1743
A8: 5 | B8: A1-1-401 | C8: 77.25 | D8: 2800 | E8: =ROUND(IF(F8<>0,C8*D8,0),0) -> 216300 | F8: 帕坦木·托合提尼牙孜 | G8: 216300 | H8: =E8-G8 -> 0 | I8: =VLOOKUP(B8,多浪小区账面房号及收款金额!$A$2:$B$474,2,0)+'2023年8-11月预收账款'!K36 -> 0 | K8: =G8-I8 -> 216300 | N8: =VLOOKUP(B8,[2]信息汇总表!$M$2:$T$816,8,0) -> 216300 | O8: =N8/1.09 -> 198440.37 | P8: 198440.37 | R8: 0 | S8: =R8*0.05 -> 0 | T8: =R8-P8 -> -198440.37 | U8: =S8-(P8*0.05) -> -9922.0185
A9: 6 | B9: A1-1-402 | C9: 72.37 | D9: 2850 | E9: =ROUND(IF(F9<>0,C9*D9,0),0) -> 206255 | F9: 艾尼瓦·阿布拉 | G9: 206255 | H9: =E9-G9 -> 0 | I9: =VLOOKUP(B9,多浪小区账面房号及收款金额!$A$2:$B$474,2,0) -> 206255 | K9: =G9-I9 -> 0 | N9: 206255 | O9: =N9/1.09 -> 189224.77 | R9: =I9/1.09 -> 189224.77 | S9: =R9*0.05 -> 9461.2385 | T9: =R9-P9 -> 189224.77 | U9: =S9-(P9*0.05) -> 9461.2385
A10: 7 | B10: A1-1-501 | C10: 77.25 | D10: 2683.28 | E10: =ROUND(IF(F10<>0,C10*D10,0),0) -> 207283 | F10: 巴哈尔古丽·吐尼亚孜 | G10: 207283 | H10: =E10-G10 -> 0 | I10: =VLOOKUP(B10,多浪小区账面房号及收款金额!$A$2:$B$474,2,0) -> 137224 | K10: =G10-I10 -> 70059 | L10: 房号挂串，见多浪小镇一期C5-3-601 | N10: =VLOOKUP(B10,[2]信息汇总表!$M$2:$T$816,8,0) -> 207283 | O10: =N10/1.09 -> 190167.89 | P10: 125901 | R10: =G10/1.09 -> 190167.89 | S10: =R10*0.05 -> 9508.3945 | T10: =R10-P10 -> 64266.89 | U10: =T10*0.09 -> 5784.0201
A11: 8 | B11: A1-1-502 | C11: 72.37 | D11: 2650.01 | E11: =ROUND(IF(F11<>0,C11*D11,0),0) -> 191781 | F11: 麦合木提·木塔力甫 | G11: 191781 | H11: =E11-G11 -> 0 | I11: =VLOOKUP(B11,多浪小区账面房号及收款金额!$A$2:$B$474,2,0) -> 191781 | K11: =G11-I11 -> 0 | O11: =N11/1.09 -> 0 | R11: =I11/1.09 -> 175945.87 | S11: =R11*0.05 -> 8797.2936 | T11: =R11-P11 -> 175945.87 | U11: =S11-(P11*0.05) -> 8797.2936
A12: 9 | B12: A1-1-601 | C12: 77.25 | D12: 2600 | E12: =ROUND(IF(F12<>0,C12*D12,0),0) -> 200850 | F12: 麦麦提艾力·阿卜杜克热木 | G12: 200850 | H12: =E12-G12 -> 0 | I12: =VLOOKUP(B12,多浪小区账面房号及收款金额!$A$2:$B$474,2,0) -> 200850 | K12: =G12-I12 -> 0 | N12: =VLOOKUP(B12,[2]信息汇总表!$M$2:$T$816,8,0) -> 200850 | O12: =N12/1.09 -> 184266.06 | P12: 184266.06 | R12: =I12/1.09 -> 184266.06 | S12: =R12*0.05 -> 9213.3028 | T12: =R12-P12 -> -0.004954128 | U12: =S12-(P12*0.05) -> -0.0002477064
A13: 10 | B13: A1-1-602 | C13: 72.37 | D13: 2700 | E13: =ROUND(IF(F13<>0,C13*D13,0),0) -> 195399 | F13: 吐尔逊·阿布来提 | G13: 195399 | H13: =E13-G13 -> 0 | I13: =VLOOKUP(B13,多浪小区账面房号及收款金额!$A$2:$B$474,2,0) -> 195399 | K13: =G13-I13 -> 0 | O13: =N13/1.09 -> 0 | R13: =I13/1.09 -> 179265.14 | S13: =R13*0.05 -> 8963.2569 | T13: =R13-P13 -> 179265.14 | U13: =S13-(P13*0.05) -> 8963.2569
A14: 11 | B14: A1-2-201 | C14: 72.37 | D14: 3038.9 | E14: =ROUND(IF(F14<>0,C14*D14,0),0) -> 219925 | F14: 阿依古力·哈斯木 | G14: 175925 | H14: =E14-G14 -> 44000 | I14: =VLOOKUP(B14,多浪小区账面房号及收款金额!$A$2:$B$474,2,0) -> 175925 | K14: =G14-I14 -> 0 | O14: =N14/1.09 -> 0 | R14: =I14/1.09 -> 161399.08 | S14: =R14*0.05 -> 8069.9541 | T14: =R14-P14 -> 161399.08 | U14: =S14-(P14*0.05) -> 8069.9541
A15: 12 | B15: A1-2-202 | C15: 72.37 | D15: 2984.66 | E15: =ROUND(IF(F15<>0,C15*D15,0),0) -> 216000 | F15: 库尔班·麦麦提 | G15: 216000 | H15: =E15-G15 -> 0 | I15: =VLOOKUP(B15,多浪小区账面房号及收款金额!$A$2:$B$474,2,0) -> 216000 | K15: =G15-I15 -> 0 | O15: =N15/1.09 -> 0 | R15: =I15/1.09 -> 198165.14 | S15: =R15*0.05 -> 9908.2569 | T15: =R15-P15 -> 198165.14 | U15: =S15-(P15*0.05) -> 9908.2569
A16: 13 | B16: A1-2-301 | C16: 72.37 | D16: 3000 | E16: =ROUND(IF(F16<>0,C16*D16,0),0) -> 217110 | F16: 阿布都哈力克·依马木尼亚孜，阿瓦古丽·亚森 | G16: 217110 | H16: =E16-G16 -> 0 | I16: =VLOOKUP(B16,多浪小区账面房号及收款金额!$A$2:$B$474,2,0) -> 217110 | K16: =G16-I16 -> 0 | N16: =VLOOKUP(B16,[2]信息汇总表!$M$2:$T$816,8,0) -> 217110 | O16: =N16/1.09 -> 199183.49 | P16: 199183.49 | R16: =I16/1.09 -> 199183.49 | S16: =R16*0.05 -> 9959.1743 | T16: =R16-P16 -> -0.003761468 | U16: =S16-(P16*0.05) -> -0.0001880734
A17: 14 | B17: A1-2-302 | C17: 72.37 | D17: 3000 | E17: =ROUND(IF(F17<>0,C17*D17,0),0) -> 217110 | F17: 古丽齐曼·米热吾提 | G17: 217110 | H17: =E17-G17 -> 0 | I17: =VLOOKUP(B17,多浪小区账面房号及收款金额!$A$2:$B$474,2,0) -> 217220 | K17: =G17-I17 -> -110 | L17: 收款大于结转110元 | N17: =VLOOKUP(B17,[2]信息汇总表!$M$2:$T$816,8,0) -> 217110 | O17: =N17/1.09 -> 199183.49 | P17: 199183.49 | R17: =I17/1.09 -> 199284.4 | S17: =R17*0.05 -> 9964.2202 | T17: =R17-P17 -> 100.91743 | U17: =S17-(P17*0.05) -> 5.0458716
A18: 15 | B18: A1-2-401 | C18: 72.37 | D18: 2900 | E18: =ROUND(IF(F18<>0,C18*D18,0),0) -> 209873 | F18: 塔依尔·吐尔逊 | G18: 209873 | H18: =E18-G18 -> 0 | I18: =VLOOKUP(B18,多浪小区账面房号及收款金额!$A$2:$B$474,2,0) -> 209873 | K18: =G18-I18 -> 0 | N18: =VLOOKUP(B18,[2]信息汇总表!$M$2:$T$816,8,0) -> 209873 | O18: =N18/1.09 -> 192544.04 | P18: 192544.04 | R18: =I18/1.09 -> 192544.04 | S18: =R18*0.05 -> 9627.2018 | T18: =R18-P18 -> -0.003302752 | U18: =S18-(P18*0.05) -> -0.0001651376
A19: 16 | B19: A1-2-402 | C19: 72.37 | D19: 2838.91 | E19: =ROUND(IF(F19<>0,C19*D19,0),0) -> 205452 | F19: 穆瓦罕·阿西木 | G19: 205452 | H19: =E19-G19 -> 0 | I19: =VLOOKUP(B19,多浪小区账面房号及收款金额!$A$2:$B$474,2,0) -> 205452 | K19: =G19-I19 -> 0 | N19: =VLOOKUP(B19,[2]信息汇总表!$M$2:$T$816,8,0) -> 205452 | O19: =N19/1.09 -> 188488.07 | P19: 188488.07 | R19: =I19/1.09 -> 188488.07 | S19: =R19*0.05 -> 9424.4037 | T19: =R19-P19 -> 0.003394495 | U19: =S19-(P19*0.05) -> 0.00016972475
A20: 17 | B20: A1-2-501 | C20: 72.37 | D20: 2700 | E20: =ROUND(IF(F20<>0,C20*D20,0),0) -> 195399 | F20: 玉素甫·麦麦提 | G20: 195399 | H20: =E20-G20 -> 0 | I20: =VLOOKUP(B20,多浪小区账面房号及收款金额!$A$2:$B$474,2,0) -> 195399 | K20: =G20-I20 -> 0 | O20: =N20/1.09 -> 0 | R20: =I20/1.09 -> 179265.14 | S20: =R20*0.05 -> 8963.2569 | T20: =R20-P20 -> 179265.14 | U20: =S20-(P20*0.05) -> 8963.2569
A21: 18 | B21: A1-2-502 | C21: 72.37 | D21: 2690 | E21: =ROUND(IF(F21<>0,C21*D21,0),0) -> 194675 | F21: 艾麦提·阿合尼亚孜 | G21: 194675 | H21: =E21-G21 -> 0 | I21: =VLOOKUP(B21,多浪小区账面房号及收款金额!$A$2:$B$474,2,0) -> 194675 | K21: =G21-I21 -> 0 | N21: =VLOOKUP(B21,[2]信息汇总表!$M$2:$T$816,8,0) -> 194675 | O21: =N21/1.09 -> 178600.92 | P21: 178600.92 | R21: =I21/1.09 -> 178600.92 | S21: =R21*0.05 -> 8930.0459 | T21: =R21-P21 -> -0.002568807 | U21: =S21-(P21*0.05) -> -0.00012844035
A22: 19 | B22: A1-2-601 | C22: 72.37 | D22: 2680 | E22: =ROUND(IF(F22<>0,C22*D22,0),0) -> 193952 | F22: 阿斯艳木·吐逊 | G22: 193952 | H22: =E22-G22 -> 0 | I22: =VLOOKUP(B22,多浪小区账面房号及收款金额!$A$2:$B$474,2,0) -> 193952 | K22: =G22-I22 -> 0 | O22: =N22/1.09 -> 0 | R22: =I22/1.09 -> 177937.61 | S22: =R22*0.05 -> 8896.8807 | T22: =R22-P22 -> 177937.61 | U22: =S22-(P22*0.05) -> 8896.8807
A23: 20 | B23: A1-2-602 | C23: 72.37 | D23: 2700 | E23: =ROUND(IF(F23<>0,C23*D23,0),0) -> 195399 | F23: 艾麦提·亚森 | G23: 195400 | H23: =E23-G23 -> -1 | I23: =VLOOKUP(B23,多浪小区账面房号及收款金额!$A$2:$B$474,2,0) -> 195400 | K23: =G23-I23 -> 0 | N23: =VLOOKUP(B23,[2]信息汇总表!$M$2:$T$816,8,0) -> 195399 | O23: =N23/1.09 -> 179265.14 | P23: 179265.14 | R23: =I23/1.09 -> 179266.06 | S23: =R23*0.05 -> 8963.3028 | T23: =R23-P23 -> 0.91504587 | U23: =S23-(P23*0.05) -> 0.045752294
A24: 21 | B24: A1-3-201 | C24: 72.37 | D24: 2978.9 | E24: =ROUND(IF(F24<>0,C24*D24,0),0) -> 215583 | F24: 阿斯牙木·阿吾提 | G24: 215583 | H24: =E24-G24 -> 0 | I24: =VLOOKUP(B24,多浪小区账面房号及收款金额!$A$2:$B$474,2,0) -> 215583 | K24: =G24-I24 -> 0 | N24: =VLOOKUP(B24,[2]信息汇总表!$M$2:$T$816,8,0) -> 215583 | O24: =N24/1.09 -> 197782.57 | P24: 197782.57 | R24: =I24/1.09 -> 197782.57 | S24: =R24*0.05 -> 9889.1284 | T24: =R24-P24 -> -0.001192661 | U24: =S24-(P24*0.05) -> -5.963305e-05
A25: 22 | B25: A1-3-202 | C25: 77.25 | D25: 3033 | E25: =ROUND(IF(F25<>0,C25*D25,0),0) -> 234299 | F25: 木塔力甫·麦麦提（托乎提·沙吾尔） | G25: 234299 | H25: =E25-G25 -> 0 | I25: =VLOOKUP(B25,多浪小区账面房号及收款金额!$A$2:$B$474,2,0) -> 234299 | K25: =G25-I25 -> 0 | N25: =VLOOKUP(B25,[2]信息汇总表!$M$2:$T$816,8,0) -> 234299 | O25: =N25/1.09 -> 214953.21 | P25: 214953.21 | R25: =I25/1.09 -> 214953.21 | S25: =R25*0.05 -> 10747.661 | T25: =R25-P25 -> 0.001009174 | U25: =S25-(P25*0.05) -> 5.0458701e-05
A26: 23 | B26: A1-3-301 | C26: 72.37 | D26: 2950 | E26: =ROUND(IF(F26<>0,C26*D26,0),0) -> 213492 | F26: 阿斯古丽·图尔荪（吐尔逊·阿不都热西提） | G26: 213492 | H26: =E26-G26 -> 0 | I26: =VLOOKUP(B26,多浪小区账面房号及收款金额!$A$2:$B$474,2,0) -> 218492 | K26: =G26-I26 -> -5000 | L26: 2018年10月收款未计入台账 | M26: 检查2018-10-2#凭证 | N26: =VLOOKUP(B26,[2]信息汇总表!$M$2:$T$816,8,0) -> 213492 | O26: =N26/1.09 -> 195864.22 | R26: =I26/1.09 -> 200451.38 | S26: =R26*0.05 -> 10022.569 | T26: =R26-P26 -> 200451.38 | U26: =S26-(P26*0.05) -> 10022.569
A27: 24 | B27: A1-3-302 | C27: 77.25 | D27: 2900 | E27: =ROUND(IF(F27<>0,C27*D27,0),0) -> 224025 | F27: 努尔郎·毛拉吾提 | G27: 224025 | H27: =E27-G27 -> 0 | I27: =VLOOKUP(B27,多浪小区账面房号及收款金额!$A$2:$B$474,2,0) -> 224025 | K27: =G27-I27 -> 0 | O27: =N27/1.09 -> 0 | R27: =I27/1.09 -> 205527.52 | S27: =R27*0.05 -> 10276.376 | T27: =R27-P27 -> 205527.52 | U27: =S27-(P27*0.05) -> 10276.376
A28: 25 | B28: A1-3-401 | C28: 72.37 | D28: 2880 | E28: =ROUND(IF(F28<>0,C28*D28,0),0) -> 208426 | F28: 居麦克·麦麦提(艾热提·米基提) | G28: 208426 | H28: =E28-G28 -> 0 | I28: =VLOOKUP(B28,多浪小区账面房号及收款金额!$A$2:$B$474,2,0) -> 208426 | K28: =G28-I28 -> 0 | N28: =VLOOKUP(B28,[2]信息汇总表!$M$2:$T$816,8,0) -> 208426 | O28: =N28/1.09 -> 191216.51 | P28: 191216.51 | R28: =I28/1.09 -> 191216.51 | S28: =R28*0.05 -> 9560.8257 | T28: =R28-P28 -> 0.003761468 | U28: =S28-(P28*0.05) -> 0.0001880734
A29: 26 | B29: A1-3-402 | C29: 77.25 | D29: 2850 | E29: =ROUND(IF(F29<>0,C29*D29,0),0) -> 220163 | F29: 阿孜古力·托合提 | G29: 218163 | H29: =E29-G29 -> 2000 | I29: =VLOOKUP(B29,多浪小区账面房号及收款金额!$A$2:$B$474,2,0) -> 218163 | K29: =G29-I29 -> 0 | O29: =N29/1.09 -> 0 | R29: =I29/1.09 -> 200149.54 | S29: =R29*0.05 -> 10007.477 | T29: =R29-P29 -> 200149.54 | U29: =S29-(P29*0.05) -> 10007.477
A30: 27 | B30: A1-3-501 | C30: 72.37 | D30: 2700 | E30: =ROUND(IF(F30<>0,C30*D30,0),0) -> 195399 | F30: 吐尔逊·阿布拉 | G30: 195399 | H30: =E30-G30 -> 0 | I30: =VLOOKUP(B30,多浪小区账面房号及收款金额!$A$2:$B$474,2,0) -> 195399 | K30: =G30-I30 -> 0 | N30: 179265.14 | O30: =N30/1.09 -> 164463.43 | Q30: =I30/1.09 -> 179265.14 | R30: =I30/1.09 -> 179265.14 | S30: =R30*0.05 -> 8963.2569 | T30: =R30-P30 -> 179265.14 | U30: =S30-(P30*0.05) -> 8963.2569
A31: 28 | B31: A1-3-502 | C31: 77.25 | D31: 2700 | E31: =ROUND(IF(F31<>0,C31*D31,0),0) -> 208575 | F31: 图尔贡·阿西尔 | G31: 208575 | H31: =E31-G31 -> 0 | I31: =VLOOKUP(B31,多浪小区账面房号及收款金额!$A$2:$B$474,2,0) -> 208575 | K31: =G31-I31 -> 0 | O31: =N31/1.09 -> 0 | R31: =I31/1.09 -> 191353.21 | S31: =R31*0.05 -> 9567.6606 | T31: =R31-P31 -> 191353.21 | U31: =S31-(P31*0.05) -> 9567.6606
A32: 29 | B32: A1-3-601 | C32: 72.37 | D32: 2750 | E32: =ROUND(IF(F32<>0,C32*D32,0),0) -> 199018 | F32: 再吐尼汗·肉孜（阿不力米提·卡地尔） | G32: 186780 | H32: =E32-G32 -> 12238 | I32: =VLOOKUP(B32,多浪小区账面房号及收款金额!$A$2:$B$474,2,0) -> 186780 | K32: =G32-I32 -> 0 | O32: =N32/1.09 -> 0 | R32: =I32/1.09 -> 171357.8 | S32: =R32*0.05 -> 8567.8899 | T32: =R32-P32 -> 171357.8 | U32: =S32-(P32*0.05) -> 8567.8899
A33: 30 | B33: A1-3-602 | C33: 77.25 | D33: 2600 | E33: =ROUND(IF(F33<>0,C33*D33,0),0) -> 200850 | F33: 热西丹·卡合尔曼 | G33: 200850 | H33: =E33-G33 -> 0 | I33: =VLOOKUP(B33,多浪小区账面房号及收款金额!$A$2:$B$474,2,0) -> 200850 | K33: =G33-I33 -> 0 | N33: =VLOOKUP(B33,[2]信息汇总表!$M$2:$T$816,8,0) -> 200850 | O33: =N33/1.09 -> 184266.06 | P33: 184266.06 | R33: =I33/1.09 -> 184266.06 | S33: =R33*0.05 -> 9213.3028 | T33: =R33-P33 -> -0.004954128 | U33: =S33-(P33*0.05) -> -0.0002477064
A34: 31 | B34: A2-1-201 | C34: 94.94 | D34: 2980 | E34: =ROUND(IF(F34<>0,C34*D34,0),0) -> 282921 | F34: 古丽阿依木·吐尼亚孜 | G34: 112921.2 | H34: =E34-G34 -> 169999.8 | I34: ='2023年8-11月预收账款'!K12+'2023年8-11月预收账款'!K27 -> 112921.2 | K34: =G34-I34 -> 0 | L34: 2023年5月账面已退还房款，台账未记录 | O34: =N34/1.09 -> 0 | P34: 2680 | R34: =I34/1.09 -> 103597.43 | S34: =R34*0.05 -> 5179.8716 | T34: =R34-P34 -> 100917.43 | U34: =S34-(P34*0.05) -> 5045.8716
A35: 32 | B35: A2-1-202 | C35: 54.91 | D35: 3031.56 | E35: =ROUND(IF(F35<>0,C35*D35,0),0) -> 166463 | F35: 古尼沙汗·托乎提 | G35: 166463 | H35: =E35-G35 -> 0 | I35: =VLOOKUP(B35,多浪小区账面房号及收款金额!$A$2:$B$474,2,0) -> 166463 | K35: =G35-I35 -> 0 | O35: =N35/1.09 -> 0 | R35: =I35/1.09 -> 152718.35 | S35: =R35*0.05 -> 7635.9174 | T35: =R35-P35 -> 152718.35 | U35: =S35-(P35*0.05) -> 7635.9174
A36: 33 | B36: A2-1-203 | C36: 78.52 | D36: 2850 | E36: =ROUND(IF(F36<>0,C36*D36,0),0) -> 223782 | F36: 麦热木尼沙汗·提来木 | G36: 223782 | H36: =E36-G36 -> 0 | I36: =VLOOKUP(B36,多浪小区账面房号及收款金额!$A$2:$B$474,2,0) -> 223782 | K36: =G36-I36 -> 0 | N36: =VLOOKUP(B36,[2]信息汇总表!$M$2:$T$816,8,0) -> 223782 | O36: =N36/1.09 -> 205304.59 | P36: 205304.59 | R36: =I36/1.09 -> 205304.59 | S36: =R36*0.05 -> 10265.229 | T36: =R36-P36 -> -0.002844037 | U36: =S36-(P36*0.05) -> -0.00014220185
A37: 34 | B37: A2-1-301 | C37: 94.94 | D37: 3100 | E37: =ROUND(IF(F37<>0,C37*D37,0),0) -> 294314 | F37: 阿迪力·托合提 | G37: 294314 | H37: =E37-G37 -> 0 | I37: =VLOOKUP(B37,多浪小区账面房号及收款金额!$A$2:$B$474,2,0) -> 294314 | K37: =G37-I37 -> 0 | N37: =VLOOKUP(B37,[2]信息汇总表!$M$2:$T$816,8,0) -> 294314 | O37: =N37/1.09 -> 270012.84 | P37: 270012.84 | R37: =I37/1.09 -> 270012.84 | S37: =R37*0.05 -> 13500.642 | T37: =R37-P37 -> 0.004036697 | U37: =S37-(P37*0.05) -> 0.00020183485
A38: 35 | B38: A2-1-302 | C38: 54.91 | D38: 2931.58 | E38: =ROUND(IF(F38<>0,C38*D38,0),0) -> 160973 | F38: 木合旦·亚森（阿里木江·吐尔逊） | G38: 160973 | H38: =E38-G38 -> 0 | I38: =VLOOKUP(B38,多浪小区账面房号及收款金额!$A$2:$B$474,2,0) -> 160973 | K38: =G38-I38 -> 0 | O38: =N38/1.09 -> 0 | R38: =I38/1.09 -> 147681.65 | S38: =R38*0.05 -> 7384.0826 | T38: =R38-P38 -> 147681.65 | U38: =S38-(P38*0.05) -> 7384.0826
A39: 36 | B39: A2-1-303 | C39: 78.52 | D39: 2950 | E39: =ROUND(IF(F39<>0,C39*D39,0),0) -> 231634 | F39: 沙吾提·艾海提改为阿依吐尔迪·吐尼亚孜 | G39: 231634 | H39: =E39-G39 -> 0 | I39: =VLOOKUP(B39,多浪小区账面房号及收款金额!$A$2:$B$474,2,0) -> 231634 | K39: =G39-I39 -> 0 | O39: =N39/1.09 -> 0 | R39: =I39/1.09 -> 212508.26 | S39: =R39*0.05 -> 10625.413 | T39: =R39-P39 -> 212508.26 | U39: =S39-(P39*0.05) -> 10625.413
A40: 37 | B40: A2-1-401 | C40: 94.94 | D40: 3000 | E40: =ROUND(IF(F40<>0,C40*D40,0),0) -> 284820 | F40: 阿不拉·赛买提 | G40: 284820 | H40: =E40-G40 -> 0 | I40: =VLOOKUP(B40,多浪小区账面房号及收款金额!$A$2:$B$474,2,0) -> 284820 | K40: =G40-I40 -> 0 | N40: =VLOOKUP(B40,[2]信息汇总表!$M$2:$T$816,8,0) -> 284820 | O40: =N40/1.09 -> 261302.75 | P40: 261302.75 | R40: =I40/1.09 -> 261302.75 | S40: =R40*0.05 -> 13065.138 | T40: =R40-P40 -> 0.002293578 | U40: =S40-(P40*0.05) -> 0.0001146789
...

Sheet 阿克苏分公司预收账款
B1: 账簿 | C1: 年 | D1: 月 | E1: 凭证号 | F1: 摘要 | G1: 科目代码 | H1: 科目名称 | I1: 借 | J1: 贷 | K1: 单位代码 | L1: 单位名称 | N1: 确认后的房号 | O1: 贷方计算后的含税金额 | P1: 备注
B2: 新疆通力房地产开发有限公司阿克苏分公司 | C2: 2010 | D2: 1 | E2: 6 | F2: 退房款俞琦原附件在10月7号单 | G2: 2004 | H2: 预收帐款 | I2: 30000 | K2: 0006 | L2: 15-A-1001俞琦 | N2: 15-A-1001俞琦 | O2: 0
B3: 新疆通力房地产开发有限公司阿克苏分公司 | C3: 2010 | D3: 4 | E3: 6 | F3: 武杰购房预付款 | G3: 2004 | H3: 预收帐款 | J3: 30000 | K3: 0021 | L3: 15#-B座-1103武杰 | N3: 15#-B座-1103武杰 | O3: 30000
B4: 新疆通力房地产开发有限公司阿克苏分公司 | C4: 2010 | D4: 4 | E4: 6 | F4: 塔依尔购房预付款 | G4: 2004 | H4: 预收帐款 | J4: 20000 | K4: 0022 | L4: A15-802 | N4: A15-802 | O4: 20000
B5: 新疆通力房地产开发有限公司阿克苏分公司 | C5: 2010 | D5: 5 | E5: 52 | F5: 退段毅购房定金（3019） | G5: 2004 | H5: 预收帐款 | J5: -20000 | K5: 0019 | L5: A座-1102房-段毅 | N5: A座-1102房-段毅 | O5: -20000
B6: 新疆通力房地产开发有限公司阿克苏分公司 | C6: 2012 | D6: 9 | E6: 4 | F6: 收多浪小镇购房款 | G6: 2004 | H6: 预收帐款 | J6: 3820000 | K6: 0023 | L6: 阿克苏城乡建设发展集团有限公司 | N6: 阿克苏城乡建设发展集团有限公司 | O6: 3820000
B7: 新疆通力房地产开发有限公司阿克苏分公司 | C7: 2012 | D7: 9 | E7: 63 | F7: 城投公司支付房款 | G7: 2004 | H7: 预收帐款 | J7: 5000000 | K7: 0023 | L7: 阿克苏城乡建设发展集团有限公司 | N7: 阿克苏城乡建设发展集团有限公司 | O7: 5000000
B8: 新疆通力房地产开发有限公司阿克苏分公司 | C8: 2012 | D8: 10 | E8: 19 | F8: 城投公司付多浪小镇房款 | G8: 2004 | H8: 预收帐款 | J8: 2710000 | K8: 0023 | L8: 阿克苏城乡建设发展集团有限公司 | N8: 阿克苏城乡建设发展集团有限公司 | O8: 2710000
B9: 新疆通力房地产开发有限公司阿克苏分公司 | C9: 2012 | D9: 11 | E9: 43 | F9: 收到多浪小镇购房款 | G9: 2004 | H9: 预收帐款 | J9: 1000000 | K9: 0023 | L9: 阿克苏城乡建设发展集团有限公司 | N9: 阿克苏城乡建设发展集团有限公司 | O9: 1000000
B10: 新疆通力房地产开发有限公司阿克苏分公司 | C10: 2012 | D10: 12 | E10: 33 | F10: 调11月43#凭证 | G10: 2004 | H10: 预收帐款 | I10: 1000000 | K10: 0023 | L10: 阿克苏城乡建设发展集团有限公司 | N10: 阿克苏城乡建设发展集团有限公司 | O10: 0
B11: 新疆通力房地产开发有限公司阿克苏分公司 | C11: 2013 | D11: 8 | E11: 31 | F11: 收多浪小镇廉租房房款 | G11: 2004 | H11: 预收帐款 | J11: 3360000 | K11: 0024 | L11: 阿克苏市城镇住房保障管理办公室 | N11: 阿克苏市城镇住房保障管理办公室 | O11: 3360000
B12: 新疆通力房地产开发有限公司阿克苏分公司 | C12: 2013 | D12: 11 | E12: 36 | F12: 收20套廉租房房款 | G12: 2004 | H12: 预收帐款 | J12: 700000 | K12: 0024 | L12: 阿克苏市城镇住房保障管理办公室 | N12: 阿克苏市城镇住房保障管理办公室 | O12: 700000
B13: 新疆通力房地产开发有限公司阿克苏分公司 | C13: 2013 | D13: 11 | E13: 52 | F13: 收多浪廉租房房款 | G13: 2004 | H13: 预收帐款 | J13: 2016000 | K13: 0024 | L13: 阿克苏市城镇住房保障管理办公室 | N13: 阿克苏市城镇住房保障管理办公室 | O13: 2016000
B14: 新疆通力房地产开发有限公司阿克苏分公司 | C14: 2013 | D14: 12 | E14: 17 | F14: 收工程款 | G14: 2004 | H14: 预收帐款 | J14: 420000 | K14: 0024 | L14: 阿克苏市城镇住房保障管理办公室 | N14: 阿克苏市城镇住房保障管理办公室 | O14: 420000
B15: 新疆通力房地产开发有限公司阿克苏分公司 | C15: 2014 | D15: 8 | E15: 4 | F15: 收财政局多浪房款 | G15: 2004 | H15: 预收帐款 | J15: 864864 | K15: 0023 | L15: 阿克苏城乡建设发展集团有限公司 | N15: 阿克苏城乡建设发展集团有限公司 | O15: 864864
B16: 新疆通力房地产开发有限公司阿克苏分公司 | C16: 2016 | D16: 1 | E16: 12 | F16: 借款转预收 | G16: 2004 | H16: 预收帐款 | J16: 279456 | K16: 0073 | L16: A11-1-102 | N16: A11-1-102 | O16: 279456
B17: 新疆通力房地产开发有限公司阿克苏分公司 | C17: 2016 | D17: 1 | E17: 12 | F17: 借款转预收 | G17: 2004 | H17: 预收帐款 | J17: 276614 | K17: 0074 | L17: A11-1-201 | N17: A11-1-201 | O17: 276614
B18: 新疆通力房地产开发有限公司阿克苏分公司 | C18: 2016 | D18: 1 | E18: 12 | F18: 借款转预收 | G18: 2004 | H18: 预收帐款 | J18: 254110 | K18: 0075 | L18: A11-1-402 | N18: A11-1-402 | O18: 254110
B19: 新疆通力房地产开发有限公司阿克苏分公司 | C19: 2016 | D19: 1 | E19: 12 | F19: 借款转预收 | G19: 2004 | H19: 预收帐款 | J19: 238834 | K19: 0076 | L19: A11-1-501 | N19: A11-1-501 | O19: 238834
B20: 新疆通力房地产开发有限公司阿克苏分公司 | C20: 2016 | D20: 1 | E20: 12 | F20: 借款转预收 | G20: 2004 | H20: 预收帐款 | J20: 237758 | K20: 0077 | L20: A11-1-502 | N20: A11-1-502 | O20: 237758
B21: 新疆通力房地产开发有限公司阿克苏分公司 | C21: 2016 | D21: 1 | E21: 12 | F21: 借款转预收 | G21: 2004 | H21: 预收帐款 | J21: 205982 | K21: 0078 | L21: A11-1-601 | N21: A11-1-601 | O21: 205982
B22: 新疆通力房地产开发有限公司阿克苏分公司 | C22: 2016 | D22: 1 | E22: 12 | F22: 借款转预收 | G22: 2004 | H22: 预收帐款 | J22: 205054 | K22: 0079 | L22: A11-1-602 | N22: A11-1-602 | O22: 205054
... B145: 新疆通力房地产开发有限公司阿克苏分公司 | C145: 2017 | D145: 1 | E145: 14 | F145: C4-2-601麦热耶姆·艾麦提 | G145: 2004 | H145: 预收帐款 | J145: 4762 | K145: 0097 | L145: C4-2-601 | N145: C4-2-601 | O145: 5000.1
B146: 新疆通力房地产开发有限公司阿克苏分公司 | C146: 2017 | D146: 1 | E146: 15 | F146: C8-2-502帕坦木·艾麦提 | G146: 2004 | H146: 预收帐款 | J146: 62960 | K146: 0098 | L146: C8-2-502 | N146: C8-2-502 | O146: 66108 | P146: =O146-J146 -> 3148
B147: 新疆通力房地产开发有限公司阿克苏分公司 | C147: 2017 | D147: 1 | E147: 16 | F147: C11-2-502肉孜·阿吾提 | G147: 2004 | H147: 预收帐款 | J147: 6667 | K147: 0047 | L147: C11-2-502 | N147: C11-2-502 | O147: 7000.35
B148: 新疆通力房地产开发有限公司阿克苏分公司 | C148: 2017 | D148: 1 | E148: 17 | F148: C11-1-301麦热牙木·艾麦尔 | G148: 2004 | H148: 预收帐款 | J148: 5714 | K148: 0099 | L148: C11-1-301 | N148: C11-1-301 | O148: 5999.7
B149: 新疆通力房地产开发有限公司阿克苏分公司 | C149: 2017 | D149: 1 | E149: 18 | F149: C11-4-401木哈拜提·胡达拜提 | G149: 2004 | H149: 预收帐款 | J149: 106667 | K149: 0056 | L149: C11-4-401 | N149: C11-4-401 | O149: 112000.35
B150: 新疆通力房地产开发有限公司阿克苏分公司 | C150: 2017 | D150: 1 | E150: 19 | F150: C11-1-302莫合旦尔·艾合旦木 | G150: 2004 | H150: 预收帐款 | J150: 9524 | K150: 0100 | L150: C11-1-302 | N150: C11-1-302 | O150: 10000.2
B151: 新疆通力房地产开发有限公司阿克苏分公司 | C151: 2017 | D151: 1 | E151: 20 | F151: C11-4-502努尔尼沙·艾山 | G151: 2004 | H151: 预收帐款 | J151: 17190 | K151: 0039 | L151: C11-4-502 | N151: C11-4-502 | O151: 18049.5
B152: 新疆通力房地产开发有限公司阿克苏分公司 | C152: 2017 | D152: 1 | E152: 21 | F152: C8-1-602艾亥提·巴拉提 | G152: 2004 | H152: 预收帐款 | J152: 14286 | K152: 0049 | L152: C8-1-602 | N152: C8-1-602 | O152: 15000.3
B153: 新疆通力房地产开发有限公司阿克苏分公司 | C153: 2017 | D153: 1 | E153: 22 | F153: A11-4-602吐尔逊古力·拖黑提 | G153: 2004 | H153: 预收帐款 | J153: 30764 | K153: 0101 | L153: A11-4-602 | N153: A11-4-602 | O153: 32302.2
B154: 新疆通力房地产开发有限公司阿克苏分公司 | C154: 2017 | D154: 1 | E154: 23 | F154: C3-3-401迪力夏提 | G154: 2004 | H154: 预收帐款 | J154: 9524 | K154: 0102 | L154: C3-3-401 | N154: C3-3-401 | O154: 10000.2
B155: 新疆通力房地产开发有限公司阿克苏分公司 | C155: 2017 | D155: 1 | E155: 24 | F155: C8-1-202巴吐尔·艾买提 | G155: 2004 | H155: 预收帐款 | J155: 102218 | K155: 0103 | L155: C8-1-202 | N155: C8-1-202 | O155: 107328.9
B156: 新疆通力房地产开发有限公司阿克苏分公司 | C156: 2017 | D156: 1 | E156: 25 | F156: C11-2-302艾沙江·阿力甫 | G156: 2004 | H156: 预收帐款 | J156: 34144 | K156: 0094 | L156: c11-2-302 | N156: c11-2-302 | O156: 35851.2
B157: 新疆通力房地产开发有限公司阿克苏分公司 | C157: 2017 | D157: 2 | E157: 1 | F157: C7-2-501麦尔旦·达尼亚 | G157: 2004 | H157: 预收帐款 | J157: 9524 | K157: 0104 | L157: C7-2-501 | N157: C7-2-501 | O157: 10000.2
B158: 新疆通力房地产开发有限公司阿克苏分公司 | C158: 2017 | D158: 2 | E158: 3 | F158: C11-3-301阿卜杜许库尔 | G158: 2004 | H158: 预收帐款 | J158: 43668 | K158: 0105 | L158: C11-3-301 | N158: C11-3-301 | O158: 45851.4
B159: 新疆通力房地产开发有限公司阿克苏分公司 | C159: 2017 | D159: 2 | E159: 4 | F159: C11-1-301麦热牙木·艾麦尔 | G159: 2004 | H159: 预收帐款 | J159: 10131 | K159: 0099 | L159: C11-1-301 | N159: C11-1-301 | O159: 10637.55
B160: 新疆通力房地产开发有限公司阿克苏分公司 | C160: 2017 | D160: 2 | E160: 5 | F160: C3-3-502玛依热·肉孜 | G160: 2004 | H160: 预收帐款 | J160: 47989 | K160: 0106 | L160: C3-3-502 | N160: C3-3-502 | O160: 50388.45 | P160: =O160-J160 -> 2399.45
B161: 新疆通力房地产开发有限公司阿克苏分公司 | C161: 2017 | D161: 2 | E161: 6 | F161: c3-3-402木瓦汗·木沙 | G161: 2004 | H161: 预收帐款 | J161: 45379 | K161: 0107 | L161: C3-3-402 | N161: C3-3-402 | O161: 476480
B162: 新疆通力房地产开发有限公司阿克苏分公司 | C162: 2017 | D162: 2 | E162: 8 | F162: c13-3-303阿尔祖古丽·巴伍敦 | G162: 2004 | H162: 预收帐款 | J162: 10071 | K162: 0072 | L162: C13-3-303 | N162: C13-3-303 | O162: 10574.55
...

Sheet 预收账款2013-2023年接表明细
A1: 账簿 | B1: 年 | C1: 月 | D1: 凭证号 | E1: 摘要 | F1: 科目代码 | G1: 科目名称 | H1: 借 | I1: 贷 | J1: 单位代码 | K1: 单位名称 | L1: 部门代码 | M1: 部门名称 | N1: 确认后的房号 | O1: 贷方计算后的含税金额 | P1: 备注 | Q1: 确认后的房号 | R1: 贷方计算后的含税金额
A2: 阿克苏通力房地产开发有限公司 | B2: 2014 | C2: 11 | D2: 62 | E2: 还通力房产公司款 | F2: 204 | G2: 预收账款 | I2: 341766 | J2: 0001 | K2: 7-2-902 | L2: 0004 | M2: 康泰公寓 | N2: 7-2-902 | O2: =I2 -> 341766 | Q2: 7-2-902 | R2: 341766
A3: 阿克苏通力房地产开发有限公司 | B3: 2014 | C3: 11 | D3: 62 | E3: 还通力房产公司款 | F3: 204 | G3: 预收账款 | I3: 341766 | J3: 0002 | K3: 7-2-901 | L3: 0004 | M3: 康泰公寓 | N3: 7-2-901 | O3: =I3 -> 341766 | Q3: 7-2-901 | R3: 341766
A4: 阿克苏通力房地产开发有限公司 | B4: 2014 | C4: 12 | D4: 53 | E4: 7-2-802房款 | F4: 204 | G4: 预收账款 | I4: 366550 | J4: 0003 | K4: 7-2-802 | L4: 0004 | M4: 康泰公寓 | N4: 7-2-802 | O4: =I4 -> 366550 | Q4: 7-2-802 | R4: 366550
A5: 阿克苏通力房地产开发有限公司 | B5: 2014 | C5: 12 | D5: 64 | E5: 借款转房款 | F5: 204 | G5: 预收账款 | I5: 431074 | J5: 0004 | K5: 2-1-102 | L5: 0004 | M5: 康泰公寓 | N5: 2-1-102 | O5: =I5 -> 431074 | Q5: 2-1-102 | R5: 431074
A6: 阿克苏通力房地产开发有限公司 | B6: 2014 | C6: 12 | D6: 64 | E6: 借款转房款 | F6: 204 | G6: 预收账款 | I6: 458720 | J6: 0005 | K6: 2-1-201 | L6: 0004 | M6: 康泰公寓 | N6: 2-1-201 | O6: =I6 -> 458720 | Q6: 2-1-201 | R6: 458720
A7: 阿克苏通力房地产开发有限公司 | B7: 2014 | C7: 12 | D7: 64 | E7: 借款转房款 | F7: 204 | G7: 预收账款 | I7: 457253 | J7: 0006 | K7: 2-1-202 | L7: 0004 | M7: 康泰公寓 | N7: 2-1-202 | O7: =I7 -> 457253 | Q7: 2-1-202 | R7: 457253
A8: 阿克苏通力房地产开发有限公司 | B8: 2014 | C8: 12 | D8: 64 | E8: 借款转房款 | F8: 204 | G8: 预收账款 | I8: 452266 | J8: 0007 | K8: 2-1-302 | L8: 0004 | M8: 康泰公寓 | N8: 2-1-302 | O8: =I8 -> 452266 | Q8: 2-1-302 | R8: 452266
A9: 阿克苏通力房地产开发有限公司 | B9: 2014 | C9: 12 | D9: 64 | E9: 借款转房款 | F9: 204 | G9: 预收账款 | I9: 444963 | J9: 0008 | K9: 2-1-401 | L9: 0004 | M9: 康泰公寓 | N9: 2-1-401 | O9: =I9 -> 444963 | Q9: 2-1-401 | R9: 444963
A10: 阿克苏通力房地产开发有限公司 | B10: 2014 | C10: 12 | D10: 64 | E10: 借款转房款 | F10: 204 | G10: 预收账款 | I10: 431074 | J10: 0009 | K10: 2-1-402 | L10: 0004 | M10: 康泰公寓 | N10: 2-1-402 | O10: =I10 -> 431074 | Q10: 2-1-402 | R10: 431074
A11: 阿克苏通力房地产开发有限公司 | B11: 2014 | C11: 12 | D11: 64 | E11: 借款转房款 | F11: 204 | G11: 预收账款 | I11: 394923 | J11: 0010 | K11: 2-1-502 | L11: 0004 | M11: 康泰公寓 | N11: 2-1-502 | O11: =I11 -> 394923 | Q11: 2-1-502 | R11: 394923
A12: 阿克苏通力房地产开发有限公司 | B12: 2014 | C12: 12 | D12: 64 | E12: 借款转房款 | F12: 204 | G12: 预收账款 | I12: 453513 | J12: 0011 | K12: 2-2-101 | L12: 0004 | M12: 康泰公寓 | N12: 2-2-101 | O12: =I12 -> 453513 | Q12: 2-2-101 | R12: 453513
A13: 阿克苏通力房地产开发有限公司 | B13: 2014 | C13: 12 | D13: 64 | E13: 借款转房款 | F13: 204 | G13: 预收账款 | I13: 457253 | J13: 0012 | K13: 2-2-201 | L13: 0004 | M13: 康泰公寓 | N13: 2-2-201 | O13: =I13 -> 457253 | Q13: 2-2-201 | R13: 457253
... A82: 阿克苏通力房地产开发有限公司 | B82: 2014 | C82: 12 | D82: 64 | E82: 借款转房款 | F82: 204 | G82: 预收账款 | I82: 333458 | J82: 0083 | K82: 7-5-402 | L82: 0004 | M82: 康泰公寓 | N82: 7-5-402 | O82: =I82 -> 333458 | Q82: 7-5-402 | R82: 333458
A83: 阿克苏通力房地产开发有限公司 | B83: 2015 | C83: 1 | D83: 14 | E83: 收王金川康泰1-5-201-614房款 | F83: 204 | G83: 预收账款 | I83: 1000000 | J83: 0115 | K83: 1#楼2-6层 | L83: 0001 | M83: 公司本部 | N83: 1#楼2-6层 | O83: =I83 -> 1000000 | Q83: 1#楼2-6层 | R83: 1000000 | S83: =R83-I83 -> 0
A84: 阿克苏通力房地产开发有限公司 | B84: 2015 | C84: 1 | D84: 30 | E84: 收陈现忠康泰2-3-202房款 | F84: 204 | G84: 预收账款 | I84: 148 | J84: 0086 | K84: 2-3-202 | L84: 0001 | M84: 公司本部 | N84: 2-3-202 | O84: =I84 -> 148 | Q84: 2-3-202 | R84: 148
A85: 阿克苏通力房地产开发有限公司 | B85: 2015 | C85: 1 | D85: 42 | E85: 2-3-202房款 | F85: 204 | G85: 预收账款 | I85: 159000 | J85: 0086 | K85: 2-3-202 | L85: 0001 | M85: 公司本部 | N85: 2-3-202 | O85: =I85 -> 159000 | Q85: 2-3-202 | R85: 159000
A86: 阿克苏通力房地产开发有限公司 | B86: 2015 | C86: 1 | D86: 47 | E86: 7-1-902房款 | F86: 204 | G86: 预收账款 | I86: 241762 | J86: 0087 | K86: 7-1-902 | L86: 0001 | M86: 公司本部 | N86: 7-1-902 | O86: =I86 -> 241762 | Q86: 7-1-902 | R86: 241762
A87: 阿克苏通力房地产开发有限公司 | B87: 2015 | C87: 1 | D87: 48 | E87: 4-2-601、7-3-901、7-3-802 | F87: 204 | G87: 预收账款 | I87: 341766 | J87: 0117 | K87: 7-3-901 | L87: 0001 | M87: 公司本部 | N87: 7-3-901 | O87: =I87 -> 341766 | Q87: 7-3-901 | R87: 341766
A88: 阿克苏通力房地产开发有限公司 | B88: 2015 | C88: 1 | D88: 48 | E88: 4-2-601、7-3-901、7-3-802 | F88: 204 | G88: 预收账款 | I88: 367910 | J88: 0077 | K88: 7-3-802 | L88: 0001 | M88: 公司本部 | N88: 7-3-802 | O88: =I88 -> 367910 | Q88: 7-3-802 | R88: 367910
A89: 阿克苏通力房地产开发有限公司 | B89: 2015 | C89: 2 | D89: 3 | E89: 收王金川康泰1-5-201-614房款 | F89: 204 | G89: 预收账款 | I89: 1000000 | J89: 0115 | K89: 1#楼2-6层 | L89: 0001 | M89: 公司本部 | N89: 1#楼2-6层 | O89: =I89 -> 1000000 | Q89: 1#楼2-6层 | R89: 1000000 | S89: =R89-I89 -> 0
A90: 阿克苏通力房地产开发有限公司 | B90: 2015 | C90: 2 | D90: 4 | E90: 收王金川康泰1-5-201-614 | F90: 204 | G90: 预收账款 | I90: 3000000 | J90: 0115 | K90: 1#楼2-6层 | L90: 0001 | M90: 公司本部 | N90: 1#楼2-6层 | O90: =I90 -> 3000000 | Q90: 1#楼2-6层 | R90: 3000000 | S90: =R90-I90 -> 0
A91: 阿克苏通力房地产开发有限公司 | B91: 2015 | C91: 3 | D91: 20 | E91: 7-2-701房款 | F91: 204 | G91: 预收账款 | I91: 363759 | J91: 0084 | K91: 7-2-701 | L91: 0001 | M91: 公司本部 | N91: 7-2-701 | O91: =I91 -> 363759 | Q91: 7-2-701 | R91: 363759
A92: 阿克苏通力房地产开发有限公司 | B92: 2015 | C92: 3 | D92: 21 | E92: 2-2-102款 | F92: 204 | G92: 预收账款 | I92: 457253 | J92: 0085 | K92: 2-2-102 | L92: 0001 | M92: 公司本部 | N92: 2-2-102 | O92: =I92 -> 457253 | Q92: 2-2-102 | R92: 457253
A93: 阿克苏通力房地产开发有限公司 | B93: 2015 | C93: 3 | D93: 45 | E93: 2-1-601、4-2-603、7-1-202、7-1-502 | F93: 204 | G93: 预收账款 | I93: 294600 | J93: 0118 | K93: 2-1-601 | L93: 0001 | M93: 公司本部 | N93: 2-1-601 | O93: =I93 -> 294600 | Q93: 2-1-601 | R93: 294600
A94: 阿克苏通力房地产开发有限公司 | B94: 2015 | C94: 3 | D94: 45 | E94: 2-1-601、4-2-603、7-1-202、7-1-502 | F94: 204 | G94: 预收账款 | I94: 379022 | J94: 0119 | K94: 4-2-603 | L94: 0001 | M94: 公司本部 | N94: 4-2-603 | O94: =I94 -> 379022 | Q94: 4-2-603 | R94: 379022
A95: 阿克苏通力房地产开发有限公司 | B95: 2015 | C95: 3 | D95: 45 | E95: 2-1-601、4-2-603、7-1-202、7-1-502 | F95: 204 | G95: 预收账款 | I95: 344624 | J95: 0120 | K95: 7-1-202 | L95: 0001 | M95: 公司本部 | N95: 7-1-202 | O95: =I95 -> 344624 | Q95: 7-1-202 | R95: 344624
A96: 阿克苏通力房地产开发有限公司 | B96: 2015 | C96: 3 | D96: 45 | E96: 2-1-601、4-2-603、7-1-202、7-1-502 | F96: 204 | G96: 预收账款 | I96: 280045 | J96: 0121 | K96: 7-1-502 | L96: 0001 | M96: 公司本部 | N96: 7-1-502 | O96: =I96 -> 280045 | Q96: 7-1-502 | R96: 280045
