Workbook

Sheet 税金汇总
B1: 新疆通力房地产开发有限公司应交税费明细表
B3: 税目名称 | C3: 期间 | D3: 计税依据 | E3: 税率 | F3: 应缴税金 | G3: 备注
B4: 增值税 | C4: 202403 | D4: 432380.95 | E4: 0.05 | F4: =D4*E4 -> 21619.048
B5: 城建税 | C5: 202403 | D5: =F4 -> 21619.048 | E5: =7%*50% -> 0.035 | F5: =D5*E5 -> 756.66666
B6: 教育费附加 | C6: 202403 | D6: =F4 -> 21619.048 | E6: =3%*50% -> 0.015 | F6: =D6*E6 -> 324.28571
B7: 地方教育费附加 | C7: 202403 | D7: =F4 -> 21619.048 | E7: =2%*50% -> 0.01 | F7: =D7*E7 -> 216.19047 | H7: 期初导入不区分 | I7: 476.19 | J7: 4523.81
B8: 房产税（从租） | C8: 202403 | D8: 515579.28 | E8: 0.12 | F8: 30934.77 | H8: 养征大厦 | I8: 1904.76 | J8: 14285.71
B9: 房产税（从价） | C9: 202403 | D9: 2221098.8 | E9: 0.012 | F9: 13326.6 | H9: 商贸城 | I9: 190.48 | J9: 238.1
B10: 土地使用税一级 | C10: 202403 | D10: ='房产税&土地使用税'!E49 -> 204.31624 | E10: 14元/平 | F10: ='房产税&土地使用税'!G49 -> 1430.24
B11: 土地使用税三级 | C11: 202403 | D11: 900.48 | E11: 8元/平 | F11: ='房产税&土地使用税'!G53 -> 3601.9
B12: 印花税3 | C12: 202403 | F12: =E12*D12 -> 0 | G12: 其他
B13: 企业所得税 | C13: 202403 | D13: =272833.81-15000 -> 257833.81 | E13: 0.25 | F13: =D13*E13 -> 64458.452
B14: 工会经费 | C14: 202403 | D14: 15000 | E14: 0.02 | F14: =D14*E14 -> 300
B15: 残保金 | C15: 202403 | E15: 0.02 | F15: 0
B16: 个人所得税 | C16: 202403
B17: 合计 | F17: =SUM(F4:F15) -> 136968.15

Sheet 房产税&土地使用税
A1: 征稽大厦房产税
A2: 房产税（从价） | B2: 期间 | C2: 房屋 | D2: 面积（平方米） | E2: 原值 | F2: 计税比率 | G2: 税率 | H2: 金额 | I2: 减免税额50%
B3: 1-2月从价 | C3: 养路征稽一层01 | D3: 109.83 | E3: =D3*C28 -> 134864.89 | F3: 0.7 | G3: 0.012 | H3: =E3*F3*G3/12*2 -> 188.81084 | I3: =H3*50% -> 94.40542
B4: 1-2月从价 | C4: 养路征稽一层02 | D4: 59.49 | E4: =D4*C28 -> 73050.278 | F4: 0.7 | G4: 0.012 | H4: =E4*F4*G4/12*2 -> 102.27039 | I4: =H4*50% -> 51.135195
B5: 1-2月从价 | C5: 养路征稽一层03 | D5: 173.11 | E5: =D5*C28 -> 212569.07 | F5: 0.7 | G5: 0.012 | H5: =E5*F5*G5/12*2 -> 297.59669 | I5: =H5*50% -> 148.79835
B6: 1-2月从价 | C6: 养路征稽一层04-1 | D6: 363.29 | E6: =D6*C28 -> 446099.1 | F6: 0.7 | G6: 0.012 | H6: =E6*F6*G6/12*2 -> 624.53874 | I6: =H6*50% -> 312.26937
C7: 养路征稽一层04-2 | F7: 0.7 | G7: 0.012
B8: 1-2月从价 | C8: 养路征稽一层05 | D8: 687.77 | E8: =D8*C28 -> 844541.77 | F8: 0.7 | G8: 0.012 | H8: =E8*F8*G8/12*2 -> 1182.3585 | I8: =H8*50% -> 591.17924
B9: 1-2月从价 | C9: 养路征稽一层06 | D9: 38.42 | E9: =D9*C28 -> 47177.537 | F9: 0.7 | G9: 0.012 | H9: =E9*F9*G9/12*2 -> 66.048552 | I9: =H9*50% -> 33.024276
B10: 1-2月从价 | C10: 养路征稽一层06-1 | F10: 0.7 | G10: 0.012
B11: 1-6月从价 | C11: 养路征稽一层07+08 | D11: =38.42+38.42 -> 76.84 | E11: =D11*C28 -> 94355.075 | F11: 0.7 | G11: 0.012 | H11: =E11*F11*G11/12*6 -> 396.29131 | I11: =H11*50% -> 198.14566
B12: 1-6月从价 | C12: 养路征稽二层01 | D12: 1505.01 | E12: =D12*C28 -> 1848065.2 | F12: 0.7 | G12: 0.012 | H12: =E12*F12*G12/12*5 -> 6468.2282 | I12: =H12*50% -> 3234.1141
C13: 合计 | D13: =SUM(D3:D12) -> 3013.76 | E13: =SUM(E3:E12) -> 3700722.9 | H13: =SUM(H3:H12) -> 9326.1433 | I13: =SUM(I3:I12) -> 4663.0716
A14: 房产税（从租） | B14: 期间 | C14: 房屋 | D14: 面积（平方米） | E14: 收入 | F14: 税率 | H14: 金额
B15: 3月从租 | C15: 养路征稽一层01 | D15: 109.83 | E15: =7*30*3.12*115.79 -> 75865.608 | F15: 0.12 | H15: =E15*F15/2 -> 4551.9365 | I15: =H15/12 -> 379.32804
B16: 3月从租 | C16: 养路征稽一层02 | D16: 59.49 | E16: =8*30*3.33*57.35 -> 45834.12 | F16: 0.12 | H16: =E16*F16/2 -> 2750.0472
B17: 3月从租 | C17: 养路征稽一层03 | D17: 173.11 | E17: 300000 | F17: 0.12 | H17: =E17*F17/2 -> 18000 | I17: 2024年收到
B18: 3月从租 | C18: 养路征稽一层04-2 | D18: 363.29 | E18: =3*30*3.39*24.2 -> 7383.42 | F18: 0.12 | H18: =E18*F18/2 -> 443.0052
B19: 3月从租 | C19: 养路征稽一层05 | D19: 687.77 | E19: =5*30*3.36*40.72 -> 20522.88 | F19: 0.12 | H19: =E19*F19/2 -> 1231.3728
B20: 3月从租 | C20: 养路征稽一层06 | D20: 38.42 | E20: =6*30*4.059*40.72 -> 29750.846 | F20: 0.12 | H20: =E20*F20/2 -> 1785.0508
B21: 3月从租 | C21: 养路征稽一层06-1 | E21: =6*30*2.99*32 -> 17222.4 | F21: 0.12 | H21: =E21*F21/2 -> 1033.344
C22: 合计 | D22: =SUM(D15:D21) -> 1431.91 | H22: =SUM(H15:H21) -> 29794.756
B24: 商品房期初结转成本 | C24: 19235800
B25: 总建筑面积 | C25: 15665.07
B26: 房屋建筑面积 | C26: 3013.76
B27: 原值 | C27: =C24/C25*D13 -> 3700722.9
C28: =C27/D13 -> 1227.9421
D29: 4284.55 | E29: 2630.57 | F29: =D29-E29 -> 1653.98
A30: 通达商贸城房产税 | I30: =F29*I32 -> 1386673.1
A31: 房产税（从价） | B31: 期间 | C31: 面积（平方米） | D31: 原值 | E31: 计税比率 | F31: 税率 | G31: 金额 | H31: 减免税额50%
B32: 1-2月从价 | C32: 5075.23 | D32: =C32*C43 -> 4255000 | E32: 0.7 | F32: 0.012 | G32: =D32*E32*F32/12*2 -> 5957 | H32: =G32*50% -> 2978.5 | I32: =D32/C32 -> 838.38565
B33: 4-6月从价 | C33: =C32-D39 -> 4843.51 | D33: =C33*C43 -> 4060729.3 | E33: 0.7 | F33: =F32 -> 0.012 | G33: =D33*E33*F33/9*3 -> 11370.042 | H33: =G33*50% -> 5685.021
B34: 合计 | G34: =SUM(G32:G33) -> 17327.042 | H34: =SUM(H32:H33) -> 8663.521
A35: 房产税（从租） | B35: 期间 | C35: 房屋 | D35: 面积（平方米） | E35: 收入 | F35: 税率 | G35: 金额
B36: 3月从租 | C36: 刘坤 | D36: 119.98 | E36: 10000 | F36: 0.12 | G36: =E36*F36/2 -> 600
B37: 3月从租 | C37: 马立琴 | D37: 70 | E37: 4000 | F37: 0.12 | G37: =E37*F37/2 -> 240
B38: 3月从租 | C38: 方小羊 | D38: 41.74 | E38: 5000 | F38: 0.12 | G38: =E38*F38/2 -> 300
C39: 合计 | D39: =SUM(D36:D38) -> 231.72 | E39: =SUM(E36:E38) -> 19000 | G39: =SUM(G36:G38) -> 1140
B41: 原值 | C41: 4255000
B42: 面积 | C42: 5075.23
...

Sheet 房产税
B1: 养征大厦
A2: 序号 | B2: 单位名称 | C2: 房号 | D2: 原值 | E2: 出租面积M2 | F2: 产权面积 | G2: 租赁期限 | H2: 日租金 | I2: 2024年租金 | J2: 从价税率 | K2: 从租税率 | L2: 1月 | M2: 2月 | N2: 3月 | O2: 4月 | P2: 5月 | Q2: 6月 | R2: 7月 | S2: 8月 | T2: 9月 | U2: 10月 | V2: 11月 | W2: 12月
A3: 1 | B3: 杨豆豆(杨妮 牛之味丸子汤) | C3: 养路征稽一层01 | D3: 134864.89 | E3: 115.79 | F3: 109.83 | G3: 2023.6.30-2024.7.29 | H3: 3.12元/平方/日 | I3: 75865.608 | J3: =70%*0.012 -> 0.0084 | K3: 0.12 | L3: =$D$3*$J$3/2/12 -> 47.20271 | M3: =$D$3*$J$3/2/12 -> 47.20271 | N3: =$I3/12/2*$K3 -> 379.32804 | O3: =$I3/12/2*$K3 -> 379.32804 | P3: =$I3/12/2*$K3 -> 379.32804 | Q3: =$I3/12/2*$K3 -> 379.32804 | R3: =$I3/12/2*$K3 -> 379.32804
A4: 2 | B4: 郭兴辉（服装） | C4: 养路征稽一层02 | D4: 73050.278 | E4: 57.35 | F4: 59.49 | G4: 2023.7.20-2024.8.19 | H4: 3.33元/平方/日 | I4: 45834.12 | J4: =70%*0.012 -> 0.0084 | K4: 0.12 | L4: =$D$4*$J$4/2/12 -> 25.567597 | M4: =$D$4*$J$4/2/12 -> 25.567597 | N4: =$I4/12/2*$K4 -> 229.1706 | O4: =$I4/12/2*$K4 -> 229.1706 | P4: =$I4/12/2*$K4 -> 229.1706 | Q4: =$I4/12/2*$K4 -> 229.1706 | R4: =$I4/12/2*$K4 -> 229.1706 | S4: =$I4/12/2*$K4 -> 229.1706
A5: 3 | B5: 王春霞 | C5: 养路征稽一层03 | D5: 212569.07 | E5: 363.29 | F5: 363.29 | G5: 2024.1.1-2026.12.31 | H5: 2..26元/平方/日 | I5: 300000 | J5: =70%*0.012 -> 0.0084 | K5: 0.12 | L5: =$D$5*$J$5/2/12+1500 -> 1574.3992 | M5: =$D$5*$J$5/2/12+1500 -> 1574.3992 | N5: =$I$5/12/2*$K$5 -> 1500 | O5: =$I$5/12/2*$K$5 -> 1500 | P5: =$I$5/12/2*$K$5 -> 1500 | Q5: =$I$5/12/2*$K$5 -> 1500 | R5: =$I$5/12/2*$K$5 -> 1500 | S5: =$I$5/12/2*$K$5 -> 1500 | T5: =$I$5/12/2*$K$5 -> 1500 | U5: =$I$5/12/2*$K$5 -> 1500 | ... W5: =$I$5/12/2*$K$5 -> 1500
A6: 4 | B6: 郭少鹏 | C6: 养路征稽一层04-1 | D6: 315779.91 | E6: 58.64 | F6: 173.11 | G6: 2024.4.15-2025.5.5 | H6: 3.036元/平方/日 | I6: 65000 | J6: =70%*0.012 -> 0.0084 | K6: 0.12 | L6: =$D$6*$J$6/2/12 -> 110.52297 | M6: =$D$6*$J$6/2/12 -> 110.52297 | N6: =$D$6*$J$6/2/12 -> 110.52297 | O6: =$I$6/12/2*$K$6 -> 325 | P6: =$I$6/12/2*$K$6 -> 325 | Q6: =$I$6/12/2*$K$6 -> 325 | R6: =$I$6/12/2*$K$6 -> 325 | S6: =$I$6/12/2*$K$6 -> 325 | T6: =$I$6/12/2*$K$6 -> 325 | U6: =$I$6/12/2*$K$6 -> 325 | V6: =$I$6/12/2*$K$6 -> 325 | W6: =$I$6/12/2*$K$6 -> 325
A7: 5 | B7: 汪玉明 | C7: 养路征稽一层04-2 | D7: 130319.19 | E7: 24.2 | G7: 2023.5.1-2024.4.30 | H7: 3.39元/平方/日 | I7: =50000 -> 50000 | J7: =70%*0.012 -> 0.0084 | K7: 0.12 | L7: =$D$7*$J$7/2/12 -> 45.611716 | M7: =$D$7*$J$7/2/12 -> 45.611716 | N7: =$I$7/12/2*$K$7 -> 250 | O7: =$I$7/12/2*$K$7 -> 250 | P7: =$I$7/12/2*$K$7 -> 250 | Q7: =$I$7/12/2*$K$7 -> 250 | R7: =$I$7/12/2*$K$7 -> 250 | S7: =$I$7/12/2*$K$7 -> 250 | T7: =$I$7/12/2*$K$7 -> 250 | U7: =$I$7/12/2*$K$7 -> 250 | ... W7: =$I$7/12/2*$K$7 -> 250
A8: 6 | B8: 牛欢 | C8: 养路征稽一层05 | D8: 844541.77 | E8: 40.72 | F8: 687.77 | G8: 2023.4.11-2024.5.1 | H8: 3.36元/平方/日 | I8: 20000 | J8: =70%*0.012 -> 0.0084 | K8: 0.12 | L8: =$D$8*$J$8/2/12 -> 295.58962 | M8: =$D$8*$J$8/2/12 -> 295.58962 | N8: =$I$8/12/2*$K$8 -> 100 | O8: =$I$8/12/2*$K$8 -> 100 | P8: =$I$8/12/2*$K$8 -> 100 | Q8: =$I$8/12/2*$K$8 -> 100 | R8: =$I$8/12/2*$K$8 -> 100 | S8: =$I$8/12/2*$K$8 -> 100 | T8: =$I$8/12/2*$K$8 -> 100 | U8: =$I$8/12/2*$K$8 -> 100 | ... W8: =$I$8/12/2*$K$8 -> 100
A9: 7 | B9: 李雪琴 | C9: 养路征稽一层06 | D9: 24274 | E9: 40.72 | F9: 38.42 | G9: 2023-5-30-2024-6-29 | H9: 4.059元/平方/日 | J9: =70%*0.012 -> 0.0084 | K9: 0.12 | L9: =$D$9*$J$9/2/12 -> 8.4959 | M9: =$D$9*$J$9/2/12 -> 8.4959
A10: 8 | B10: 黄艳华 | C10: 养路征稽一层06-1 | D10: 22903.54 | E10: 38.42 | F10: 38.42 | G10: 2023-5-29-2024-6-29 | H10: 2.99元/平方/日 | I10: 38000 | J10: =70%*0.012 -> 0.0084 | K10: 0.12 | L10: =$D$10*$J$10/2/12 -> 8.016239 | M10: =$D$10*$J$10/2/12 -> 8.016239
A11: 9 | B11: 王婆大虾 | C11: 养路征稽一层07+08 | D11: 94355.075 | E11: 769.62 | F11: 38.42 | G11: 2023.12.1-2024.11.30 | H11: 2.3元/平方/日2018年南总和于姐谈一年50万 | I11: 180000 | J11: =70%*0.012 -> 0.0084 | K11: 0.12 | L11: =$D$11*$J$11/2/12 -> 33.024276 | M11: =$D$11*$J$11/2/12 -> 33.024276 | N11: =$D$11*$J$11/2/12 -> 33.024276 | O11: =$D$11*$J$11/2/12 -> 33.024276 | P11: =$D$11*$J$11/2/12 -> 33.024276 | Q11: =$D$11*$J$11/2/12 -> 33.024276 | R11: =$I$11/12/2*$K$11 -> 900 | S11: =$I$11/12/2*$K$11 -> 900 | T11: =$I$11/12/2*$K$11 -> 900 | U11: =$I$11/12/2*$K$11 -> 900 | V11: =$I$11/12/2*$K$11 -> 900 | W11: =$I$11/12/2*$K$11 -> 900
A12: 10 | B12: 川风堂 | C12: 养路征稽二层01 | D12: 1848065.2 | E12: 1505.01 | F12: 1505.01 | G12: 2022.9.20-2023.9.19 | I12: 60000 | J12: =70%*0.012 -> 0.0084 | K12: 0.12 | L12: =$D$12*$J$12/2/12 -> 646.82282 | M12: =$D$12*$J$12/2/12 -> 646.82282 | N12: =$D$12*$J$12/2/12 -> 646.82282 | O12: =$D$12*$J$12/2/12 -> 646.82282 | P12: =$D$12*$J$12/2/12 -> 646.82282 | Q12: =$I$12/12/2*$K$12 -> 300 | R12: =$I$12/12/2*$K$12 -> 300 | S12: =$I$12/12/2*$K$12 -> 300 | T12: =$I$12/12/2*$K$12 -> 300 | U12: =$I$12/12/2*$K$12 -> 300 | V12: =$I$12/12/2*$K$12 -> 300 | W12: =$I$12/12/2*$K$12 -> 300
A13: 11 | B13: 吴隆坤 | C13: 养路征稽一层 | E13: 4 | G13: 2023.6.1-2024.6.30 | I13: 9000 | J13: =70%*0.012 -> 0.0084 | K13: 0.12 | L13: =$D$13*$J$13/2/12 -> 0 | M13: =$D$13*$J$13/2/12 -> 0 | N13: =$I$13/12/2*$K$13 -> 45 | O13: =$I$13/12/2*$K$13 -> 45 | P13: =$I$13/12/2*$K$13 -> 45 | Q13: =$I$13/12/2*$K$13 -> 45 | R13: =$I$13/12/2*$K$13 -> 45 | S13: =$I$13/12/2*$K$13 -> 45 | T13: =$I$13/12/2*$K$13 -> 45 | U13: =$I$13/12/2*$K$13 -> 45 | ... W13: =$I$13/12/2*$K$13 -> 45
H14: 合计 | I14: =SUM(I3:I13) -> 843699.73 | L14: =SUM(L3:L13) -> 2795.253 | M14: =SUM(M3:M13) -> 2795.253 | N14: =SUM(N3:N13) -> 3293.8687 | O14: =SUM(O3:O13) -> 3508.3457 | P14: =SUM(P3:P13) -> 3508.3457 | Q14: =SUM(Q3:Q13) -> 3161.5229 | R14: =SUM(R3:R13) -> 4028.4986 | S14: =SUM(S3:S13) -> 3649.1706 | ... W14: =SUM(W3:W13) -> 3420
B15: 通达商贸城
A16: 序号 | B16: 单位名称 | C16: 房号 | D16: 原值 | E16: 出租面积M2 | F16: 产权面积 | G16: 租赁期限 | H16: 日租金 | I16: 2024年租金 | J16: 从价税率 | K16: 从租税率 | L16: 1月 | M16: 2月 | N16: 3月 | O16: 4月 | P16: 5月 | Q16: 6月 | R16: 7月 | S16: 8月 | T16: 9月 | U16: 10月 | V16: 11月 | W16: 12月
A17: 1 | B17: 养生馆 | C17: 1-31# | E17: 100 | G17: 2023.5.11-2024.6.10 | J17: =70%*0.012 -> 0.0084 | K17: 0.12 | L17: 2978.5 | O17: 5685.02
A18: 2 | B18: 金大碗牛肉面 | C18: 1-1# | E18: 49.56 | G18: 2023.8.17-2024.9.16 | J18: =70%*0.012 -> 0.0084 | K18: 0.12
A19: 3 | B19: 烟酒商行 | C19: 1-2#-1 | E19: 38.96 | G19: 2023.7.29-2024.8.28 | J19: =70%*0.012 -> 0.0084 | K19: 0.12
A20: 4 | B20: 蛋糕店 | C20: 1-2#-2 | E20: 76.32 | G20: 2023.7.28-2024.8.27 | J20: =70%*0.012 -> 0.0084 | K20: 0.12
A21: 5 | B21: 超市 | C21: 1-3# | E21: 49.32 | G21: 2024.3.30-2025.4.1 | I21: 37468 | J21: =70%*0.012 -> 0.0084 | K21: 0.12 | R21: =$I$21/12/2*$K$21 -> 187.34 | S21: =$I$21/12/2*$K$21 -> 187.34 | T21: =$I$21/12/2*$K$21 -> 187.34 | U21: =$I$21/12/2*$K$21 -> 187.34 | V21: =$I$21/12/2*$K$21 -> 187.34 | W21: =$I$21/12/2*$K$21 -> 187.34
A22: 6 | B22: 商店 | C22: 1-4# | E22: 22.24 | G22: 2023.12.4-2024.12.3 | I22: 14012 | J22: =70%*0.012 -> 0.0084 | K22: 0.12 | R22: =$I22/12/2*$K22 -> 70.06 | S22: =$I22/12/2*$K22 -> 70.06 | T22: =$I22/12/2*$K22 -> 70.06 | U22: =$I22/12/2*$K22 -> 70.06 | V22: =$I22/12/2*$K22 -> 70.06 | W22: =$I22/12/2*$K22 -> 70.06
A23: 7 | B23: 营业厅 | C23: 1-5# | E23: 22.24 | G23: 2023.7.28-2024.8.27 | J23: =70%*0.012 -> 0.0084 | K23: 0.12
A24: 8 | B24: 商店 | C24: 1-6# | E24: 41.74 | G24: 2024.2.22-2025.3.21 | I24: 22089 | J24: =70%*0.012 -> 0.0084 | K24: 0.12 | N24: 300 | R24: =$I$24/12/2*$K$24 -> 110.445 | S24: =$I$24/12/2*$K$24 -> 110.445 | T24: =$I$24/12/2*$K$24 -> 110.445 | U24: =$I$24/12/2*$K$24 -> 110.445 | V24: =$I$24/12/2*$K$24 -> 110.445 | W24: =$I$24/12/2*$K$24 -> 110.445
A25: 9 | B25: 百乐泉 | C25: 1-7# | E25: 41.74 | G25: 2024.4.9-2025.5.8 | I25: 22089 | J25: =70%*0.012 -> 0.0084 | K25: 0.12 | R25: =$I25/12/2*$K25 -> 110.445 | S25: =$I25/12/2*$K25 -> 110.445 | T25: =$I25/12/2*$K25 -> 110.445 | U25: =$I25/12/2*$K25 -> 110.445 | V25: =$I25/12/2*$K25 -> 110.445 | W25: =$I25/12/2*$K25 -> 110.445
A26: 10 | B26: 理发店 | C26: 1-8# | E26: 22.24 | G26: 2023.5.28-2024.6.27 | J26: =70%*0.012 -> 0.0084 | K26: 0.12
A27: 11 | B27: 锦绣商行 | C27: 1-9# | E27: 22.24 | G27: 2023.3.9-2024.4.10 | J27: =70%*0.012 -> 0.0084 | K27: 0.12
A28: 12 | B28: 烧烤店 | C28: 1-10#-12# | E28: 71.72 | G28: 2023.9.13-2024.10.12 | J28: =70%*0.012 -> 0.0084 | K28: 0.12
A29: 13 | B29: 美发 | C29: 1-13# | E29: 41.74 | G29: 2024.5.4-2025.6.3 | I29: 22089 | J29: =70%*0.012 -> 0.0084 | K29: 0.12 | R29: =$I29/12/2*$K29 -> 110.445 | S29: =$I29/12/2*$K29 -> 110.445 | T29: =$I29/12/2*$K29 -> 110.445 | U29: =$I29/12/2*$K29 -> 110.445 | V29: =$I29/12/2*$K29 -> 110.445 | W29: =$I29/12/2*$K29 -> 110.445
A30: 14 | B30: 棋牌室 | C30: 1-14# | E30: 53 | G30: 2023.11.10-2024.11.9 | I30: 20034 | J30: =70%*0.012 -> 0.0084 | K30: 0.12 | R30: =$I30/12/2*$K30 -> 100.17 | S30: =$I30/12/2*$K30 -> 100.17 | T30: =$I30/12/2*$K30 -> 100.17 | U30: =$I30/12/2*$K30 -> 100.17 | V30: =$I30/12/2*$K30 -> 100.17
A31: 15 | B31: 打字复印 | C31: 1-20# | E31: 41.74 | G31: 2023.11.30-2024.11.29 | J31: =70%*0.012 -> 0.0084 | K31: 0.12
A32: 16 | B32: 美容院 | C32: 1-19# | E32: 41.74 | G32: 2023.8.1-2024.7.30 | J32: =70%*0.012 -> 0.0084 | K32: 0.12
A33: 17 | B33: 早餐 | C33: 1-22# | E33: 41.74 | G33: 2023.11.20-2024.11.19 | I33: 19880 | J33: =70%*0.012 -> 0.0084 | K33: 0.12 | R33: =$I33/12/2*$K33 -> 99.4 | S33: =$I33/12/2*$K33 -> 99.4 | T33: =$I33/12/2*$K33 -> 99.4 | U33: =$I33/12/2*$K33 -> 99.4 | V33: =$I33/12/2*$K33 -> 99.4
A34: 18 | B34: 体彩 | C34: 1-23# | E34: 41.74 | G34: 2023.6.1-2024.6.30 | J34: =70%*0.012 -> 0.0084 | K34: 0.12
A35: 19 | B35: 养生馆 | C35: 1-24# | E35: 42.9 | G35: 2023.10.17-2024.11.16 | J35: =70%*0.012 -> 0.0084 | K35: 0.12
A36: 20 | B36: 餐饮 | C36: 1-25# | E36: 38.28 | G36: 2024.6.22-2025.6.21 | I36: 19562 | J36: =70%*0.012 -> 0.0084 | K36: 0.12 | R36: =$I36/12/2*$K36 -> 97.81 | S36: =$I36/12/2*$K36 -> 97.81 | T36: =$I36/12/2*$K36 -> 97.81 | U36: =$I36/12/2*$K36 -> 97.81 | V36: =$I36/12/2*$K36 -> 97.81 | W36: =$I36/12/2*$K36 -> 97.81
A37: 21 | B37: 蛋糕店 | C37: 1-26# | E37: 37.86 | G37: 2024.6.22-2025.6.21 | I37: 19347 | J37: =70%*0.012 -> 0.0084 | K37: 0.12 | R37: =$I37/12/2*$K37 -> 96.735 | S37: =$I37/12/2*$K37 -> 96.735 | T37: =$I37/12/2*$K37 -> 96.735 | U37: =$I37/12/2*$K37 -> 96.735 | V37: =$I37/12/2*$K37 -> 96.735 | W37: =$I37/12/2*$K37 -> 96.735
A38: 22 | B38: 商店 | C38: 1-27#.28# | E38: 122.48 | G38: 2023.12.7-2024.12.6 | I38: 54014 | J38: =70%*0.012 -> 0.0084 | K38: 0.12 | R38: =$I38/12/2*$K38 -> 270.07 | S38: =$I38/12/2*$K38 -> 270.07 | T38: =$I38/12/2*$K38 -> 270.07 | U38: =$I38/12/2*$K38 -> 270.07 | V38: =$I38/12/2*$K38 -> 270.07 | W38: =$I38/12/2*$K38 -> 270.07
A39: 23 | B39: 福彩 | C39: 1-29# | E39: 22.24 | G39: 2023.8.27-2024.9.28 | J39: =70%*0.012 -> 0.0084 | K39: 0.12
A40: 24 | B40: 餐饮 | C40: 1-30# | E40: 22.24 | G40: 2023.2.14-2024.2.13 | I40: 6822 | J40: =70%*0.012 -> 0.0084 | K40: 0.12
...

Sheet 二季度税金
A1: 新疆通力房地产开发有限公司应交税费明细表
A3: 税目名称 | B3: 期间 | C3: 计税依据 | D3: 税率 | E3: 应缴税金 | F3: 备注
A4: 增值税 | B4: 2024.04-06月 | C4: 503933.33 | D4: 0.05 | E4: =C4*D4 -> 25196.666
A5: 城建税 | B5: 2024.04-06月 | C5: =E4 -> 25196.666 | D5: =7%*50% -> 0.035 | E5: =C5*D5 -> 881.88333
A6: 教育费附加 | B6: 2024.04-06月 | C6: =E4 -> 25196.666 | D6: =3%*50% -> 0.015 | E6: =C6*D6 -> 377.95
A7: 地方教育费附加 | B7: 2024.04-06月 | C7: =E4 -> 25196.666 | D7: =2%*50% -> 0.01 | E7: =C7*D7 -> 251.96667
A8: 房产税（养征从租） | B8: 2024.04-06月 | D8: =0.12*50% -> 0.06 | E8: =C8*D8 -> 0
A9: 房产税（通达从租） | B9: 2024.04-06月 | D9: =0.12*50% -> 0.06 | E9: =C9*D9 -> 0
A10: 印花税（租赁） | B10: 2024.04-06月 | C10: 983130 | D10: =0.001*0.5 -> 0.0005 | E10: =D10*C10 -> 491.565
A11: 企业所得税 | B11: 2024.04-06月 | C11: =B21 -> 0 | D11: 0.25 | E11: =C11*D11 -> 0
A12: 工会经费 | B12: 2024.04-06月 | C12: 15000 | D12: 0.02 | E12: =C12*D12 -> 300
A13: 合计 | E13: =SUM(E4:E12) -> 27500.031
A15: 其他业务收入 | B15: 503933.33
A16: 税金及附加 | B16: 6479.95
A17: 管理费用 | B17: 38073.24
A18: 财务费用 | B18: -988.79
A19: 利润总额 | B19: =B15-B16-B17-B18 -> 460368.93
A20: 弥补以前年度亏损 | B20: =-B19 -> -460368.93
A21: 应纳税所得额 | B21: =B19+B20 -> 0

Sheet 房产税（从租）计算表
B1: 养征大厦
A2: 序号 | B2: 单位名称 | C2: 房号 | D2: 原值 | E2: 出租面积M2 | F2: 产权面积 | G2: 租赁期限 | H2: 日租金 | I2: 一季度收入 | J2: 二季度收款 | L2: 三季度收款 | M2: 四季度收款 | N2: 从价税率 | O2: 从租税率 | P2: 一季度从租 | Q2: 二季度从租 | R2: 三季度从租 | S2: 四季度从租
A3: 1 | B3: 杨豆豆(杨妮 牛之味丸子汤) | C3: 养路征稽一层01 | D3: 134864.89 | E3: 115.79 | F3: 109.83 | G3: 2023.6.30-2024.7.29 | H3: 3.12元/平方/日 | I3: 75865.608 | K3: =J3/1.05 -> 0 | L3: 65000 | N3: =70%*0.012 -> 0.0084 | O3: 0.12 | P3: =I3*O3*0.5 -> 4551.9365 | Q3: =J3/1.05*O3*0.5 -> 0 | R3: =L3/1.05*O3*0.5 -> 3714.2857 | T3: =L3/1.05 -> 61904.762
A4: 2 | B4: 郭兴辉（服装） | C4: 养路征稽一层02 | D4: 73050.278 | E4: 57.35 | F4: 59.49 | G4: 2023.7.20-2024.8.19 | H4: 3.33元/平方/日 | I4: 45834.12 | K4: =J4/1.05 -> 0 | L4: 68820 | N4: =70%*0.012 -> 0.0084 | O4: 0.12 | P4: =I4*O4*0.5 -> 2750.0472 | Q4: =J4/1.05*O4*0.5 -> 0 | R4: =L4/1.05*O4*0.5 -> 3932.5714 | T4: =L4/1.05 -> 65542.857
A5: 3 | B5: 王春霞 | C5: 养路征稽一层03 | D5: 212569.07 | E5: 363.29 | F5: 363.29 | G5: 2024.1.1-2026.12.31 | H5: 2..26元/平方/日 | I5: 300000 | K5: =J5/1.05 -> 0 | N5: =70%*0.012 -> 0.0084 | O5: 0.12 | P5: =I5*O5*0.5 -> 18000 | Q5: =J5/1.05*O5*0.5 -> 0 | R5: =L5/1.05*O5*0.5 -> 0
A6: 4 | B6: 郭少鹏 | C6: 养路征稽一层04-1 | D6: 315779.91 | E6: 58.64 | F6: 173.11 | G6: 2024.4.15-2025.5.5 | H6: 3.036元/平方/日 | J6: 65000 | K6: =J6/1.05 -> 61904.762 | N6: =70%*0.012 -> 0.0084 | O6: 0.12 | P6: =I6/1.05*O6*0.5 -> 0 | Q6: =J6/1.05*O6*0.5 -> 3714.2857 | R6: =L6/1.05*O6*0.5 -> 0
A7: 5 | B7: 汪玉明 | C7: 养路征稽一层04-2 | D7: 130319.19 | E7: 24.2 | G7: 2023.5.1-2024.4.30 | H7: 3.39元/平方/日 | I7: 7383.42 | J7: 50000 | K7: =J7/1.05 -> 47619.048 | N7: =70%*0.012 -> 0.0084 | O7: 0.12 | P7: =I7*O7*0.5 -> 443.0052 | Q7: =J7/1.05*O7*0.5 -> 2857.1429 | R7: =L7/1.05*O7*0.5 -> 0
A8: 6 | B8: 牛欢 | C8: 养路征稽一层05 | D8: 844541.77 | E8: 40.72 | F8: 687.77 | G8: 2023.4.11-2024.5.1 | H8: 3.36元/平方/日 | I8: 20522.88 | J8: 29000 | K8: =J8/1.05 -> 27619.048 | L8: 30000 | N8: =70%*0.012 -> 0.0084 | O8: 0.12 | P8: =I8*O8*0.5 -> 1231.3728 | Q8: =J8/1.05*O8*0.5 -> 1657.1429 | R8: =L8/1.05*O8*0.5 -> 1714.2857 | T8: =L8/1.05 -> 28571.429
A9: 7 | B9: 李雪琴 | C9: 养路征稽一层06 | D9: 24274 | E9: 40.72 | F9: 38.42 | G9: 2023-5-30-2024-6-29 | H9: 4.059元/平方/日 | I9: 29750.846 | J9: 38000 | K9: =J9/1.05 -> 36190.476 | L9: 10000 | N9: =70%*0.012 -> 0.0084 | O9: 0.12 | P9: =I9*O9*0.5 -> 1785.0508 | Q9: =J9/1.05*O9*0.5 -> 2171.4286 | R9: =L9/1.05*O9*0.5 -> 571.42857 | T9: =L9/1.05 -> 9523.8095
A10: 8 | B10: 黄艳华 | C10: 养路征稽一层06-1 | D10: 22903.54 | E10: 38.42 | F10: 38.42 | G10: 2023-5-29-2024-6-29 | H10: 2.99元/平方/日 | I10: 17222.4 | K10: =J10/1.05 -> 0 | N10: =70%*0.012 -> 0.0084 | O10: 0.12 | P10: =I10*O10*0.5 -> 1033.344 | Q10: =J10/1.05*O10*0.5 -> 0 | R10: =L10/1.05*O10*0.5 -> 0
A11: 9 | B11: 王婆大虾 | C11: 养路征稽一层07+08 | D11: 94355.075 | E11: 769.62 | F11: 38.42 | G11: 2023.12.1-2024.11.30 | J11: 180000 | K11: =J11/1.05 -> 171428.57 | N11: =70%*0.012 -> 0.0084 | O11: 0.12 | P11: =I11/1.05*O11*0.5 -> 0 | Q11: =J11/1.05*O11*0.5 -> 10285.714 | R11: =L11/1.05*O11*0.5 -> 0
A12: 10 | C12: 养路征稽二层01 | D12: 1848065.2 | E12: 1505.01 | F12: 1505.01 | K12: =J12/1.05 -> 0 | N12: =70%*0.012 -> 0.0084 | O12: 0.12 | P12: =I12/1.05*O12*0.5 -> 0 | Q12: =J12/1.05*O12*0.5 -> 0 | R12: =L12/1.05*O12*0.5 -> 0
A13: 11 | B13: 吴隆坤 | C13: 养路征稽一层 | E13: 4 | G13: 2023.6.1-2024.6.30 | K13: =J13/1.05 -> 0 | N13: =70%*0.012 -> 0.0084 | O13: 0.12 | P13: =I13/1.05*O13*0.5 -> 0 | Q13: =J13/1.05*O13*0.5 -> 0 | R13: =L13/1.05*O13*0.5 -> 0
F14: =SUM(F3:F13) -> 3013.76 | H14: 合计 | I14: =SUM(I3:I13) -> 496579.27 | J14: =SUM(J3:J13) -> 362000 | L14: =SUM(L3:L13) -> 173820 | M14: =SUM(M3:M13) -> 0 | P14: =SUM(P3:P13) -> 29794.756 | Q14: =SUM(Q3:Q13) -> 20685.714 | R14: =SUM(R3:R13) -> 9932.5714 | S14: =SUM(S3:S13) -> 0
C16: 房产税（从价） | D16: 期间 | E16: 面积（平方米） | F16: 原值 | G16: 计税比率 | H16: 税率 | I16: 金额 | J16: 减免税额50%
D17: 7-12月从价 | E17: =F12 -> 1505.01 | F17: =D12 -> 1848065.2 | G17: 0.7 | H17: 0.012 | I17: =F17*G17*H17/2 -> 7761.8739 | J17: =I17*50% -> 3880.9369
D18: 合计 | I18: =SUM(I17:I17) -> 7761.8739 | J18: =SUM(J17:J17) -> 3880.9369
C20: 房产税（从租） | D20: 期间 | E20: 原值 | F20: 面积（平方米） | G20: 含税收入 | H20: 不含税收入 | I20: 税率 | J20: 金额
D21: 7-12月从租 | E21: ='房产税&土地使用税'!C27-F17 -> 1852657.7 | F21: =F14-F12 -> 1508.75 | G21: =L14 -> 173820 | H21: =G21/1.05 -> 165542.86 | I21: 0.12 | J21: =H21*I21/2 -> 9932.5714
E22: 合计 | F22: =SUM(F21:F21) -> 1508.75 | G22: =SUM(G21:G21) -> 173820 | J22: =SUM(J21:J21) -> 9932.5714
B24: 通达商贸城
A25: 序号 | B25: 单位名称 | C25: 房号 | D25: 原值 | E25: 出租面积M2 | F25: 产权面积 | G25: 租赁期限 | H25: 日租金 | I25: 一季度收款 | J25: 二季度收款 | L25: 三季度收款 | M25: 四季度收款 | N25: 从价税率 | O25: 从租税率 | P25: 一季度从租 | Q25: 二季度从租 | R25: 三季度从租 | S25: 四季度从租
A26: 2 | B26: 金大碗牛肉面 | C26: 1-1# | D26: ='房产税&土地使用税'!$C$43*F26 -> 42925.345 | E26: 49.56 | F26: 51.2 | G26: 2023.8.17-2024.9.16 | K26: =J26/1.05 -> 0 | N26: =70%*0.012 -> 0.0084 | O26: 0.12 | P26: =I26/1.05*O26*0.5 -> 0 | Q26: =J26/1.05*O26*0.5 -> 0 | R26: =L26/1.05*O26*0.5 -> 0
A27: 3 | B27: 烟酒商行 | C27: 1-2# | D27: ='房产税&土地使用税'!$C$43*F27 -> 31875.422 | E27: 38.96 | F27: 38.02 | G27: 2023.7.29-2024.8.28 | K27: =J27/1.05 -> 0 | N27: =70%*0.012 -> 0.0084 | O27: 0.12 | P27: =I27/1.05*O27*0.5 -> 0 | Q27: =J27/1.05*O27*0.5 -> 0 | R27: =L27/1.05*O27*0.5 -> 0
A28: 4 | B28: 蜜雪冰城 | C28: 1-3# | D28: ='房产税&土地使用税'!$C$43*F28 -> 65813.273 | E28: 76.32 | F28: 78.5 | G28: 2023.7.28-2024.8.27 | K28: =J28/1.05 -> 0 | L28: 48000 | N28: =70%*0.012 -> 0.0084 | O28: 0.12 | P28: =I28/1.05*O28*0.5 -> 0 | Q28: =J28/1.05*O28*0.5 -> 0 | R28: =L28/1.05*O28*0.5 -> 2742.8571 | T28: =L28/1.05 -> 45714.286
A29: 5 | B29: 超市 | C29: 1-4# | D29: ='房产税&土地使用税'!$C$43*F29 -> 42925.345 | E29: 49.32 | F29: 51.2 | G29: 2024.3.30-2025.4.1 | K29: =J29/1.05 -> 0 | N29: =70%*0.012 -> 0.0084 | O29: 0.12 | P29: =I29/1.05*O29*0.5 -> 0 | Q29: =J29/1.05*O29*0.5 -> 0 | R29: =L29/1.05*O29*0.5 -> 0
A30: 6 | B30: 商店 | C30: 1-5# | D30: ='房产税&土地使用税'!$C$43*F30 -> 19090.041 | E30: 22.24 | F30: 22.77 | G30: 2023.12.4-2024.12.3 | K30: =J30/1.05 -> 0 | N30: =70%*0.012 -> 0.0084 | O30: 0.12 | P30: =I30/1.05*O30*0.5 -> 0 | Q30: =J30/1.05*O30*0.5 -> 0 | R30: =L30/1.05*O30*0.5 -> 0
A31: 7 | B31: 营业厅 | C31: 1-6# | D31: ='房产税&土地使用税'!$C$43*F31 -> 19090.041 | E31: 22.24 | F31: 22.77 | G31: 2023.7.28-2024.8.27 | K31: =J31/1.05 -> 0 | N31: =70%*0.012 -> 0.0084 | O31: 0.12 | P31: =I31/1.05*O31*0.5 -> 0 | Q31: =J31/1.05*O31*0.5 -> 0 | R31: =L31/1.05*O31*0.5 -> 0
A32: 8 | B32: 商店 | C32: 1-7# | D32: ='房产税&土地使用税'!$C$43*F32 -> 36058.967 | E32: 41.74 | F32: 43.01 | G32: 2024.2.22-2025.3.21 | I32: 5000 | J32: 17089 | K32: =J32/1.05 -> 16275.238 | N32: =70%*0.012 -> 0.0084 | O32: 0.12 | P32: =I32*O32*0.5 -> 300 | Q32: =J32/1.05*O32*0.5 -> 976.51429 | R32: =L32/1.05*O32*0.5 -> 0
A33: 9 | B33: 百乐泉 | C33: 1-8# | D33: ='房产税&土地使用税'!$C$43*F33 -> 36712.908 | E33: 41.74 | F33: 43.79 | G33: 2024.4.9-2025.5.8 | K33: =J33/1.05 -> 0 | N33: =70%*0.012 -> 0.0084 | O33: 0.12 | P33: =I33/1.05*O33*0.5 -> 0 | Q33: =J33/1.05*O33*0.5 -> 0 | R33: =L33/1.05*O33*0.5 -> 0
A34: 10 | B34: 理发店 | C34: 1-9# | D34: ='房产税&土地使用税'!$C$43*F34 -> 19090.041 | E34: 22.24 | F34: 22.77 | G34: 2023.5.28-2024.6.27 | K34: =J34/1.05 -> 0 | N34: =70%*0.012 -> 0.0084 | O34: 0.12 | P34: =I34/1.05*O34*0.5 -> 0 | Q34: =J34/1.05*O34*0.5 -> 0 | R34: =L34/1.05*O34*0.5 -> 0
A35: 11 | B35: 锦绣商行 | C35: 1-10# | D35: ='房产税&土地使用税'!$C$43*F35 -> 19090.041 | E35: 22.24 | F35: 22.77 | G35: 2023.3.9-2024.4.10 | K35: =J35/1.05 -> 0 | N35: =70%*0.012 -> 0.0084 | O35: 0.12 | P35: =I35/1.05*O35*0.5 -> 0 | Q35: =J35/1.05*O35*0.5 -> 0 | R35: =L35/1.05*O35*0.5 -> 0
A36: 12 | B36: 普济堂药店 | C36: 1-11#-13# | D36: ='房产税&土地使用税'!$C$43*F36 -> 57270.124 | E36: 71.72 | F36: 68.31 | G36: 2023.9.13-2024.10.12 | K36: =J36/1.05 -> 0 | N36: =70%*0.012 -> 0.0084 | O36: 0.12 | P36: =I36/1.05*O36*0.5 -> 0 | Q36: =J36/1.05*O36*0.5 -> 0 | R36: =L36/1.05*O36*0.5 -> 0
A37: 13 | B37: 美发 | C37: 1-14# | D37: ='房产税&土地使用税'!$C$43*F37 -> 36058.967 | E37: 41.74 | F37: 43.01 | G37: 2024.5.4-2025.6.3 | K37: =J37/1.05 -> 0 | N37: =70%*0.012 -> 0.0084 | O37: 0.12 | P37: =I37/1.05*O37*0.5 -> 0 | Q37: =J37/1.05*O37*0.5 -> 0 | R37: =L37/1.05*O37*0.5 -> 0
A38: 14 | B38: 日用品 | C38: 1-20# | D38: ='房产税&土地使用税'!$C$43*F38 -> 42925.345 | E38: 53 | F38: 51.2 | G38: 2023.11.10-2024.11.9 | K38: =J38/1.05 -> 0 | N38: =70%*0.012 -> 0.0084 | O38: 0.12 | P38: =I38/1.05*O38*0.5 -> 0 | Q38: =J38/1.05*O38*0.5 -> 0 | R38: =L38/1.05*O38*0.5 -> 0
A39: 15 | B39: 打字复印 | C39: 1-21# | D39: ='房产税&土地使用税'!$C$43*F39 -> 36058.967 | E39: 41.74 | F39: 43.01 | G39: 2023.11.30-2024.11.29 | K39: =J39/1.05 -> 0 | N39: =70%*0.012 -> 0.0084 | O39: 0.12 | P39: =I39/1.05*O39*0.5 -> 0 | Q39: =J39/1.05*O39*0.5 -> 0 | R39: =L39/1.05*O39*0.5 -> 0
A40: 16 | B40: 美容院 | C40: 1-22# | D40: ='房产税&土地使用税'!$C$43*F40 -> 36058.967 | E40: 41.74 | F40: 43.01 | G40: 2023.8.1-2024.7.30 | K40: =J40/1.05 -> 0 | L40: 23614 | N40: =70%*0.012 -> 0.0084 | O40: 0.12 | P40: =I40/1.05*O40*0.5 -> 0 | Q40: =J40/1.05*O40*0.5 -> 0 | R40: =L40/1.05*O40*0.5 -> 1349.3714 | T40: =L40/1.05 -> 22489.524
A41: 17 | B41: 早餐 | C41: 1-23# | D41: ='房产税&土地使用税'!$C$43*F41 -> 36058.967 | E41: 41.74 | F41: 43.01 | G41: 2023.11.20-2024.11.19 | J41: 9880 | K41: =J41/1.05 -> 9409.5238 | N41: =70%*0.012 -> 0.0084 | O41: 0.12 | P41: =I41/1.05*O41*0.5 -> 0 | Q41: =J41/1.05*O41*0.5 -> 564.57143 | R41: =L41/1.05*O41*0.5 -> 0
A42: 18 | B42: 体彩 | C42: 1-24# | D42: ='房产税&土地使用税'!$C$43*F42 -> 36058.967 | E42: 41.74 | F42: 43.01 | G42: 2023.6.1-2024.6.30 | K42: =J42/1.05 -> 0 | L42: 25216 | N42: =70%*0.012 -> 0.0084 | O42: 0.12 | P42: =I42/1.05*O42*0.5 -> 0 | Q42: =J42/1.05*O42*0.5 -> 0 | R42: =L42/1.05*O42*0.5 -> 1440.9143 | T42: =L42/1.05 -> 24015.238
A43: 19 | B43: 养生馆 | C43: 1-25# | D43: ='房产税&土地使用税'!$C$43*F43 -> 36058.967 | E43: 42.9 | F43: 43.01 | G43: 2023.10.17-2024.11.16 | K43: =J43/1.05 -> 0 | N43: =70%*0.012 -> 0.0084 | O43: 0.12 | P43: =I43/1.05*O43*0.5 -> 0 | Q43: =J43/1.05*O43*0.5 -> 0 | R43: =L43/1.05*O43*0.5 -> 0
...

Sheet 3季度税金
A1: 新疆通力房地产开发有限公司应交税费明细表
A3: 税目名称 | B3: 期间 | C3: 计税依据 | D3: 税率 | E3: 应缴税金 | F3: 备注
A4: 增值税 | B4: 2024.07-09月 | C4: 315242.86 | D4: 0.05 | E4: =ROUND(C4*D4,2) -> 15762.14
A5: 城建税 | B5: 2024.07-09月 | C5: =E4 -> 15762.14 | D5: =7%*50% -> 0.035 | E5: =ROUND(C5*D5,2) -> 551.67 | F5: 增值税小规模纳税人 “六税两费”减征政 策,减按50%征收
A6: 教育费附加 | B6: 2024.07-09月 | C6: =E4 -> 15762.14 | D6: =3%*50% -> 0.015 | E6: =ROUND(C6*D6,2) -> 236.43
A7: 地方教育费附加 | B7: 2024.07-09月 | C7: =E4 -> 15762.14 | D7: =2%*50% -> 0.01 | E7: =ROUND(C7*D7,2) -> 157.62
A8: 房产税（养征从租） | B8: 2024.07-09月 | C8: ='房产税（从租）计算表'!L14/1.05 -> 165542.86 | D8: =0.12*50% -> 0.06 | E8: =ROUND(C8*D8+0.01,2) -> 9932.58
A9: 房产税（通达从租） | B9: 2024.07-09月 | C9: ='房产税（从租）计算表'!L57/1.05 -> 149700 | D9: =0.12*50% -> 0.06 | E9: =ROUND(C9*D9,2) -> 8982
A10: 房产税（养征从价） | B10: 2024.07-12月 | C10: ='房产税（从租）计算表'!F17 -> 1848065.2 | D10: =0.7*0.012*0.5*0.5 -> 0.0021 | E10: =ROUND(C10*D10,2) -> 3880.94
A11: 房产税（通达从价） | B11: 2024.07-12月 | C11: ='房产税（从租）计算表'!E61 -> 2793853.1 | D11: =0.7*0.012*0.5*0.5 -> 0.0021 | E11: =ROUND(C11*D11,2) -> 5867.09
A12: 土地使用税 | B12: 2024.07-12月 | E12: =ROUND(G30+G34,2) -> 5032.14
A13: 印花税（租赁） | B13: 2024.07-09月 | C13: ='房产税（从租）计算表'!L14+'房产税（从租）计算表'!L57 -> 331005 | D13: =0.001*0.5 -> 0.0005 | E13: =ROUND(D13*C13,2) -> 165.5
A14: 企业所得税 | B14: 2024.07-09月 | C14: =B24 -> 0 | D14: 0.25 | E14: =C14*D14 -> 0
A15: 工会经费 | B15: 2024.07-09月 | C15: 15000 | D15: 0.02 | E15: =C15*D15 -> 300
A16: 合计 | E16: =SUM(E4:E15) -> 50868.11
A18: 其他业务收入 | B18: 315242.86
A19: 税金及附加 | B19: 16231.39
A20: 管理费用 | B20: 108875
A21: 财务费用 | B21: -1654.21
A22: 利润总额 | B22: =B18-B19-B20-B21 -> 191790.68
A23: 弥补以前年度亏损 | B23: =-B22 -> -191790.68
A24: 应纳税所得额 | B24: =B22+B23 -> 0
A26: 征稽大厦土地使用税
A27: 房屋 | B27: 土地占用面积 | C27: 土地等级：一级 | D27: 所属期起至 | E27: 计税依据 | F27: 金额 | G27: 减免税额50%
A28: 二层 | B28: =2124.01/15665.07*1505.01 -> 204.06269 | C28: 14元每平方米 | D28: 2024/1/1-2024/6/30 | E28: =B28/2 -> 102.03134 | F28: =E28*14 -> 1428.4388 | G28: =F28*50% -> 714.21941
A29: 一层 | B29: =2124.01/15665.07*1508.75 -> 204.56979 | C29: 14元每平方米 | D29: 2024/1/1-2024/6/30 | E29: =B29/2 -> 102.2849 | F29: =E29*14 -> 1431.9885 | G29: =F29*50% -> 715.99427
A30: 合计 | B30: =SUM(B28:B29) -> 408.63248 | E30: =SUM(E28:E29) -> 204.31624 | F30: =SUM(F28:F29) -> 2860.4273 | G30: 1430.24
A32: 通达商贸城土地使用税
A33: 房屋 | B33: 土地占用面积 | C33: 土地等级：一级 | D33: 所属期起至 | E33: 计税依据 | F33: 金额 | G33: 减免税额50%
A34: 一栋 | B34: 1800.95 | C34: 8元每平方米 | D34: 2024/1/1-2024/6/30 | E34: =B34/2 -> 900.475 | F34: =E34*8 -> 7203.8 | G34: =F34*50% -> 3601.9
