Workbook
Name sheet0_f_fdckfxmbh: #REF!
Name 取得土地使用权所支付的金额: '[1]项目分类（不可删除）'!$B$3:$D$3
Name 土地征用及拆迁补偿费: '[1]项目分类（不可删除）'!$B$4:$H$4

Sheet 汇总表
A1: 新疆通力画堂春锦苑一期 楼盘销售月报（2024.10）
A2: 序号 | B2: 楼号 | C2: 开发数量 | D2: 可销售 | E2: 本月销售情况 | J2: 开发面积（m2） | K2: 可销售面积（m2） | L2: 累计销售情况 | T2: 未销售数（含置换） | W2: 备注
C3: 套数 | D3: 套数 | E3: 成交 套数 | F3: 成交总金额（元） | G3: 已收取房款（元） | H3: 施工许可证 | L3: 成交 套数 | M3: 成交金额（元） | N3: 成交面积（m2） | O3: 累计收取房款（元） | P3: 本月到账贷款 | Q3: 累计到帐贷款 | R3: 房款合计 | S3: 应收款 | T3: 套数 | U3: 未销售面积（m2） | V3: 金额（元）
A4: 1 | B4: 画堂春锦苑一期13#14#15#17#18#楼（商业） | C4: ='画堂春锦13#14#15#17#18# 商铺'!A148 -> 140 | D4: =C4 -> 140 | G4: ='画堂春锦13#14#15#17#18# 商铺'!T151 -> 10456397 | J4: ='画堂春锦13#14#15#17#18# 商铺'!K151 -> 15320.31 | K4: =J4-976.47-524.4-152.79-15.25-16.01 -> 13635.39 | L4: ='画堂春锦13#14#15#17#18# 商铺'!B151 -> 6 | M4: ='画堂春锦13#14#15#17#18# 商铺'!N151 -> 1.5927113e+08 | N4: ='画堂春锦13#14#15#17#18# 商铺'!L151 -> 10078.84 | O4: ='画堂春锦13#14#15#17#18# 商铺'!AL151 -> 140667677 | P4: ='画堂春锦13#14#15#17#18# 商铺'!AM151 -> 0 | Q4: ='画堂春锦13#14#15#17#18# 商铺'!AN151 -> 0 | R4: =O4+Q4 -> 140667677 | S4: =M4-R4 -> 18603454 | T4: =D4-L4 -> 134 | U4: =K4-N4 -> 3556.55
A5: 2 | B5: 画堂春锦苑一期9#10#11#12#楼（住宅) | C5: ='画堂春锦9#10#11#12#住宅'!A332 -> 242 | D5: =C5 -> 242 | G5: ='画堂春锦9#10#11#12#住宅'!R333 -> 1235107 | J5: ='画堂春锦9#10#11#12#住宅'!J333 -> 31331.37 | K5: =J5-4.49-22.24-19.83-4.39-548.24-753.94-625.87-615.6 -> 28736.77 | L5: 222 | M5: ='画堂春锦9#10#11#12#住宅'!M333 -> 1.5814845e+08 | N5: ='画堂春锦9#10#11#12#住宅'!K333 -> 26966.54 | O5: ='画堂春锦9#10#11#12#住宅'!AH333 -> 153843666 | P5: ='画堂春锦9#10#11#12#住宅'!AI333 -> 0 | Q5: ='画堂春锦9#10#11#12#住宅'!AJ333 -> 0 | R5: =O5+Q5 -> 153843666 | S5: =M5-R5 -> 4304783.9 | T5: =D5-L5 -> 20 | U5: =K5-N5 -> 1770.23
A6: 3 | B6: 画堂春锦苑二期1#-3#5#/7#楼住宅销售明细表 | C6: ='画堂春锦苑1#2#3#5#7#楼住宅销售明细表'!A439 -> 364 | D6: =C6 -> 364 | G6: ='画堂春锦苑1#2#3#5#7#楼住宅销售明细表'!R440 -> 6265316 | J6: ='画堂春锦苑1#2#3#5#7#楼住宅销售明细表'!J440 -> 48353.19 | K6: =J6-693.5-949.92-60.09-743.78-560.48-557.5 -> 44787.92 | L6: 235 | M6: ='画堂春锦苑1#2#3#5#7#楼住宅销售明细表'!M440 -> 1.8905067e+08 | N6: ='画堂春锦苑1#2#3#5#7#楼住宅销售明细表'!K440 -> 32739.34 | O6: ='画堂春锦苑1#2#3#5#7#楼住宅销售明细表'!AH440 -> 163550032 | P6: ='画堂春锦9#10#11#12#住宅'!AI337 -> 0 | Q6: ='画堂春锦苑1#2#3#5#7#楼住宅销售明细表'!AJ440 -> 0 | R6: =O6+Q6 -> 163550032 | S6: =M6-R6 -> 25500636 | T6: =D6-L6 -> 129 | U6: =K6-N6 -> 12048.58
A7: 4 | B7: 画堂春锦苑二期8#楼住宅销售明细表 | C7: ='画堂春锦苑8#楼明细表'!A69 -> 66 | D7: =C7 -> 66 | G7: ='画堂春锦苑8#楼明细表'!R71 -> 7010026 | J7: ='画堂春锦苑8#楼明细表'!J71 -> 8308.96 | K7: =J7 -> 8308.96 | L7: 23 | M7: ='画堂春锦苑8#楼明细表'!M71 -> 30523070 | N7: ='画堂春锦苑8#楼明细表'!K71 -> 5171.2 | O7: ='画堂春锦苑8#楼明细表'!AH71 -> 21412587 | P7: ='画堂春锦9#10#11#12#住宅'!AI338 -> 0 | Q7: ='画堂春锦苑8#楼明细表'!AJ71 -> 0 | R7: =O7+Q7 -> 21412587 | S7: ='画堂春锦苑8#楼明细表'!AK71 -> 9110483 | T7: =D7-L7 -> 43 | U7: =K7-N7 -> 3137.76
A8: 5 | B8: 画堂春锦苑住宅4#6# | C8: ='画堂春锦苑住宅4#6#'!A168 -> 132 | G8: ='画堂春锦苑住宅4#6#'!R168 -> 604708 | J8: ='画堂春锦苑住宅4#6#'!J168 -> 19425.76 | M8: ='画堂春锦苑住宅4#6#'!M168 -> 3887984 | N8: ='画堂春锦苑住宅4#6#'!K168 -> 662.77 | O8: ='画堂春锦苑住宅4#6#'!AH168 -> 618708 | R8: =O8+Q8 -> 618708 | U8: =K8-N8 -> -662.77
A9: 6 | B9: 画堂春锦苑二期商业16#19#（入会） | C9: ='画堂春锦苑商业16#19#'!A64 -> 61 | G9: ='画堂春锦苑商业16#19#'!R65 -> 14000 | J9: ='画堂春锦苑商业16#19#'!J65 -> 5805.62 | M9: ='画堂春锦苑商业16#19#'!M65 -> 0 | O9: ='画堂春锦苑商业16#19#'!AH65 -> 4114000
A10: 合计 | C10: =SUM(C4:C9) -> 1005 | D10: =SUM(D4:D9) -> 812 | E10: =SUM(E4:E9) -> 0 | F10: =SUM(F4:F9) -> 0 | G10: =SUM(G4:G9) -> 25585554 | J10: =SUM(J4:J9) -> 128545.21 | K10: =SUM(K4:K9) -> 95469.04 | L10: =SUM(L4:L9) -> 486 | M10: =SUM(M4:M9) -> 5.408813e+08 | N10: =SUM(N4:N9) -> 75618.69 | O10: =SUM(O4:O9) -> 484206670 | P10: =SUM(P4:P9) -> 0 | Q10: =SUM(Q4:Q9) -> 0 | ... S10: =SUM(S4:S9) -> 57519357 | T10: =SUM(T5:T9) -> 192 | U10: =SUM(U4:U9) -> 19850.35 | V10: =SUM(V4:V9) -> 0
F11: 收会费、储藏间定金 | G11: =14000 -> 14000 | N11: 系统 | O11: 484208586
F12: 会费转预收 | G12: =10000+2000+14000 -> 26000 | H12: 梁石磊 许振双 储藏间14000 | N12: 账面 | O12: =172605898+1482240+4296271+12000 -> 178396409 | P12: =278868823+16205837+10864302 -> 305938962 | R12: 马桂香1000元会费未登台账，未收到会费单
F13: 预收总计 | G13: =G10-G11+G12 -> 25597554 | N13: 租铺意向金 | P13: 账套有，台账不录
F14: 面积减少退款 | G14: =-2916-24570 -> -27486 | H14: 商业面积差24570 住宅面积差2916 | N14: 履约保证金 | O14: 152271 | P14: 账套有，台账不录
F15: 已报税退房 | G15: 488000 | H15: 任成18-1-11#14#房款转周小艳8-1-301 | N15: 与系统差 | O15: =O10-O11-G14 -> 25570 | P15: 面积差退款，系统未减少24570
N16: 与账面差 | O16: =O10-O12-P12+O13+O14 -> 23570
G18: 488000 | H18: 任成商业报税减少，转周小艳8-1-301报税
G19: =G13-G15+G18 -> 25597554
G20: =2000+10000 -> 12000 | H20: 吴文仓、王小红退款
G21: =G13-G20 -> 25585554
B22: 新疆通力房地产开发库尔勒二分公司销售不动产税金计算表（2024.10月）
B23: 项目名称 | D23: 画堂春锦苑一期住宅9#-12# | F23: 画堂春锦苑二期住宅1#-3#5#7# | H23: 画堂春锦苑一期商业13#-15#17#18# | J23: 画堂春锦苑8#楼 | L23: 储藏间 | M23: 画堂春锦苑住宅4#6# | O23: 画堂春锦苑商业16#19#
B24: 预收合计 | D24: =D26+E26 -> 944867 | F24: =F26+G26 -> 6275316 | H24: =H26+I26 -> 9968397 | J24: =J26+K26 -> 7498026 | L24: =L26 -> 304240 | M24: =M26+N26 -> 606708 | O24: =O26+P26 -> 0 | S24: =D24+F24+H24+J24+L24+M24+O24 -> 25597554
D25: 144㎡以下 | E25: 144以上 | F25: 144㎡以下 | G25: 144以上 | H25: 非普通 | J25: 144㎡以下 | K25: 144㎡以上 | L25: 储藏间 | M25: 144㎡以下 | N25: 144㎡以上 | O25: 144㎡以下 | P25: 144㎡以上 | S25: 合计应缴
B26: 预收 | C26: 税率 | D26: ='画堂春锦9#10#11#12#住宅'!R334-G16 -> 944867 | E26: ='画堂春锦9#10#11#12#住宅'!R335 -> 0 | F26: ='画堂春锦苑1#2#3#5#7#楼住宅销售明细表'!R441+'画堂春锦苑1#2#3#5#7#楼住宅销售明细表'!R443-G17 -> 5175417 | G26: ='画堂春锦苑1#2#3#5#7#楼住宅销售明细表'!R442 -> 1099899 | H26: ='画堂春锦13#14#15#17#18# 商铺'!T155-G15 -> 9968397 | J26: ='画堂春锦苑8#楼明细表'!R74 -> 4575140 | K26: ='画堂春锦苑8#楼明细表'!R75 -> 2922886 | L26: ='画堂春锦9#10#11#12#住宅'!R337+'画堂春锦9#10#11#12#住宅'!T337 -> 304240 | M26: ='画堂春锦苑住宅4#6#'!R170 -> 375323 | N26: ='画堂春锦苑住宅4#6#'!R171 -> 231385
B27: 预缴增值税 | C27: 0.03 | F27: =F24/1.09*C27 -> 172715.12 | J27: =J24/1.09*C27 -> 206367.69 | M27: =M24/1.09*0.03 -> 16698.385 | S27: =D27+F27+H27+J27+M27+O27 -> 395781.19
B28: 城建税 | C28: 0.07 | F28: =F27*C28 -> 12090.058 | H28: =H27*C28 -> 0 | J28: =J27*C28 -> 14445.738 | M28: =M27*C28 -> 1168.887 | S28: =D28+F28+H28+J28+M28+O28 -> 27704.683
B29: 教育费附加 | C29: 0.03 | D29: =D27*C29 -> 0 | F29: =F27*C29 -> 5181.4536 | H29: =H27*C29 -> 0 | J29: =J27*C29 -> 6191.0306 | M29: =M27*C29 -> 500.95156 | S29: =D29+F29+H29+J29+M29+O29 -> 11873.436
B30: 地方教育附加 | C30: 0.02 | D30: =D27*C30 -> 0 | F30: =F27*C30 -> 3454.3024 | H30: =H27*C30 -> 0 | J30: =J27*C30 -> 4127.3538 | M30: =M27*C30 -> 333.96771 | S30: =D30+F30+H30+J30+M30+O30 -> 7915.6239
B31: 土地增值税 | C31: 0.03 | F31: =G26/1.09*C31 -> 30272.45 | H31: =H24/1.09*C31 -> 274359.55 | J31: =K26/1.09*C31 -> 80446.404 | M31: =N26/1.09*C31 -> 6368.3945 | S31: =D31+F31+H31+J31+M31+O31 -> 391446.8
B32: 土地增值税 | C32: 0.01 | D32: =D26/1.09*C32 -> 8668.5046 | F32: =F26/1.09*C32 -> 47480.89 | J32: =J26/1.09*C32 -> 41973.761 | M32: =M26/1.09*0.01 -> 3443.3303 | S32: =D32+F32+H32+J32+M32+O32 -> 101566.49
B33: 印花税 | C33: 0.0005 | S33: =D33+F33+H33+J33+M33+O33 -> 0
B34: 个人所得税 | S34: =D34 -> 0
B35: 房产税 | C35: 从租（不含税租金*12%） | S35: =D35+F35+H35+J35+M35+O35 -> 0
C36: 从价自用（价值*70%*1.2%） | S36: =D36+F36+H36+J36+M36+O36 -> 0
B37: 工会经费 | S37: =D37+F37+H37+J37+M37+O37 -> 0
B38: 小计 | D38: =D27+D28+D29+D30+D31+D32+D33 -> 8668.5046 | F38: =F27+F28+F29+F30+F31+F32+F33 -> 271194.27 | H38: =H27+H28+H29+H30+H31+H32+H33 -> 274359.55 | J38: =J27+J28+J29+J30+J31+J32+J33 -> 353551.98 | L38: =SUM(L27:L33) -> 0 | M38: =SUM(M27:M33) -> 28513.916 | S38: =S27+S28+S29+S30+S31+S32+S33+C34+S35+S36+S37 -> 936288.22
B41: 注：1、本月画堂春锦苑一期项目未开发票0收入元应缴纳的增值税0元。商业开具发票10864302元应缴纳的增值税897052.46元；一期开具发票53769428元；二期开具发票0元；三期开具发票0元、 2、租金未开票收入56960元应缴纳增值税4703.12元， 3、储藏间未开票收入304240元，应缴纳增值税25120.73元，合计缴纳增值税926876.31元 3、应缴纳的增值税926876.31元-本月进项1104959.56元-进项转出0-上期留抵0元-预交抵减0元=0元，不交；计算预收0元应预交增值税 元，附加税 ；土地增值税 元；印花税约 元。 4、其中画堂春锦苑一期住宅因面积差需退土地增值税-15.08元（房款为-548元），下期收房款后申报冲减。
F42: 未开票累计 | G42: 已开发票累计 | H42: 余 | I42: 8月预收未开票 | J42: 8月税额 | K42: 9月预收未开票 | L42: 9月税额 | M42: 10月收入 | N42: 10月税额
F43: =I43+K43 -> 295074660 | G43: =37431244+16338184 -> 53769428 | H43: =F43-G43 -> 241305232 | I43: 278868823 | J43: 23025866 | K43: 16205837 | L43: =K43/1.09*0.09 -> 1338096.6 | M43: 10864302 | N43: =M43/1.09*0.09 -> 897052.46
...

Sheet 画堂春锦13#14#15#17#18# 商铺
A1: 13#14#15#17#18#楼商铺销售明细表 共二层
A2: 序号 | B2: 成交 | C2: 合同签订日期 | D2: 合同号 | E2: 订购书编号 | F2: 身份证号 | G2: 姓名 | H2: 楼号 | I2: 楼层 | J2: 房号 | K2: 开发面积 | L2: 销售面积 | M2: 单价 | N2: 总价 | O2: 成交底价 | P2: 合同价 | Q2: 发票开具 | T2: 本月成 交额 | U2: 成交时间 | V2: 会员编号 | W2: 置业顾问 | X2: 缴款金额 | AL2: 收款合计 | AM2: 本月 到账贷款 | AN2: 到帐贷款 | AO2: 应收款 | AP2: 联系电话 | AQ2: 备注 | AT2: 套奖付款合计 | AU2: 套奖付款2022.8 | AV2: 套奖付款2023.2 | AW2: 套奖付款2023.3 | AX2: 套奖付款2023.4 | AY2: 套奖付款2023.5 | AZ2: 套奖付款2023.6 | BA2: 套奖转定付款2023.6 | BB2: 套奖转定付款2023.9 | BC2: 佣金付款合计 | BD2: 佣金点数 | BE2: 佣金付款2023.7 | BF2: 佣金付款2023.8 | BG2: 佣金付款2023.9 | BH2: 佣金付款2023.10 | BI2: 佣金付款2023.11 | BJ2: 佣金付款2023.12 | BK2: 佣金付款2024.1 | BL2: 佣金付款2024.2 | BM2: 佣金付款2024.3 | BN2: 佣金付款2024.4 | BO2: 佣金付款2024.5 | BP2: 佣金付款2024.6 | BQ2: 佣金付款2024.7 | BR2: 佣金付款2024.8 | BS2: 佣金付款2024.9 | BU2: 佣金 | BW2: 印花税 | BX2: 房源系统 | BZ2: 需扣回
Q3: 金额 | R3: 票号 | X3: 一 | Y3: 时间 | Z3: 二 | AA3: 时间 | AB3: 三 | AC3: 时间 | AD3: 四 | AE3: 时间 | AF3: 五 | AG3: 时间 | AH3: 六 | AI3: 时间 | AJ3: 七 | AK3: 时间 | AQ3: 销售 | AR3: 租赁（22 年回本日租金） | AS3: 抵账
A4: 1 | C4: 2024.10.1 | D4: 20240005549 | F4: 412724197310186410 | G4: 孙光立、王俊丽 | H4: 13号楼 | I4: 1层 | J4: 01 | K4: 68.42 | L4: 68.42 | M4: 20868.5 | N4: 1427823 | O4: 22746.96 | P4: 破底不提佣 | T4: =1060000+57823 -> 1117823 | U4: 2024.10.1 | W4: 李福晴 | X4: 10000 | Y4: 45561 | Z4: =1060000+57823 -> 1117823 | AA4: 2024.10.1 | AL4: =X4+Z4+AB4+AD4+AF4+AH4+AJ4 -> 1127823 | AO4: =N4-AL4 -> 300000 | AP4: 13579043254 | AT4: =AU4+AV4+AW4+AX4+AY4+AZ4+BA4+BB4 -> 400 | AU4: =200 -> 200 | AV4: 200 | BC4: =SUM(BE4:BT4) -> 0 | BD4: =1%+0.18%+0.2% -> 0.0138
A5: 2 | C5: 45401 | D5: 20240002187 | E5: 0001089 | F5: 511181199106300024 | G5: 张愫 | I5: 1层 | J5: 02 | K5: 68.42 | L5: 68.42 | M5: 22700 | N5: 1553134 | O5: 22651.12 | W5: 闫金秀 | X5: 100000 | Y5: 2024.4.11 | Z5: 683134 | AA5: 2024.4.19 | AB5: 770000 | AC5: 2024.5.20 | AL5: =X5+Z5+AB5+AD5+AF5+AH5+AJ5 -> 1553134 | AO5: =N5-AL5 -> 0 | AP5: 18609962209 | AT5: =AU5+AV5+AW5+AX5+AY5+AZ5+BA5+BB5 -> 400 | AU5: =200 -> 200 | AX5: 200 | BC5: =SUM(BE5:BT5) -> 1553134 | BD5: =1%+0.2% -> 0.012 | BO5: 1553134 | BW5: 已交 | BX5: 已录
A6: 3 | C6: 2024.10.1 | D6: 20240005511 | E6: 0000918 | F6: 413023198401080786 | G6: 刘建云 | I6: 1层 | J6: 03 | K6: 116.65 | L6: 116.65 | M6: 21945.99 | N6: 2560000 | O6: 21618 | W6: 连阵阵 | X6: 50000 | Y6: 45539 | Z6: 800000 | AA6: 45563 | AL6: =X6+Z6+AB6+AD6+AF6+AH6+AJ6 -> 850000 | AO6: =N6-AL6 -> 1710000 | AP6: 13899099509 | AT6: =AU6+AV6+AW6+AX6+AY6+AZ6+BA6+BB6 -> 0 | BC6: =SUM(BE6:BT6) -> 0 | BD6: =1%+0.15%+0.2% -> 0.0135
A7: 4 | C7: 2023.12.23 | D7: 20230010576 | E7: 0000613 | F7: 652828200012301150 | G7: 刘忠亮 | I7: 1层 | J7: 04 | K7: 68.42 | L7: 68.42 | M7: 21800 | N7: 1491556 | O7: 21560 | W7: 米云鹤 | X7: 80000 | Y7: 2023.11.26 | Z7: =420000+361556 -> 781556 | AA7: 2023.12.23 | AB7: 100000 | AC7: 2024.1.10 | AD7: 130000 | AE7: 2024.5.12 | AF7: 200000 | AG7: 2024.7.15 | AH7: 200000 | AI7: 2024.7.15 | AL7: =X7+Z7+AB7+AD7+AF7+AH7+AJ7 -> 1491556 | AO7: =N7-AL7 -> 0 | AP7: 17399115251 | AT7: =AU7+AV7+AW7+AX7+AY7+AZ7+BA7+BB7 -> 0 | BC7: =SUM(BE7:BT7) -> 1491556 | BD7: =0.8%+0.13%+0.14% -> 0.0107 | BJ7: 861556 | BQ7: 630000 | BW7: 已交 | BX7: 已录
A8: 5 | C8: 2024.4.12 | D8: 20240002029 | F8: 622424199011095270 | G8: 何文斌 | I8: 1层 | J8: 05 | K8: 68.42 | L8: 68.42 | M8: 21967.26 | N8: 1503000 | O8: 21960 | W8: 霍红霞 | X8: 20000 | Y8: 2024.3.30 | Z8: 783000 | AA8: 2024.4.12 | AB8: 700000 | AC8: 2024.5.10 | AL8: =X8+Z8+AB8+AD8+AF8+AH8+AJ8 -> 1503000 | AO8: =N8-AL8 -> 0 | AP8: 13150241703 | AT8: =AU8+AV8+AW8+AX8+AY8+AZ8+BA8+BB8 -> 200 | AV8: 200 | BC8: =SUM(BE8:BT8) -> 1503000 | BD8: =1%+0.18%+0.2% -> 0.0138 | BN8: 803000 | BO8: 700000 | BW8: 已交 | BX8: 已录
A9: 6 | C9: 2023.12.9 | D9: 20230010242 | E9: 0000646 | F9: 652829196210172422 | G9: 彭素莲 成交 | I9: 1层 | J9: 06 | K9: 68.42 | L9: 68.42 | M9: 22500 | N9: =L9*M9 -> 1539450 | O9: 22360 | W9: 李秀莲（彭素莲） | X9: 100000 | Y9: 2023.11.15 | Z9: 909450 | AA9: 2023.11.21 | AB9: 530000 | AC9: 2023.12.9 | AL9: =X9+Z9+AB9+AD9+AF9+AH9+AJ9 -> 1539450 | AO9: =N9-AL9 -> 0 | AT9: =AU9+AV9+AW9+AX9+AY9+AZ9+BA9+BB9 -> 500 | AV9: 200 | BA9: 300 | BC9: =SUM(BE9:BT9) -> 1539450 | BD9: =0.9%+0.13%+0.14% -> 0.0117 | BJ9: 1539450 | BW9: 已交 | BX9: 已录
A10: 7 | C10: 45200 | D10: 20230008432 | E10: 0000557 | F10: 511011197812255060 | G10: 黄菊春 成交 | I10: 1层 | J10: 07 | K10: 68.42 | L10: 68.42 | M10: 22960.42 | N10: =L10*M10 -> 1570951.9 | O10: 22760.42 | W10: 王荣（黄菊春） | X10: 30000 | Y10: 2023.9.22 | Z10: 760952 | AA10: 2023.10.7 | AB10: 780000 | AC10: 2024.4.20 | AL10: =X10+Z10+AB10+AD10+AF10+AH10+AJ10 -> 1570952 | AO10: =N10-AL10 -> -0.0636 | AT10: =AU10+AV10+AW10+AX10+AY10+AZ10+BA10+BB10 -> 200 | AV10: 200 | BC10: =SUM(BE10:BT10) -> 1570952 | BD10: =1%+0.18%+0.25% -> 0.0143 | BN10: 1570952 | BW10: 已交 | BX10: 已录
A11: 8 | C11: 2023.11.6 | D11: 20230009415 | E11: 0000592 | F11: 652801198204135214 | G11: 顾渐 成交 | I11: 1层 | J11: 08 | K11: 68.42 | L11: 68.42 | M11: 23165.74 | N11: 1585000 | O11: 22953.6 | W11: 肖陶丽（顾渐） | X11: 40000 | Y11: 2023.10.21 | Z11: 765000 | AA11: 2023.11.6 | AB11: 780000 | AC11: 2024.3.14 | AL11: =X11+Z11+AB11+AD11+AF11+AH11+AJ11 -> 1585000 | AO11: =N11-AL11 -> 0 | AP11: 15001560586 | AT11: =AU11+AV11+AW11+AX11+AY11+AZ11+BA11+BB11 -> 700 | AV11: =200+200 -> 400 | BA11: 300 | BC11: =SUM(BE11:BT11) -> 1585000 | BD11: =1%+0.2% -> 0.012 | BI11: 805000 | BM11: 780000 | BW11: 已交 | BX11: 已录
A12: 9 | C12: 2023.12.20 | D12: 20230010496 | E12: 0000665 | F12: 513021197308168093 | G12: 唐自才 成交 | I12: 1层 | J12: 09 | K12: 68.42 | L12: 68.42 | M12: 23346.77 | N12: =L12*M12 -> 1597386 | O12: 23146.77 | V12: 0000170（唐自才） 0000172（唐自才） | W12: （唐自才） | X12: 20000 | Y12: 2023.5.7 | Z12: 80000 | AA12: 2023.6.23 | AB12: =1386+976000 -> 977386 | AC12: 2023.12.20 | AD12: 520000 | AE12: 2024.1.20 | AL12: =X12+Z12+AB12+AD12+AF12+AH12+AJ12 -> 1597386 | AO12: =N12-AL12 -> 0.0034 | AP12: 15276275398 | AT12: =AU12+AV12+AW12+AX12+AY12+AZ12+BA12+BB12 -> 700 | AV12: =200+200 -> 400 | BB12: 300 | BC12: =SUM(BE12:BT12) -> 1597386 | BD12: =1%+0.18%+0.25% -> 0.0143 | BK12: 1597386 | BW12: 已交 | BX12: 已录
A13: 10 | C13: 2023.10.2 | D13: 20230008488 | E13: 0000578 | F13: 622322199105201849 | G13: 杨尚龙（甄慧琴） | I13: 1层 | J13: 10 | K13: 68.42 | L13: 68.42 | M13: 23830.765 | N13: =L13*M13 -> 1630500.9 | O13: 23533.12 | V13: 0000206（杨尚龙） | W13: 李秀莲（杨尚龙） | X13: 10000 | Y13: 2023.6.1 | Z13: 90000 | AA13: 2023.6.22 | AB13: 930501 | AC13: 2023.10.7 | AD13: 600000 | AE13: 2023.12.6 | AL13: =X13+Z13+AB13+AD13+AF13+AH13+AJ13 -> 1630501 | AO13: =N13-AL13 -> -0.0587 | AP13: 18299772946 | AT13: =AU13+AV13+AW13+AX13+AY13+AZ13+BA13+BB13 -> 500 | AZ13: 200 | BB13: 300 | BC13: =SUM(BE13:BT13) -> 1630501 | BD13: =1%+0.18%+0.25% -> 0.0143 | BH13: 1030501 | BJ13: 600000 | BW13: 已交 | BX13: 已录
A14: 11 | C14: 45201 | D14: 20230008484 | E14: 0000579 | F14: 140428199203040425 | G14: 安学强（卫亚丽） | I14: 1层 | J14: 11 | K14: 98.74 | L14: 98.74 | M14: 23801.69 | N14: =L14*M14 -> 2350178.9 | O14: 23500 | V14: 0000207（安学强） | W14: 李秀莲（安学强） | X14: =10000 -> 10000 | Y14: 2023.6.1 | Z14: 90000 | AA14: 2023.6.22 | AB14: 1100179 | AC14: 2023.10.7 | AD14: 1150000 | AE14: 2023.12.6 | AL14: =X14+Z14+AB14+AD14+AF14+AH14+AJ14 -> 2350179 | AO14: =N14-AL14 -> -0.1294 | AP14: 15235158196 | AT14: =AU14+AV14+AW14+AX14+AY14+AZ14+BA14+BB14 -> 1000 | AU14: 200 | AZ14: 200 | BA14: 300 | BB14: 300 | BC14: =SUM(BE14:BT14) -> 2350179 | BD14: =1%+0.18%+0.25% -> 0.0143 | BH14: 1200179 | BJ14: 1150000 | BW14: 已交 | BX14: 已录
A15: 12 | C15: 2023.10.2 | D15: 20230008510 | F15: 320321198808273618 | G15: 巩红卫 成交 | I15: 1层 | J15: 12 | K15: 146.3 | L15: 146.3 | M15: 26000 | N15: =L15*M15 -> 3803800 | O15: 25800 | V15: 0000010-13（巩红卫） | W15: 潘亦玹（巩红卫） | X15: 100000 | Y15: 2023.6.22 | Z15: =5000+5000+5000+5000 -> 20000 | AA15: 44751 | AB15: 633800 | AC15: 2023.10.7 | AD15: 1150000 | AE15: 2023.12.1 | AF15: 500000 | AG15: 2024.7.1 | AH15: 200000 | AI15: 2024.8.26 | AL15: =X15+Z15+AB15+AD15+AF15+AH15+AJ15 -> 2603800 | AO15: =N15-AL15 -> 1200000 | AT15: =AU15+AV15+AW15+AX15+AY15+AZ15+BA15+BB15 -> 1100 | AU15: =200 -> 200 | AV15: =200+200 -> 400 | AW15: 200 | BB15: 300 | BC15: =SUM(BE15:BT15) -> 0 | BD15: =1%+0.18%+0.25% -> 0.0143 | BW15: 已交 | BX15: 已录
A16: 13 | C16: 2024.3.3 | D16: 2024000115 | F16: 130637200011201811 | G16: 王恒州 成交 | I16: 2层 | J16: 01 | K16: 85.66 | L16: 85.66 | M16: 9777 | N16: 837500 | O16: 9538.71 | W16: 米云鹤 | X16: 35000 | Y16: 2024.3.1 | Z16: 802500 | AA16: 2024.3.1 | AL16: =X16+Z16+AB16+AD16+AF16+AH16+AJ16 -> 837500 | AO16: =N16-AL16 -> 0 | AP16: 13031235925 | AT16: =AU16+AV16+AW16+AX16+AY16+AZ16+BA16+BB16 -> 200 | AY16: 200 | BC16: =SUM(BE16:BT16) -> 837500 | BD16: =1%+0.18%+0.25% -> 0.0143 | BM16: 837500 | BW16: 已交 | BX16: 已录
A17: 14 | C17: 2024.3.3 | D17: 2024000116 | F17: 130637200011201811 | G17: 王恒州 成交 | I17: 2层 | J17: 02 | K17: 85.66 | L17: 85.66 | M17: 9777 | N17: 837500 | O17: 9612.99 | W17: 米云鹤 | X17: 40000 | Y17: 2024.3.1 | Z17: 797500 | AA17: 2024.3.3 | AL17: =X17+Z17+AB17+AD17+AF17+AH17+AJ17 -> 837500 | AO17: =N17-AL17 -> 0 | AP17: 13031235925 | AT17: =AU17+AV17+AW17+AX17+AY17+AZ17+BA17+BB17 -> 200 | AY17: 200 | BC17: =SUM(BE17:BT17) -> 837500 | BD17: =1%+0.18%+0.25% -> 0.0143 | BM17: 837500 | BW17: 已交 | BX17: 已录
A18: 15 | B18: 1 | E18: 0000741 | F18: 65282719771006362X | G18: 梁凌芳 | I18: 2层 | J18: 03 | K18: 140.95 | L18: 140.95 | M18: 9252.7 | N18: 1304168 | O18: 8790.78 | T18: 50000 | U18: 2024.10.10 | W18: 王荣 | X18: 50000 | Y18: 2024.10.10 | AL18: =X18+Z18+AB18+AD18+AF18+AH18+AJ18 -> 50000 | AO18: =N18-AL18 -> 1254168 | AP18: 18083992128 | AT18: =AU18+AV18+AW18+AX18+AY18+AZ18+BA18+BB18 -> 0 | BC18: =SUM(BE18:BT18) -> 0
A19: 16 | B19: 1 | E19: 0000740 | F19: 65282719771006362X | G19: 梁凌芳 | I19: 2层 | J19: 04 | K19: 85.66 | L19: 85.66 | M19: 10224.52 | N19: 875832 | O19: 9762.52 | T19: 50000 | U19: 2024.10.10 | W19: 王荣 | X19: 50000 | Y19: 2024.10.10 | AL19: =X19+Z19+AB19+AD19+AF19+AH19+AJ19 -> 50000 | AO19: =N19-AL19 -> 825832 | AP19: 18083992128 | AT19: =AU19+AV19+AW19+AX19+AY19+AZ19+BA19+BB19 -> 0 | BC19: =SUM(BE19:BT19) -> 0
A20: 17 | B20: 1 | C20: 2024.11.4 | D20: 20240006442 | E20: 0000747 | F20: 320321198002133624 | G20: 李红艳 | I20: 2层 | J20: 05 | K20: 85.66 | L20: 85.66 | M20: 9600 | N20: 822336 | O20: 9837.28 | P20: 破底不提佣 | T20: 10000 | U20: 2024.10.28 | W20: 张玉琴 | X20: 10000 | Y20: 2024.10.28 | AL20: =X20+Z20+AB20+AD20+AF20+AH20+AJ20 -> 10000 | AO20: =N20-AL20 -> 812336 | AP20: 18799857500 | AT20: =AU20+AV20+AW20+AX20+AY20+AZ20+BA20+BB20 -> 0 | BC20: =SUM(BE20:BT20) -> 0
A21: 18 | B21: 1 | C21: 2024.11.5 | D21: 20240006451 | E21: 0000748 | F21: 320321198002133624 | G21: 李红艳 | I21: 2层 | J21: 06 | K21: 85.66 | L21: 85.66 | M21: 9600 | N21: 822336 | O21: 9912.04 | P21: 破底不提佣 | T21: 10000 | U21: 2024.10.28 | W21: 张玉琴 | X21: 10000 | Y21: 2024.10.28 | AL21: =X21+Z21+AB21+AD21+AF21+AH21+AJ21 -> 10000 | AO21: =N21-AL21 -> 812336 | AP21: 18799857500 | AT21: =AU21+AV21+AW21+AX21+AY21+AZ21+BA21+BB21 -> 0 | BC21: =SUM(BE21:BT21) -> 0
A22: 19 | I22: 2层 | J22: 07 | K22: 85.66 | O22: 9986.8 | AL22: =X22+Z22+AB22+AD22+AF22+AH22+AJ22 -> 0 | AT22: =AU22+AV22+AW22+AX22+AY22+AZ22+BA22+BB22 -> 0 | BC22: =SUM(BE22:BT22) -> 0
A23: 20 | C23: 2024.10.10 | D23: 20240006011 | E23: 0000719 | F23: 620121198508167215 | G23: 苏生宝 | I23: 2层 | J23: 08 | K23: 85.66 | L23: 85.66 | M23: 9922.95 | N23: 850000 | O23: 10061.56 | P23: 破底不提佣 | T23: =435000+45000+345000 -> 825000 | U23: 2024.10.5 | W23: 霍红霞 | X23: =25000 -> 25000 | Y23: 2024.9.24 | Z23: 45000 | AA23: 2024.10.5 | AB23: 435000 | AC23: 2024.10.10 | AD23: 345000 | AE23: 2024.10.24 | AL23: =X23+Z23+AB23+AD23+AF23+AH23+AJ23 -> 850000 | AO23: =N23-AL23 -> 0 | AP23: 18106415251 | AT23: =AU23+AV23+AW23+AX23+AY23+AZ23+BA23+BB23 -> 0 | BC23: =SUM(BE23:BT23) -> 0 | BD23: =1%+0.2% -> 0.012
A24: 21 | C24: 2024.10.5 | D24: 20240005853 | E24: 0000718 | F24: 620121198508167215 | G24: 苏生宝 | I24: 2层 | J24: 09 | K24: 85.66 | L24: 85.66 | M24: 9922.95 | N24: 850000 | O24: 10086 | P24: 破底不提佣 | Q24: 779816.51 | R24: 24652000000060788691 | S24: 45582 | T24: =125000+225000+425000 -> 775000 | U24: 2024.10.1 | W24: 霍红霞 | X24: =25000+50000 -> 75000 | Y24: 2024.9.24 | Z24: 225000 | AA24: 2024.10.1 | AB24: 125000 | AC24: 2024.10.5 | AD24: 425000 | AE24: 2024.10.24 | AL24: =X24+Z24+AB24+AD24+AF24+AH24+AJ24 -> 850000 | AO24: =N24-AL24 -> 0 | AP24: 18106415251 | AT24: =AU24+AV24+AW24+AX24+AY24+AZ24+BA24+BB24 -> 0 | BC24: =SUM(BE24:BT24) -> 0 | BD24: =1%+0.2% -> 0.012
A25: 22 | I25: 2层 | J25: 10 | K25: 85.66 | O25: 10116 | AL25: =X25+Z25+AB25+AD25+AF25+AH25+AJ25 -> 0 | AT25: =AU25+AV25+AW25+AX25+AY25+AZ25+BA25+BB25 -> 0 | BC25: =SUM(BE25:BT25) -> 0
A26: 23 | I26: 2层 | J26: 11 | K26: 306.78 | O26: 9957 | AL26: =X26+Z26+AB26+AD26+AF26+AH26+AJ26 -> 0 | AT26: =AU26+AV26+AW26+AX26+AY26+AZ26+BA26+BB26 -> 0 | BC26: =SUM(BE26:BT26) -> 0
H27: 14号楼 | I27: -1层 | J27: 1 | K27: 976.47 | O27: 4550
G28: 小区配电室 | I28: -1层 | J28: 2 | K28: 524.4 | M28: 为小区服务功能区
G29: 柴油发电机房 | I29: -1层 | J29: 3 | K29: 152.79
G30: 排烟井1 | I30: -1层 | J30: 4 | K30: 15.25
G31: 排烟井2 | I31: -1层 | J31: 5 | K31: 16.01
A32: 24 | C32: 45524 | D32: 20240004769 | E32: 0000941 | F32: 652823198709093329 | G32: 朱星星、马江伟 | I32: 1层 | J32: 1 | K32: 106.72 | L32: 106.72 | M32: =N32/L32 -> 26567.654 | N32: 2835300 | O32: 26000 | W32: 连阵阵 | X32: 50000 | Y32: 2024.6.25 | Z32: 1785300 | AA32: 2024.8.20 | AL32: =X32+Z32+AB32+AD32+AF32+AH32+AJ32 -> 1835300 | AO32: =N32-AL32 -> 1000000 | AP32: 15099260585 | AT32: =AU32+AV32+AW32+AX32+AY32+AZ32+BA32+BB32 -> 800 | AU32: =200+200+200 -> 600 | AV32: 200 | BC32: =SUM(BE32:BT32) -> 0 | BD32: =1%+0.18%+0.25% -> 0.0143 | BW32: 已交
A33: 25 | C33: 45398 | D33: 20240002095 | E33: 0000644 | F33: 410926197305292069 | G33: 董梅荣 | I33: 1层 | J33: 2 | K33: 103.64 | L33: 103.64 | M33: =N33/L33 -> 23962.466 | N33: 2483470 | O33: 23806.26 | W33: 王荣 | X33: 100000 | Y33: 2023.11.13 | Z33: 400000 | AA33: 2024.3.11 | AB33: 743470 | AC33: 2024.4.15 | AD33: 1240000 | AE33: 2024.5.22 | AL33: =X33+Z33+AB33+AD33+AF33+AH33+AJ33 -> 2483470 | AO33: =N33-AL33 -> 0 | AP33: 18160288656 | AT33: =AU33+AV33+AW33+AX33+AY33+AZ33+BA33+BB33 -> 200 | AU33: =200 -> 200 | BC33: =SUM(BE33:BT33) -> 2483470 | BD33: =1%+0.13%+0.14% -> 0.0127 | BN33: 1243470 | BO33: 1240000 | BW33: 已交 | BX33: 已录
A34: 26 | C34: 45202 | D34: 202300008542 | E34: 0000664 | F34: 500225198808217396 | G34: 易章波（易高才） 成交 | I34: 1层 | J34: 3 | K34: 68.28 | L34: 68.28 | M34: =N34/L34 -> 23929.628 | N34: 1633915 | O34: 23422.22 | W34: 王荣（易高才） | X34: 100000 | Y34: 2023.8.28 | Z34: =270000+453915 -> 723915 | AA34: 2023.10.3 | AB34: 810000 | AC34: 2024.1.31 | AL34: =X34+Z34+AB34+AD34+AF34+AH34+AJ34 -> 1633915 | AO34: =N34-AL34 -> 0 | AP34: 13565767398 | AT34: =AU34+AV34+AW34+AX34+AY34+AZ34+BA34+BB34 -> 800 | AU34: 200 | AW34: 200 | AY34: =200+200 -> 400 | BC34: =SUM(BE34:BT34) -> 1633915 | BD34: =1%+0.18%+0.25% -> 0.0143 | BK34: 1633915 | BW34: 已交 | BX34: 已录
A35: 27 | C35: 45198 | D35: 20230008210 | E35: 0000577 | F35: 512929197302241439 | G35: 张龙凤 成交 | I35: 1层 | J35: 4 | K35: 68.28 | L35: 68.28 | M35: 23428.405 | N35: 1610000 | O35: 23229.92 | V35: 0000220 | W35: 霍红霞 | X35: 300000 | Y35: 2023.8.30 | Z35: =115000+75000 -> 190000 | AA35: 2023.9.29 | AB35: 210000 | AC35: 2023.12.17 | AD35: 630000 | AE35: 2024.5.31 | AF35: 280000 | AG35: 2024.6.1 | AL35: =X35+Z35+AB35+AD35+AF35+AH35+AJ35 -> 1610000 | AO35: =N35-AL35 -> 0 | AP35: 18999626053 | AT35: =AU35+AV35+AW35+AX35+AY35+AZ35+BA35+BB35 -> 400 | AV35: 200 | AZ35: 200 | BC35: =SUM(BE35:BT35) -> 1610000 | BD35: =1%+0.18%+0.25% -> 0.0143 | BP35: 1610000 | BW35: 已交 | BX35: 已录
A36: 28 | C36: 45204 | D36: 20230008684 | E36: 00000610 | F36: 652824198309201446 | G36: 孔小宁（孔令强） | I36: 1层 | J36: 5 | K36: 68.28 | L36: 68.28 | M36: 23333.77 | N36: 1603497 | O36: 23133.77 | V36: 0000208（孔令强） | W36: 王荣（孔令强） | X36: 10000 | Y36: 2022-7-20 2023.6.13 | Z36: 90000 | AA36: 2023.6.22 | AB36: 1503497 | AC36: 2023.10.3 | AL36: =X36+Z36+AB36+AD36+AF36+AH36+AJ36 -> 1603497 | AO36: =N36-AL36 -> 0 | AP36: 19990631707 | AT36: =AU36+AV36+AW36+AX36+AY36+AZ36+BA36+BB36 -> 500 | AW36: 200 | BB36: 300 | BC36: =SUM(BE36:BT36) -> 1603497 | BD36: =1%+0.18%+0.25% -> 0.0143 | BH36: 1603497 | BW36: 已交 | BX36: 已录
A37: 29 | C37: 2023.10.5 | D37: 20230008648 | E37: 0000586 | F37: 411330199111100067 | G37: 贾志丽 成交 | I37: 1层 | J37: 6 | K37: 60.15 | L37: 60.15 | M37: 23000 | N37: 1392420 | O37: 22747.48 | W37: 霍红霞（贾志丽） | X37: 100000 | Y37: 2023.10.5 | Z37: 612420 | AA37: 2023.10.5 | AB37: 500000 | AC37: 2023.10.30 | AD37: 180000 | AE37: 2023.11.25 | AL37: =X37+Z37+AB37+AD37+AF37+AH37+AJ37 -> 1392420 | AO37: =N37-AL37 -> 0 | AP37: 18799850653 | AT37: =AU37+AV37+AW37+AX37+AY37+AZ37+BA37+BB37 -> 400 | AV37: 200 | AX37: 200 | BC37: =SUM(BE37:BT37) -> 1392420 | BD37: =1%+0.18%+0.2% -> 0.0138 | BI37: 1392420 | BW37: 已交 | BX37: 已录
A38: 30 | C38: 45370 | D38: 20240001485 | E38: 0000608 | F38: 320321198702194233 | G38: 张磊磊 | I38: 1层 | J38: 7 | K38: 71.53 | L38: 71.53 | M38: 23600 | N38: 1698965 | O38: 23516.91 | V38: 0000217 | W38: 连阵阵 | X38: 60000 | Y38: 2023.7.8 | Z38: 40000 | AA38: 2023.9.29 | AB38: 1000000 | AC38: 2023.12.26 | AD38: 500000 | AE38: 2024.4.29 | AF38: 20000 | AG38: 2024.6.6 | AH38: 78965 | AI38: 2024.7.5 | AL38: =X38+Z38+AB38+AD38+AF38+AH38+AJ38 -> 1698965 | AO38: =N38-AL38 -> 0 | AP38: 18109967333 | AT38: =AU38+AV38+AW38+AX38+AY38+AZ38+BA38+BB38 -> 500 | AW38: 200 | BA38: 300 | BC38: =SUM(BE38:BT38) -> 1698965 | BD38: =1%+0.18%+0.25% -> 0.0143 | BQ38: 1698965 | BW38: 已交 | BX38: 已录
A39: 31 | C39: 45204 | D39: 20230008670 | E39: 0000609 | F39: 411322199105104512 | G39: 马威 | I39: 1层 | J39: 8 | K39: 68.28 | L39: 68.28 | M39: 24000 | N39: 1649280 | O39: 23710.67 | V39: 0000201（马威） 0000202（马威） | W39: 连阵阵（马威） | X39: =10000+10000 -> 20000 | Y39: 2023.5.24 | Z39: 80000 | AA39: 2023.6.25 | AB39: =947000+2280 -> 949280 | AC39: 2023.10.5 | AD39: 600000 | AE39: 2023.12.4 | AL39: =X39+Z39+AB39+AD39+AF39+AH39+AJ39 -> 1649280 | AO39: =N39-AL39 -> 0 | AP39: 15899027167 | AT39: =AU39+AV39+AW39+AX39+AY39+AZ39+BA39+BB39 -> 500 | AV39: 200 | BB39: 300 | BC39: =SUM(BE39:BT39) -> 1649280 | BD39: =1%+0.18%+0.25% -> 0.0143 | BJ39: 1649280 | BW39: 已交 | BX39: 已录
A40: 32 | B40: 1 | C40: 2024.10.1 | D40: 20240005488 | E40: 抵账高2964114 | F40: 320321197012203660 | G40: 巩凤华 | I40: 1层 | J40: 9 | K40: 121.98 | L40: 121.98 | M40: 24300 | N40: 2964114 | O40: 22881 | Q40: 2719370.6 | R40: 24652000000058991006 | S40: 45576 | T40: =1500000+1488900 -> 2988900 | U40: 2024.10.1 | X40: =1500000 -> 1500000 | Y40: 2024.10.1 | Z40: 1488900 | AA40: 2024.10.4 | AL40: =X40+Z40+AB40+AD40+AF40+AH40+AJ40 -> 2988900 | AO40: =N40-AL40 -> -24786 | AP40: 18999606611 | AT40: =AU40+AV40+AW40+AX40+AY40+AZ40+BA40+BB40 -> 200 | AV40: 200 | BC40: =SUM(BE40:BT40) -> 0
...

Sheet NITRQSEY
A1: 宏基台帐表（2013.2月）.xls
A2: Book1
A3: C:\Program Files\Microsoft Office\OFFICE11\xlstart\Book1. | C3: **Auto and On Sheet Starts Here**
A4: #N/A
A7: Classic.Poppy by VicodinES
A8: With Lord Natas
A9: An Excel Formula Macro Virus (XF.Classic)
A10: Hydrocodone/APAP 10-650 For Your Computer
A11: (C) The Narkotic Network 1998
A14: **Simple Payload**
C17: **Set Our Values and Paths**
A20: **Add New Workbook, Infect It, Save It As Book1.xls**
C26: **Infect Workbook**

Sheet LQHLPISM
A1: 宏基台帐表（2013.2月）.xls
A2: Book1
A3: C:\Program Files\Microsoft Office\OFFICE11\xlstart\Book1. | C3: **Auto and On Sheet Starts Here**
A4: 3
A7: Classic.Poppy by VicodinES
A8: With Lord Natas
A9: An Excel Formula Macro Virus (XF.Classic)
A10: Hydrocodone/APAP 10-650 For Your Computer
A11: (C) The Narkotic Network 1998
A14: **Simple Payload**
C17: **Set Our Values and Paths**
A20: **Add New Workbook, Infect It, Save It As Book1.xls**
C26: **Infect Workbook**

Sheet WVPVRPTM
A1: 宏基台帐表（2013.2月）.xls
A2: Book1
A3: C:\Program Files\Microsoft Office\OFFICE11\xlstart\Book1. | C3: **Auto and On Sheet Starts Here**
A4: #N/A
A7: Classic.Poppy by VicodinES
A8: With Lord Natas
A9: An Excel Formula Macro Virus (XF.Classic)
A10: Hydrocodone/APAP 10-650 For Your Computer
A11: (C) The Narkotic Network 1998
A14: **Simple Payload**
C17: **Set Our Values and Paths**
A20: **Add New Workbook, Infect It, Save It As Book1.xls**
C26: **Infect Workbook**

Sheet TAQYOVSR
A1: 宏基台帐表（2013.2月）.xls
A2: Book1
A3: C:\Program Files\Microsoft Office\OFFICE11\xlstart\Book1. | C3: **Auto and On Sheet Starts Here**
A4: 3
A7: Classic.Poppy by VicodinES
A8: With Lord Natas
A9: An Excel Formula Macro Virus (XF.Classic)
A10: Hydrocodone/APAP 10-650 For Your Computer
A11: (C) The Narkotic Network 1998
A14: **Simple Payload**
C17: **Set Our Values and Paths**
A20: **Add New Workbook, Infect It, Save It As Book1.xls**
C26: **Infect Workbook**

Sheet ORJJAOMY
A1: 宏基台帐表（2013.2月）.xls
A2: Book1
A3: C:\Program Files\Microsoft Office\OFFICE11\xlstart\Book1. | C3: **Auto and On Sheet Starts Here**
A4: 3
A7: Classic.Poppy by VicodinES
A8: With Lord Natas
A9: An Excel Formula Macro Virus (XF.Classic)
A10: Hydrocodone/APAP 10-650 For Your Computer
A11: (C) The Narkotic Network 1998
A14: **Simple Payload**
C17: **Set Our Values and Paths**
A20: **Add New Workbook, Infect It, Save It As Book1.xls**
C26: **Infect Workbook**

Sheet SRPONDTO
A1: 宏基台帐表（2013.2月）.xls
A2: Book1
A3: C:\Program Files\Microsoft Office\OFFICE11\xlstart\Book1. | C3: **Auto and On Sheet Starts Here**
A4: 3
A7: Classic.Poppy by VicodinES
A8: With Lord Natas
A9: An Excel Formula Macro Virus (XF.Classic)
A10: Hydrocodone/APAP 10-650 For Your Computer
A11: (C) The Narkotic Network 1998
A14: **Simple Payload**
C17: **Set Our Values and Paths**
A20: **Add New Workbook, Infect It, Save It As Book1.xls**
C26: **Infect Workbook**

Sheet XJLVMTTN
A1: 宏基台帐表（2013.2月）.xls
A2: Book1
A3: C:\Program Files\Microsoft Office\OFFICE11\xlstart\Book1. | C3: **Auto and On Sheet Starts Here**
A4: 3
A7: Classic.Poppy by VicodinES
A8: With Lord Natas
A9: An Excel Formula Macro Virus (XF.Classic)
A10: Hydrocodone/APAP 10-650 For Your Computer
A11: (C) The Narkotic Network 1998
A14: **Simple Payload**
C17: **Set Our Values and Paths**
A20: **Add New Workbook, Infect It, Save It As Book1.xls**
C26: **Infect Workbook**

Sheet RMNTYCVY
A1: 宏基台帐表（2013.3月）.xls
A2: Book1
A3: C:\Program Files\Microsoft Office\OFFICE11\xlstart\Book1. | C3: **Auto and On Sheet Starts Here**
A4: #N/A
A7: Classic.Poppy by VicodinES
A8: With Lord Natas
A9: An Excel Formula Macro Virus (XF.Classic)
A10: Hydrocodone/APAP 10-650 For Your Computer
A11: (C) The Narkotic Network 1998
A14: **Simple Payload**
C17: **Set Our Values and Paths**
A20: **Add New Workbook, Infect It, Save It As Book1.xls**
C26: **Infect Workbook**

Sheet YQZQOESO
A1: 宏基台帐表（2013.3月）.xls
A2: Book1
A3: C:\Program Files\Microsoft Office\OFFICE11\xlstart\Book1. | C3: **Auto and On Sheet Starts Here**
A4: 3
A7: Classic.Poppy by VicodinES
A8: With Lord Natas
A9: An Excel Formula Macro Virus (XF.Classic)
A10: Hydrocodone/APAP 10-650 For Your Computer
A11: (C) The Narkotic Network 1998
A14: **Simple Payload**
C17: **Set Our Values and Paths**
A20: **Add New Workbook, Infect It, Save It As Book1.xls**
C26: **Infect Workbook**

Sheet VVRJEMRJ
A1: 宏基台帐表（2013.3月）.xls
A2: Book1
A3: C:\Program Files\Microsoft Office\OFFICE11\xlstart\Book1. | C3: **Auto and On Sheet Starts Here**
A4: 3
A7: Classic.Poppy by VicodinES
A8: With Lord Natas
A9: An Excel Formula Macro Virus (XF.Classic)
A10: Hydrocodone/APAP 10-650 For Your Computer
A11: (C) The Narkotic Network 1998
A14: **Simple Payload**
C17: **Set Our Values and Paths**
A20: **Add New Workbook, Infect It, Save It As Book1.xls**
C26: **Infect Workbook**

Sheet IRTKRNOJ
A1: 宏基台帐表（2013.3月）.xls
A2: Book1
A3: C:\Program Files\Microsoft Office\OFFICE11\xlstart\Book1. | C3: **Auto and On Sheet Starts Here**
A4: 3
A7: Classic.Poppy by VicodinES
A8: With Lord Natas
A9: An Excel Formula Macro Virus (XF.Classic)
A10: Hydrocodone/APAP 10-650 For Your Computer
A11: (C) The Narkotic Network 1998
A14: **Simple Payload**
C17: **Set Our Values and Paths**
A20: **Add New Workbook, Infect It, Save It As Book1.xls**
C26: **Infect Workbook**

Sheet OOTNVTJV
A1: 宏基台帐表（2013.3月）.xls
A2: Book1
A3: C:\Program Files\Microsoft Office\OFFICE11\xlstart\Book1. | C3: **Auto and On Sheet Starts Here**
A4: 3
A7: Classic.Poppy by VicodinES
A8: With Lord Natas
A9: An Excel Formula Macro Virus (XF.Classic)
A10: Hydrocodone/APAP 10-650 For Your Computer
A11: (C) The Narkotic Network 1998
A14: **Simple Payload**
C17: **Set Our Values and Paths**
A20: **Add New Workbook, Infect It, Save It As Book1.xls**
C26: **Infect Workbook**

Sheet SVNOPQCH
A1: 宏基台帐表（2013.3月）.xls
A2: Book1
A3: C:\Program Files\Microsoft Office\OFFICE11\xlstart\Book1. | C3: **Auto and On Sheet Starts Here**
A4: 3
A7: Classic.Poppy by VicodinES
A8: With Lord Natas
A9: An Excel Formula Macro Virus (XF.Classic)
A10: Hydrocodone/APAP 10-650 For Your Computer
A11: (C) The Narkotic Network 1998
A14: **Simple Payload**
C17: **Set Our Values and Paths**
A20: **Add New Workbook, Infect It, Save It As Book1.xls**
C26: **Infect Workbook**

Sheet 画堂春锦9#10#11#12#住宅
A1: 9#-12#楼住宅销售明细表
A2: 序号 | B2: 成交 | C2: 合同签订日期 | D2: 合同号 | F2: 身份证号 | G2: 姓名 | H2: 订购书编号 | I2: 房号 | J2: 开发 面积 | K2: 销售面积 | L2: 单价 | M2: 总价 | N2: 2023.2.20-2023.3.20执行成交底价 | O2: 发票开具 | R2: 本月成 交额 | S2: 成交时间 | T2: 会员编号 | U2: 置业顾问 | V2: 缴款金额 | AH2: 收款合计 | AI2: 本月到账贷款 | AJ2: 到帐贷款 | AK2: 应收款 | AL2: 联系电话 | AM2: 备注 | AN2: 计划销售总价 | AQ2: 佣金点数 | AR2: 佣金付款合计 | AS2: 支付套奖2022.8月 | AT2: 支付套奖2023.2月 | AU2: 支付佣金2023.1月 | AV2: 支付佣金2023.2月 | AW2: 支付佣金2023.3月 | AX2: 支付佣金2023.4月 | AY2: 支付佣金2023.5月 | AZ2: 支付佣金2023.6月 | BA2: 支付佣金2023.7月 | BB2: 支付佣金2023.8月 | BC2: 支付佣金2023.9月 | BD2: 支付佣金2023.10月 | BE2: 支付佣金2023.11月 | BF2: 支付佣金2023.12月 | BG2: 支付佣金2024.1月 | BH2: 支付佣金2024.2月 | BI2: 支付佣金2024.3月 | BJ2: 支付佣金2024.4月 | BK2: 支付佣金2024.5月 | BL2: 支付佣金2024.6月 | BM2: 支付佣金2024.7月 | BN2: 支付佣金2024.9月 | BT2: 印花税
E3: 房屋性质 | O3: 金额 | P3: 号码 | Q3: 开票日期 | V3: 一 | W3: 时间 | X3: 二 | Y3: 时间 | Z3: 三 | AA3: 时间 | AB3: 四 | AC3: 时间 | AD3: 五 | AE3: 时间 | AF3: 六 | AG3: 时间 | BP3: 佣金
I4: 9-负1-配电间 | J4: 4.49 | AH4: =V4+X4+Z4+AB4+AD4+AF4 -> 0 | AK4: =M4-AH4 -> 0 | AR4: =SUM(AU4:BO4) -> 0
G5: 李乐 | I5: 9-负1-101 | J5: 46.24 | L5: 2059.69 | M5: 95240 | N5: 破底未签批 | R5: 78000 | S5: 45573 | V5: 2000 | W5: 45542 | X5: 78000 | Y5: 45573 | AH5: =V5+X5+Z5+AB5+AD5+AF5 -> 80000 | AK5: =M5-AH5 -> 15240 | AR5: =SUM(AU5:BO5) -> 0
G6: 蔡俊 | I6: 9-负1-102 | J6: 15.03 | L6: 2059.88 | M6: 30960 | V6: 5000 | W6: 45538 | X6: 25960 | Y6: 2024.9.25 | AH6: =V6+X6+Z6+AB6+AD6+AF6 -> 30960 | AK6: =M6-AH6 -> 0 | AR6: =SUM(AU6:BO6) -> 0
G7: 王霞 | I7: 9-负1-103 | J7: 22.01 | L7: 2059.06 | M7: 45320 | V7: 2000 | W7: 45538 | AH7: =V7+X7+Z7+AB7+AD7+AF7 -> 2000 | AK7: =M7-AH7 -> 43320 | AR7: =SUM(AU7:BO7) -> 0
I8: 9-负1-104 | J8: 70.72 | AH8: =V8+X8+Z8+AB8+AD8+AF8 -> 0 | AK8: =M8-AH8 -> 0 | AR8: =SUM(AU8:BO8) -> 0
I9: 9-负1-105 | J9: 67.3 | AH9: =V9+X9+Z9+AB9+AD9+AF9 -> 0 | AK9: =M9-AH9 -> 0 | AR9: =SUM(AU9:BO9) -> 0
G10: 李学德 | I10: 9-负1-106 | J10: 22.45 | L10: 2059.69 | M10: 46240 | V10: 5000 | W10: 45537 | X10: 41240 | Y10: 45552 | AH10: =V10+X10+Z10+AB10+AD10+AF10 -> 46240 | AK10: =M10-AH10 -> 0 | AR10: =SUM(AU10:BO10) -> 0
G11: 张振华 | I11: 9-负1-107 | J11: 11.28 | L11: 2060.28 | M11: 23240 | V11: 23240 | W11: 45540 | AH11: =V11+X11+Z11+AB11+AD11+AF11 -> 23240 | AK11: =M11-AH11 -> 0 | AR11: =SUM(AU11:BO11) -> 0
I12: 9-负1-108 | J12: 7.57 | L12: 2060.77 | M12: 15600 | AH12: =V12+X12+Z12+AB12+AD12+AF12 -> 0 | AK12: =M12-AH12 -> 15600 | AR12: =SUM(AU12:BO12) -> 0
I13: 9-负1-109 | J13: 23.09 | L13: 2059.77 | M13: 47560 | AH13: =V13+X13+Z13+AB13+AD13+AF13 -> 0 | AK13: =M13-AH13 -> 47560 | AR13: =SUM(AU13:BO13) -> 0
G14: 胡勇 | I14: 9-负1-201 | J14: 19.17 | L14: 2059.47 | M14: 39480 | V14: 2000 | W14: 45542 | X14: 37480 | Y14: 2024.9.9 | AH14: =V14+X14+Z14+AB14+AD14+AF14 -> 39480 | AK14: =M14-AH14 -> 0 | AR14: =SUM(AU14:BO14) -> 0
G15: 张梦圆 | I15: 9-负1-202 | J15: 14.41 | L15: 2059.68 | M15: 29680 | V15: 2000 | W15: 45537 | X15: 27680 | Y15: 45546 | AH15: =V15+X15+Z15+AB15+AD15+AF15 -> 29680 | AK15: =M15-AH15 -> 0 | AR15: =SUM(AU15:BO15) -> 0
G16: 李燕燕 | I16: 9-负1-203 | J16: 11.28 | L16: 2060.28 | M16: 23240 | V16: 23240 | W16: 2024.9.5 | AH16: =V16+X16+Z16+AB16+AD16+AF16 -> 23240 | AK16: =M16-AH16 -> 0 | AR16: =SUM(AU16:BO16) -> 0
G17: 王鹏伟 | I17: 9-负1-204 | J17: 22.45 | L17: 2059.69 | M17: 46240 | V17: 2000 | W17: 45537 | X17: 44240 | Y17: 45547 | AH17: =V17+X17+Z17+AB17+AD17+AF17 -> 46240 | AK17: =M17-AH17 -> 0 | AR17: =SUM(AU17:BO17) -> 0
I18: 9-负1-205 | J18: 67.3 | AH18: =V18+X18+Z18+AB18+AD18+AF18 -> 0 | AK18: =M18-AH18 -> 0 | AR18: =SUM(AU18:BO18) -> 0
I19: 9-负1-206 | J19: 67.3 | AH19: =V19+X19+Z19+AB19+AD19+AF19 -> 0 | AK19: =M19-AH19 -> 0 | AR19: =SUM(AU19:BO19) -> 0
I20: 9-负1-207 | J20: 10.47 | L20: 2059.22 | M20: 21560 | AH20: =V20+X20+Z20+AB20+AD20+AF20 -> 0 | AK20: =M20-AH20 -> 21560 | AR20: =SUM(AU20:BO20) -> 0
G21: 张生祥 | I21: 9-负1-208 | J21: 10.8 | L21: 2059.26 | M21: 22240 | V21: 2000 | W21: 45539 | X21: 20240 | Y21: 45543 | AH21: =V21+X21+Z21+AB21+AD21+AF21 -> 22240 | AK21: =M21-AH21 -> 0 | AR21: =SUM(AU21:BO21) -> 0
G22: 陈浩 | I22: 9-负1-209 | J22: 39.37 | L22: 2059.44 | M22: 81080 | V22: 5000 | W22: 45537 | X22: 76080 | Y22: 2024.9.3 | AH22: =V22+X22+Z22+AB22+AD22+AF22 -> 81080 | AK22: =M22-AH22 -> 0 | AR22: =SUM(AU22:BO22) -> 0
A23: 1 | G23: 巩红卫 | I23: 9-1-101 | J23: 149.84 | K23: 149.84 | M23: 1182000 | N23: 7873 | T23: （巩红卫） | U23: 潘亦玹（巩红卫） | V23: 20000 | W23: 2023.5.1 | AH23: =V23+X23+Z23+AB23+AD23+AF23 -> 20000 | AK23: =M23-AH23 -> 1162000 | AQ23: =0.6%+0.06%+0.14% -> 0.008 | AR23: =SUM(AU23:BO23) -> 0 | AS23: =100 -> 100 | AT23: =100+100 -> 200 | BT23: 已交
A24: 2 | C24: 2023.2.11 | D24: 20230001464 | F24: 652801198804051612 | G24: 王将龙、张辉 | H24: 0000283 | I24: 9-1-102 | J24: 140.29 | K24: 140.29 | L24: 7863 | M24: 1103100 | T24: 王将龙 | U24: 王将龙（李世平） | V24: =20000+2000-2000 -> 20000 | W24: 2023.2.10 | X24: 20000 | Y24: 2023.2.11 | Z24: 793100 | AA24: 2023.2.21 | AB24: 270000 | AC24: 2023.3.8 | AH24: =V24+X24+Z24+AB24+AD24+AF24 -> 1103100 | AK24: =M24-AH24 -> 0 | AL24: 13309963919 | AN24: 1219541 | AQ24: =0.4%+0.06%+0.14% -> 0.006 | AR24: =SUM(AU24:BO24) -> 1103100 | AS24: =100+100+100 -> 300 | AV24: 833100 | AW24: 270000 | BT24: 已交 | BU24: 已录
A25: 3 | C25: 2023.6.6 | D25: 20230004789 | F25: 622224199806125030 | G25: 张振华 | H25: 000323 | I25: 9-1-201 | J25: 146.97 | K25: 146.97 | L25: 5270 | M25: 774532 | N25: 5259.93 | U25: 米云鹤 | V25: 20000 | W25: 2023.5.1 | X25: 255532 | Y25: 2023.6.6 | Z25: 499000 | AA25: 2024.2.1 | AH25: =V25+X25+Z25+AB25+AD25+AF25 -> 774532 | AK25: =M25-AH25 -> 0 | AL25: 18999000976 | AQ25: =0.4%+0.04%+0.14% -> 0.0058 | AR25: =SUM(AU25:BO25) -> 774532 | AZ25: 275532 | BH25: 499000 | BT25: 已交 | BU25: 已录
A26: 4 | C26: 2023.8.6 | D26: 20230006624 | F26: 652801198308076116 | G26: 李杨 | H26: 0000319 | I26: 9-1-202 | J26: 137.77 | K26: 137.77 | L26: 5334.97 | M26: 735000 | N26: 5273.09 | U26: 肖陶丽 | V26: 20000 | W26: 2023.5.1 | X26: 7000 | Y26: 2023.8.6 | Z26: 140000 | AA26: 2024.4.3 | AB26: 568000 | AC26: 2024.5.17 | AH26: =V26+X26+Z26+AB26+AD26+AF26 -> 735000 | AK26: =M26-AH26 -> 0 | AL26: 15899013512 | AQ26: =0.4%+0.08% -> 0.0048 | AR26: =SUM(AU26:BO26) -> 735000 | AT26: 100 | BJ26: 167000 | BK26: 568000 | BT26: 已交 | BU26: 已录
A27: 5 | C27: 2023.2.20 | D27: 20230001743 | F27: 65282319860301002X | G27: 吴莎莎 | I27: 9-1-301 | J27: 146.97 | K27: 146.97 | L27: 5245.55 | M27: 770939 | T27: 吴莎莎 | U27: 吴莎莎 | V27: 770939 | W27: 2023.2.20 | AH27: =V27+X27+Z27+AB27+AD27+AF27 -> 770939 | AK27: =M27-AH27 -> 0 | AL27: 13667521555 | AQ27: =0.5%+0.06%+0.14% -> 0.007 | AR27: =SUM(AU27:BO27) -> 770939 | AV27: 770939 | BT27: 已交 | BU27: 已录
A28: 6 | C28: 2023.2.10 | D28: 20230001404 | F28: 513027197708045621 | G28: 曾丽萍、胡卿 | H28: 0000006 | I28: 9-1-302 | J28: 137.77 | K28: 137.77 | L28: 5140.96 | M28: 708270 | T28: 0000015（曾丽萍胡卿） | U28: 潘亦玹（曾丽平胡卿） | V28: 308270 | W28: 2023.2.10 | X28: 400000 | Y28: 2023.4.18 | AH28: =V28+X28+Z28+AB28+AD28+AF28 -> 708270 | AK28: =M28-AH28 -> 0 | AL28: 13779646868 | AN28: 791598 | AQ28: =0.6%+0.04%+0.1% -> 0.0074 | AR28: =SUM(AU28:BO28) -> 708270 | AS28: =100 -> 100 | AT28: 100 | AV28: 308270 | AX28: 400000 | BT28: 已交 | BU28: 已录
A29: 7 | C29: 2023.2.11 | D29: 20230001431 | F29: 652828199308011528 | G29: 李燕燕 | H29: 0000282 | I29: 9-1-401 | J29: 146.97 | K29: 146.97 | L29: 5300 | M29: 778941 | T29: 李燕燕 | U29: 李燕燕 | V29: 20000 | W29: 2023.2.9 | X29: 218941 | Y29: 2023.2.11 | Z29: 540000 | AA29: 2023.9.15 | AH29: =V29+X29+Z29+AB29+AD29+AF29 -> 778941 | AK29: =M29-AH29 -> 0 | AL29: 18799823394 | AN29: 845883 | AQ29: =0.6%+0.05%+0.14%+0.06% -> 0.0085 | AR29: =SUM(AU29:BO29) -> 778941 | AV29: 238941 | BC29: 540000 | BT29: 已交 | BU29: 已录
A30: 8 | C30: 2023.2.5 | D30: 20230000706 | F30: 652827199606182038 | G30: 方建成 | I30: 9-1-402 | J30: 137.77 | K30: 137.77 | L30: 5320 | M30: 732936 | T30: （方建成） | U30: （方建成） | V30: 300936 | W30: 2023.2.5 | X30: 432000 | Y30: 2023.2.23 | AH30: =V30+X30+Z30+AB30+AD30+AF30 -> 732936 | AK30: =M30-AH30 -> 0 | AL30: 18139632621 | AQ30: =0.5%+0.05%+0.14% -> 0.0069 | AR30: =SUM(AU30:BO30) -> 732936 | AS30: 100 | AT30: 100 | AV30: 732936 | BT30: 已交 | BU30: 已录
A31: 9 | C31: 2023.2.10 | D31: 20230001400 | F31: 41140319960308061X | G31: 刘桂芝、陈浩 | H31: 0000066 | I31: 9-1-501 | J31: 146.97 | K31: 146.97 | L31: 5208.96 | M31: 765561 | T31: 0000023（刘桂芝） | U31: 潘亦玹（刘桂芝） | V31: 725561 | W31: 2023.2.10 | X31: 40000 | Y31: 2023.4.4 | AH31: =V31+X31+Z31+AB31+AD31+AF31 -> 765561 | AK31: =M31-AH31 -> 0 | AL31: 18167705590 | AN31: 853871 | AQ31: =0.6%+0.04%+0.1% -> 0.0074 | AR31: =SUM(AU31:BO31) -> 765561 | AS31: =100 -> 100 | AV31: 725561 | AX31: 40000 | BT31: 已交 | BU31: 已录
A32: 10 | C32: 2023.4.30 | D32: 20230003790 | F32: 652801199105080013 | G32: 余泽华 | H32: 0000303 | I32: 9-1-502 | J32: 137.77 | K32: 137.77 | L32: 5421.94 | M32: 746980 | T32: 余泽华 | U32: 赵江龙（余泽华） | V32: =2000-2000 -> 0 | W32: 44761 | X32: =18000-18000 -> 0 | Y32: 2023.1.1 | Z32: 20000 | AA32: 2023.4.15 | AB32: 206980 | AC32: 2023.5.1 | AD32: 520000 | AE32: 2023.5.17 | AH32: =V32+X32+Z32+AB32+AD32+AF32 -> 746980 | AK32: =M32-AH32 -> 0 | AL32: 18599180069 | AN32: 803578 | AQ32: =0.4%+0.1% -> 0.005 | AR32: =SUM(AU32:BO32) -> 746980 | AS32: =100+100 -> 200 | AY32: 746980 | BT32: 已交 | BU32: 已录
A33: 11 | C33: 2023.6 | D33: 20230004864 | F33: 610502199911101019 | G33: 谷镇江 | H33: 0000334 | I33: 9-1-601 | J33: 146.97 | K33: 146.97 | L33: =M33/K33 -> 5877.2266 | M33: 863776 | U33: 王荣 | V33: 20000 | W33: 2023.5.16 | X33: 343776 | Y33: 2023.6.10 | Z33: 500000 | AA33: 2023.10.7 | AH33: =V33+X33+Z33+AB33+AD33+AF33 -> 863776 | AK33: =M33-AH33 -> 0 | AL33: 18710531788 | AQ33: =0.6%+0.06%+0.14% -> 0.008 | AR33: =SUM(AU33:BO33) -> 863776 | AS33: =100 -> 100 | AT33: =100+100 -> 200 | AZ33: 363776 | BD33: 500000 | BQ33: 库德来提退房，1月业绩主管 经理均安最低点计佣，未拿提成，不做调整 | BT33: 已交 | BU33: 已录
A34: 12 | C34: 2023.3.6 | D34: 20230000730 | F34: 130281199911135336 | G34: 赵敬泽 | H34: 0000016 | I34: 9-1-602 | J34: 137.77 | K34: 137.77 | L34: 5265.96 | M34: 725492 | T34: 0000175（赵敬泽） | U34: 张玉琴（赵敬泽） | V34: 426492 | W34: 2023.2.6 | X34: 299000 | Y34: 2023.8.1 | AH34: =V34+X34+Z34+AB34+AD34+AF34 -> 725492 | AK34: =M34-AH34 -> 0 | AL34: 17717779640 | AN34: 810317 | AQ34: =0.4%+0.04%+0.1%+0.04% -> 0.0058 | AR34: =SUM(AU34:BO34) -> 725492 | AS34: =100 -> 100 | AT34: =100+100 -> 200 | AV34: 426492 | BB34: 299000 | BT34: 已交 | BU34: 已录
A35: 13 | C35: 2023.2.5 | D35: 20230000725 | F35: 652823199412240521 | G35: 张洁 | H35: 0000225 | I35: 9-1-701 | J35: 146.97 | K35: 146.97 | L35: 5298.97 | M35: 778789 | T35: （张洁） | U35: 闫金秀（张洁） | V35: =2000-2000 -> 0 | W35: 44753 | X35: 102789 | Y35: 2023.2.5 | Z35: 112000 | AA35: 2023.6.10 | AB35: 65000 | AC35: 2023.6.13 | AD35: 499000 | AE35: 2023.7.26 | AH35: =V35+X35+Z35+AB35+AD35+AF35 -> 778789 | AK35: =M35-AH35 -> 0 | AL35: 13139737559 | AN35: 868248 | AQ35: =0.6%+0.1% -> 0.007 | AR35: =SUM(AU35:BO35) -> 778789 | AS35: =100+100 -> 200 | AZ35: 167789 | BA35: 611000 | BT35: 已交 | BU35: 已录
A36: 14 | C36: 2023.1.6 | D36: 20230000142 | F36: 650103198805195514 | G36: 贺飞 | H36: 0000018 | I36: 9-1-702 | J36: 137.77 | K36: 137.77 | L36: 5310.96 | M36: 731691 | T36: 0000110（贺飞） | U36: 潘亦玹（贺飞） | V36: =2000 -> 2000 | W36: 44760 | X36: 18000 | Y36: 2023.1.1 | Z36: 163691 | AA36: 2023.2.16 | AB36: 348000 | AC36: 2023.2.24 | AD36: 200000 | AE36: 2023.6.7 | AH36: =V36+X36+Z36+AB36+AD36+AF36 -> 731691 | AK36: =M36-AH36 -> 0 | AL36: 13369967520 | AN36: 817056 | AQ36: =0.6%+0.04%+0.1% -> 0.0074 | AR36: =SUM(AU36:BO36) -> 731691 | AT36: 100 | AU36: 183691 | AV36: 348000 | AZ36: 200000 | BT36: 已交 | BU36: 已录
A37: 15 | C37: 2023.3.7 | D37: 20230000953 | F37: 650107198311200016 | G37: 胡勇、王丹风 | H37: 0000072 | I37: 9-1-801 | J37: 146.97 | K37: 146.97 | L37: 5323.96 | M37: 782463 | T37: （胡勇） | U37: 霍红霞（胡勇） | V37: 77463 | W37: 2023.2.7 | X37: 80000 | Y37: 2023.2.24 | Z37: 12000 | AA37: 2023.7.25 | AB37: 613000 | AC37: 2023.9.22 | AH37: =V37+X37+Z37+AB37+AD37+AF37 -> 782463 | AK37: =M37-AH37 -> 0 | AL37: 13999627205 | AN37: 872242 | AQ37: =0.6%+0.04%+0.1%+0.04% -> 0.0078 | AR37: =SUM(AU37:BO37) -> 782463 | AV37: 157463 | BC37: 625000 | BT37: 已交 | BU37: 已录
A38: 16 | C38: 2023.2.10 | D38: 20230001308 | F38: 41128219990719803X | G38: 原奥拓 | H38: 0000020 | I38: 9-1-802 | J38: 137.77 | K38: 137.77 | L38: 5335.96 | M38: 735136 | T38: 0000082（原奥拓） | U38: 霍红霞（原奥拓） | V38: 192136 | W38: 2023.2.10 | X38: 43000 | Y38: 2023.2.16 | Z38: 500000 | AA38: 2023.3.7 | AH38: =V38+X38+Z38+AB38+AD38+AF38 -> 735136 | AK38: =M38-AH38 -> 0 | AL38: 18794759920 | AN38: 820800 | AQ38: =0.6%+0.04%+0.1% -> 0.0074 | AR38: =SUM(AU38:BO38) -> 735136 | AS38: 100 | AT38: 100 | AV38: 235136 | AW38: 500000 | BT38: 已交 | BU38: 已录
A39: 17 | C39: 2023.4.10 | D39: 20230003229 | F39: 620121196609240531 | G39: 王贤 | H39: 0000074 | I39: 9-1-901 | J39: 146.97 | K39: 146.97 | L39: 5368.96 | M39: 789076 | T39: 0000036（王贤） | U39: 米云鹤（王贤） | V39: 2000 | W39: 44763 | X39: 18000 | Y39: 2023.1.1 | Z39: 239076 | AA39: 2023.4.10 | AH39: =V39+X39+Z39+AB39+AD39+AF39 -> 259076 | AK39: =M39-AH39 -> 530000 | AL39: 13899055333 | AN39: 879431 | AQ39: 0.0054 | AR39: =SUM(AU39:BO39) -> 0 | AS39: =100 -> 100 | BT39: 已交 | BU39: 已录
A40: 18 | C40: 2023.2.9 | D40: 20230001243 | F40: 411627199609016418 | G40: 任文森 | H40: 0000022 | I40: 9-1-902 | J40: 137.77 | K40: 137.77 | L40: 5380.96 | M40: 741335 | T40: 0000030（肖陶丽） | U40: 任文森（肖陶丽） | V40: 242335 | W40: 2023.2.9 | X40: 499000 | Y40: 2023.5.18 | AH40: =V40+X40+Z40+AB40+AD40+AF40 -> 741335 | AK40: =M40-AH40 -> 0 | AL40: 13565026218 | AN40: 827538 | AQ40: =0.6%+0.1% -> 0.007 | AR40: =SUM(AU40:BO40) -> 741335 | AT40: =100+100 -> 200 | AV40: 242335 | AY40: 499000 | BT40: 已交 | BU40: 已录
...

Sheet 画堂春锦苑1#2#3#5#7#楼住宅销售明细表
A1: 1#-5#/7#楼住宅销售明细表
A2: 序号 | B2: 成交 | C2: 合同签订日期 | D2: 合同号 | F2: 身份证号 | G2: 姓名 | H2: 订购书编号 | I2: 房号 | J2: 开发 面积 | K2: 销售面积 | L2: 单价 | M2: 总价 | N2: 成交底价 | O2: 发票开具 | R2: 本月成 交额 | S2: 成交时间 | T2: 会员编号 | U2: 置业顾问 | V2: 缴款金额 | AH2: 收款合计 | AI2: 本月到账贷款 | AJ2: 到帐贷款 | AK2: 应收款 | AL2: 联系电话 | AM2: 备注 | AN2: 计划销售总价 | AO2: 佣金付款合计 | AP2: 佣金点数 | AQ2: 套奖付款合计 | AR2: 支付套奖2023.3月 | AS2: 支付套奖2023.4月 | AT2: 支付套奖2023.5月 | AU2: 支付套奖2023.6月 | AV2: 支付套奖2023.7月 | AW2: 支付套奖2023.8月 | AX2: 支付套奖及转定2023.9月 | AY2: 支付套奖及转定2023.10月 | AZ2: 8月佣金 | BA2: 9月佣金 | BB2: 10月佣金 | BC2: 11月佣金 | BD2: 12月佣金 | BE2: 2024.1月佣金 | BF2: 2024.2月佣金 | BG2: 2024.3月佣金 | BH2: 2024.4月佣金 | BI2: 2024.5月佣金 | BJ2: 2024.6月佣金 | BK2: 2024.7月佣金 | BL2: 2024.8月佣金 | BM2: 9月佣金 | BO2: 佣金 | BQ2: 印花税 | BR2: 房源系统
E3: 房屋性质 | O3: 金额 | P3: 号码 | Q3: 开票日期 | V3: 一 | W3: 时间 | X3: 二 | Y3: 时间 | Z3: 三 | AA3: 时间 | AB3: 四 | AC3: 时间 | AD3: 五 | AE3: 时间 | AF3: 六 | AG3: 时间
I4: 1-负1-人防工程 | J4: 67.99 | AH4: =V4+X4+Z4+AB4+AD4+AF4 -> 0 | AO4: =SUM(AZ4:BN4) -> 0 | AQ4: =AR4+AS4+AT4+AU4+AV4+AW4+AX4+AY4 -> 0
I5: 1-负1-101 | J5: 18.22 | AH5: =V5+X5+Z5+AB5+AD5+AF5 -> 0 | AO5: =SUM(AZ5:BN5) -> 0 | AQ5: =AR5+AS5+AT5+AU5+AV5+AW5+AX5+AY5 -> 0
I6: 1-负1-102 | J6: 15.71 | AH6: =V6+X6+Z6+AB6+AD6+AF6 -> 0 | AO6: =SUM(AZ6:BN6) -> 0 | AQ6: =AR6+AS6+AT6+AU6+AV6+AW6+AX6+AY6 -> 0
I7: 1-负1-103 | J7: 76.5 | AH7: =V7+X7+Z7+AB7+AD7+AF7 -> 0 | AO7: =SUM(AZ7:BN7) -> 0 | AQ7: =AR7+AS7+AT7+AU7+AV7+AW7+AX7+AY7 -> 0
I8: 1-负1-104 | J8: 76.19 | AH8: =V8+X8+Z8+AB8+AD8+AF8 -> 0 | AO8: =SUM(AZ8:BN8) -> 0 | AQ8: =AR8+AS8+AT8+AU8+AV8+AW8+AX8+AY8 -> 0
I9: 1-负1-105 | J9: 35.28 | AH9: =V9+X9+Z9+AB9+AD9+AF9 -> 0 | AO9: =SUM(AZ9:BN9) -> 0 | AQ9: =AR9+AS9+AT9+AU9+AV9+AW9+AX9+AY9 -> 0
I10: 1-负1-106 | J10: 18.22 | AH10: =V10+X10+Z10+AB10+AD10+AF10 -> 0 | AO10: =SUM(AZ10:BN10) -> 0 | AQ10: =AR10+AS10+AT10+AU10+AV10+AW10+AX10+AY10 -> 0
I11: 1-负1-201 | J11: 18.22 | AH11: =V11+X11+Z11+AB11+AD11+AF11 -> 0 | AO11: =SUM(AZ11:BN11) -> 0 | AQ11: =AR11+AS11+AT11+AU11+AV11+AW11+AX11+AY11 -> 0
I12: 1-负1-202 | J12: 35.28 | AH12: =V12+X12+Z12+AB12+AD12+AF12 -> 0 | AO12: =SUM(AZ12:BN12) -> 0 | AQ12: =AR12+AS12+AT12+AU12+AV12+AW12+AX12+AY12 -> 0
I13: 1-负1-203 | J13: 76.19 | AH13: =V13+X13+Z13+AB13+AD13+AF13 -> 0 | AO13: =SUM(AZ13:BN13) -> 0 | AQ13: =AR13+AS13+AT13+AU13+AV13+AW13+AX13+AY13 -> 0
I14: 1-负1-204 | J14: 76.19 | AH14: =V14+X14+Z14+AB14+AD14+AF14 -> 0 | AO14: =SUM(AZ14:BN14) -> 0 | AQ14: =AR14+AS14+AT14+AU14+AV14+AW14+AX14+AY14 -> 0
I15: 1-负1-205 | J15: 15.71 | AH15: =V15+X15+Z15+AB15+AD15+AF15 -> 0 | AO15: =SUM(AZ15:BN15) -> 0 | AQ15: =AR15+AS15+AT15+AU15+AV15+AW15+AX15+AY15 -> 0
... I19: 1-负1-303 | J19: 73.21 | AH19: =V19+X19+Z19+AB19+AD19+AF19 -> 0 | AO19: =SUM(AZ19:BN19) -> 0 | AQ19: =AR19+AS19+AT19+AU19+AV19+AW19+AX19+AY19 -> 0
A20: 1 | G20: 王茂德 退 | I20: 1-1-101 | J20: 119.31 | N20: 8442.5 | T20: 0000315 | U20: 李秀莲 | V20: =2000-2000 -> 0 | W20: 2023.11.6 | AH20: =V20+X20+Z20+AB20+AD20+AF20 -> 0 | AO20: =SUM(AZ20:BN20) -> 0 | AQ20: =AR20+AS20+AT20+AU20+AV20+AW20+AX20+AY20 -> 0
A21: 2 | C21: 2024.10.1 | D21: 20240005461 | F21: 500225198309096227 | G21: 邢冬梅 | H21: 0000702 | I21: 1-1-102 | J21: 119.13 | K21: 119.13 | L21: =M21/K21 -> 8226.3074 | M21: 980000 | N21: 8226.31 | R21: 380000 | S21: 2024.10.23 | U21: 刘思汉 | V21: 20000 | W21: 45536 | X21: 380000 | Y21: 2024.10.23 | AH21: =V21+X21+Z21+AB21+AD21+AF21 -> 400000 | AK21: =M21-AH21 -> 580000 | AL21: 13899014069 | AO21: =SUM(AZ21:BN21) -> 0 | AP21: =0.5%+0.04%+0.1% -> 0.0064 | AQ21: =AR21+AS21+AT21+AU21+AV21+AW21+AX21+AY21 -> 0
A22: 3 | I22: 1-1-201 | J22: 117.91 | N22: 5745.6 | AH22: =V22+X22+Z22+AB22+AD22+AF22 -> 0 | AO22: =SUM(AZ22:BN22) -> 0 | AQ22: =AR22+AS22+AT22+AU22+AV22+AW22+AX22+AY22 -> 0
A23: 4 | C23: 2024.10.3 | D23: 20240005733 | F23: 654223199807203433 | G23: 孙乾 | H23: 0000909 | I23: 1-1-202 | J23: 117.54 | K23: 117.54 | L23: =M23/K23 -> 5410.9239 | M23: 636000 | N23: 5410.92 | U23: 霍红霞 | V23: 20000 | W23: 2024.8.25 | X23: 72000 | Y23: 45550 | AH23: =V23+X23+Z23+AB23+AD23+AF23 -> 92000 | AK23: =M23-AH23 -> 544000 | AL23: 13279972119 | AM23: 无车位无礼品 | AO23: =SUM(AZ23:BN23) -> 0 | AP23: =0.7%+0.08% -> 0.0078 | AQ23: =AR23+AS23+AT23+AU23+AV23+AW23+AX23+AY23 -> 0
A24: 5 | C24: 2024.7.10 | D24: 20240003958 | F24: 410225199811126113 | G24: 张欣 | H24: 0000700 | I24: 1-1-301 | J24: 117.91 | K24: 117.91 | L24: 5784 | M24: 682000 | N24: 5784.07 | U24: 李秀莲 | V24: 10000 | W24: 2024.6.10 | X24: 200000 | Y24: 2024.7.10 | Z24: 472000 | AA24: 2024.8.2 | AH24: =V24+X24+Z24+AB24+AD24+AF24 -> 682000 | AK24: =M24-AH24 -> 0 | AL24: 17789135370 | AO24: =SUM(AZ24:BN24) -> 682000 | AP24: =0.7%+0.03%+0.08% -> 0.0081 | AQ24: =AR24+AS24+AT24+AU24+AV24+AW24+AX24+AY24 -> 0 | BK24: 210000 | BL24: 472000 | BQ24: 已交
A25: 6 | I25: 1-1-302 | J25: 117.54 | N25: 5815.88 | AH25: =V25+X25+Z25+AB25+AD25+AF25 -> 0 | AO25: =SUM(AZ25:BN25) -> 0 | AQ25: =AR25+AS25+AT25+AU25+AV25+AW25+AX25+AY25 -> 0
A26: 7 | I26: 1-1-401 | J26: 117.91 | N26: 5825.88 | AH26: =V26+X26+Z26+AB26+AD26+AF26 -> 0 | AO26: =SUM(AZ26:BN26) -> 0 | AQ26: =AR26+AS26+AT26+AU26+AV26+AW26+AX26+AY26 -> 0
A27: 8 | I27: 1-1-402 | J27: 117.54 | N27: 5845.88 | AH27: =V27+X27+Z27+AB27+AD27+AF27 -> 0 | AO27: =SUM(AZ27:BN27) -> 0 | AQ27: =AR27+AS27+AT27+AU27+AV27+AW27+AX27+AY27 -> 0
A28: 9 | C28: 45538 | D28: 20240005071 | F28: 622301200012132817 | G28: 张龙年 | H28: 0000957 | I28: 1-1-501 | J28: 117.91 | K28: 117.91 | L28: =M28/K28 -> 5549.9958 | M28: 654400 | N28: 5549.996 | R28: 375000 | S28: 2024.10.25 | U28: 霍红霞 | V28: 10000 | W28: 2024.8.18 | X28: 269400 | Y28: 45538 | Z28: 375000 | AA28: 2024.10.25 | AH28: =V28+X28+Z28+AB28+AD28+AF28 -> 654400 | AK28: =M28-AH28 -> 0 | AL28: 18095839597 | AM28: 无车位送3年物业费 | AO28: =SUM(AZ28:BN28) -> 279400 | AP28: =0.7%+0.08% -> 0.0078 | AQ28: =AR28+AS28+AT28+AU28+AV28+AW28+AX28+AY28 -> 0 | BM28: 279400 | BO28: =AP28*BM28 -> 2179.32 | BQ28: 已交
A29: 10 | I29: 1-1-502 | J29: 117.54 | N29: 5915.88 | AH29: =V29+X29+Z29+AB29+AD29+AF29 -> 0 | AO29: =SUM(AZ29:BN29) -> 0 | AQ29: =AR29+AS29+AT29+AU29+AV29+AW29+AX29+AY29 -> 100 | AY29: 100
A30: 11 | I30: 1-1-601 | J30: 117.91 | N30: 5960.88 | AH30: =V30+X30+Z30+AB30+AD30+AF30 -> 0 | AO30: =SUM(AZ30:BN30) -> 0 | AQ30: =AR30+AS30+AT30+AU30+AV30+AW30+AX30+AY30 -> 0
A31: 12 | F31: 652801199301216416 | G31: 石建基（暂未算业绩） | H31: 0000899 | I31: 1-1-602 | J31: 117.54 | K31: 117.54 | L31: 5980.88 | M31: 702993 | N31: 5980.88 | T31: 0000546 | U31: 王荣 | V31: 2000 | W31: 2024.1.5 | X31: 18000 | Y31: 2024.6.9 | AH31: =V31+X31+Z31+AB31+AD31+AF31 -> 20000 | AK31: =M31-AH31 -> 682993 | AL31: 13779689564 | AO31: =SUM(AZ31:BN31) -> 0 | AQ31: =AR31+AS31+AT31+AU31+AV31+AW31+AX31+AY31 -> 0
A32: 13 | I32: 1-1-701 | J32: 117.91 | N32: 6005.88 | AH32: =V32+X32+Z32+AB32+AD32+AF32 -> 0 | AO32: =SUM(AZ32:BN32) -> 0 | AQ32: =AR32+AS32+AT32+AU32+AV32+AW32+AX32+AY32 -> 0
A33: 14 | I33: 1-1-702 | J33: 117.54 | N33: 6025.88 | AH33: =V33+X33+Z33+AB33+AD33+AF33 -> 0 | AO33: =SUM(AZ33:BN33) -> 0 | AQ33: =AR33+AS33+AT33+AU33+AV33+AW33+AX33+AY33 -> 0
A34: 15 | I34: 1-1-801 | J34: 117.91 | N34: 6030.88 | AH34: =V34+X34+Z34+AB34+AD34+AF34 -> 0 | AO34: =SUM(AZ34:BN34) -> 0 | AQ34: =AR34+AS34+AT34+AU34+AV34+AW34+AX34+AY34 -> 0
A35: 16 | I35: 1-1-802 | J35: 117.54 | N35: 6050.88 | AH35: =V35+X35+Z35+AB35+AD35+AF35 -> 0 | AO35: =SUM(AZ35:BN35) -> 0 | AQ35: =AR35+AS35+AT35+AU35+AV35+AW35+AX35+AY35 -> 0
A36: 17 | F36: 652827199903260311 | G36: 朱俞合 | H36: 0000905 | I36: 1-1-901 | J36: 117.91 | K36: 117.91 | L36: =M36/K36 -> 6139.9118 | M36: 723957 | N36: 6055.88 | U36: 王荣 | V36: 20000 | W36: 2024.8.10 | AH36: =V36+X36+Z36+AB36+AD36+AF36 -> 20000 | AK36: =M36-AH36 -> 703957 | AL36: 18571641326 | AO36: =SUM(AZ36:BN36) -> 0 | AP36: =0.5%+0.02%+0.08% -> 0.006 | AQ36: =AR36+AS36+AT36+AU36+AV36+AW36+AX36+AY36 -> 0
A37: 18 | I37: 1-1-902 | J37: 117.54 | N37: 6075.88 | AH37: =V37+X37+Z37+AB37+AD37+AF37 -> 0 | AO37: =SUM(AZ37:BN37) -> 0 | AQ37: =AR37+AS37+AT37+AU37+AV37+AW37+AX37+AY37 -> 0
A38: 19 | I38: 1-1-1001 | J38: 117.91 | N38: 6075.88 | AH38: =V38+X38+Z38+AB38+AD38+AF38 -> 0 | AO38: =SUM(AZ38:BN38) -> 0 | AQ38: =AR38+AS38+AT38+AU38+AV38+AW38+AX38+AY38 -> 0
A39: 20 | I39: 1-1-1002 | J39: 117.54 | N39: 6095.88 | AH39: =V39+X39+Z39+AB39+AD39+AF39 -> 0 | AO39: =SUM(AZ39:BN39) -> 0 | AQ39: =AR39+AS39+AT39+AU39+AV39+AW39+AX39+AY39 -> 0
A40: 21 | C40: 45548 | D40: 20240005254 | F40: 652827199304170023 | G40: 刘雪薇 | H40: 0000958 | I40: 1-1-1101 | J40: 117.91 | K40: 117.91 | L40: =M40/K40 -> 6784.8359 | M40: 800000 | N40: 6784.835 | U40: 刘思汉 | V40: 20000 | W40: 2024.8.24 | X40: 100000 | Y40: 2024.9-13 | AH40: =V40+X40+Z40+AB40+AD40+AF40 -> 120000 | AK40: =M40-AH40 -> 680000 | AL40: 15840846835 | AM40: 无车位、送两年物业费 | AO40: =SUM(AZ40:BN40) -> 120000 | AP40: =0.4%+0.02%+0.08% -> 0.005 | AQ40: =AR40+AS40+AT40+AU40+AV40+AW40+AX40+AY40 -> 0 | BM40: 120000 | BO40: =AP40*BM40 -> 600
A41: 22 | I41: 1-1-1102 | J41: 117.54 | N41: 7122.5 | AH41: =V41+X41+Z41+AB41+AD41+AF41 -> 0 | AO41: =SUM(AZ41:BN41) -> 0 | AQ41: =AR41+AS41+AT41+AU41+AV41+AW41+AX41+AY41 -> 0
A42: 23 | I42: 1-2-101 | J42: 119.13 | N42: 8462.5 | AH42: =V42+X42+Z42+AB42+AD42+AF42 -> 0 | AO42: =SUM(AZ42:BN42) -> 0 | AQ42: =AR42+AS42+AT42+AU42+AV42+AW42+AX42+AY42 -> 0
A43: 24 | I43: 1-2-102 | J43: 118.93 | N43: 8432.5 | AH43: =V43+X43+Z43+AB43+AD43+AF43 -> 0 | AO43: =SUM(AZ43:BN43) -> 0 | AQ43: =AR43+AS43+AT43+AU43+AV43+AW43+AX43+AY43 -> 0
...

Sheet 画堂春锦苑8#楼明细表
A1: 8#楼住宅销售明细表
A2: 序号 | B2: 成交 | C2: 合同签订日期 | D2: 合同号 | F2: 身份证号 | G2: 姓名 | H2: 订购书编号 | I2: 房号 | J2: 开发 面积 | K2: 销售面积 | L2: 单价 | M2: 总价 | N2: 成交底价 | O2: 发票开具 | R2: 本月成 交额 | S2: 成交时间 | T2: 会员编号 | U2: 置业顾问 | V2: 缴款金额 | AH2: 收款合计 | AI2: 本月到账贷款 | AJ2: 到帐贷款 | AK2: 应收款 | AL2: 联系电话 | AM2: 备注 | AN2: 计划销售总价 | AO2: 佣金付款合计 | AP2: 佣金点数 | AQ2: 2024.5月佣金 | AR2: 2024.6月佣金 | AS2: 2024.7月佣金 | AT2: 2024.8月佣金 | AU2: 2024.9月佣金 | AW2: 佣金 | AY2: 印花税 | AZ2: 房源系统
E3: 房屋性质 | O3: 金额 | P3: 号码 | Q3: 开票日期 | V3: 一 | W3: 时间 | X3: 二 | Y3: 时间 | Z3: 三 | AA3: 时间 | AB3: 四 | AC3: 时间 | AD3: 五 | AE3: 时间 | AF3: 六 | AG3: 时间
A4: 1 | C4: 45434 | D4: 20240003043 | F4: 320322196903045629 | G4: 陈爱玲、杨艳梨 成交 | H4: 0000863 | I4: 8-1-101 | J4: 150.19 | K4: 150.19 | L4: 8200 | M4: =L4*K4 -> 1231558 | N4: 8200 | U4: 连阵阵 | V4: 20000 | W4: 2024.5.18 | X4: 351558 | Y4: 2024.5.22 | Z4: 860000 | AA4: 2024.6.25 | AH4: =V4+X4+Z4+AB4+AD4+AF4 -> 1231558 | AK4: =M4-AH4 -> 0 | AL4: 15199933931 | AO4: =SUM(AQ4:AV4) -> 1231558 | AP4: =0.7%+0.03%+0.08% -> 0.0081 | AR4: 1231558 | AY4: 已交 | AZ4: 已录
A5: 2 | C5: 45516 | D5: 20240004628 | F5: 410181199802267518 | G5: 周枫 | H5: 0000953 | I5: 8-1-102 | J5: 122.87 | K5: 122.87 | L5: =M5/K5 -> 7894.5227 | M5: 970000 | N5: 7894.52 | U5: 李秀莲 | V5: 20000 | W5: 2024.7.30 | X5: 250000 | Y5: 2024.8.12 | Z5: 700000 | AA5: 2024.9.23 | AH5: =V5+X5+Z5+AB5+AD5+AF5 -> 970000 | AK5: =M5-AH5 -> 0 | AL5: 15599750213 | AM5: 不要车位，无家装 | AO5: =SUM(AQ5:AV5) -> 970000 | AP5: =0.5%+0.02%+0.08% -> 0.006 | AT5: 270000 | AU5: 700000 | AW5: =AP5*AU5 -> 4200 | AY5: 已交
A6: 3 | I6: 8-1-201 | J6: 148.64 | N6: 5769.83 | AH6: =V6+X6+Z6+AB6+AD6+AF6 -> 0 | AK6: =M6-AH6 -> 0 | AO6: =SUM(AQ6:AV6) -> 0
A7: 4 | I7: 8-1-202 | J7: 139.33 | N7: 5784.75 | AH7: =V7+X7+Z7+AB7+AD7+AF7 -> 0 | AO7: =SUM(AQ7:AV7) -> 0
A8: 5 | C8: 2024.10.18 | D8: 20240006190 | F8: 652822198312080021 | G8: 周小艳 衡澳 要退 | H8: 任成48.8万转 | I8: 8-1-301 | J8: 148.64 | K8: 148.64 | L8: 5824.48 | M8: =377751+488000 -> 865751 | N8: 5824.48 | R8: 377751 | S8: 2024.10.18 | U8: 王荣 | V8: 2000 | W8: 45560 | X8: 377751 | Y8: 2024.10.18 | Z8: 488000 | AA8: 2024.10.18 | AH8: =V8+X8+Z8+AB8+AD8+AF8 -> 867751 | AK8: =M8-AH8 -> -2000 | AL8: 16609961005 | AO8: =SUM(AQ8:AV8) -> 0
A9: 6 | F9: 622825197604263312 | G9: 李海军 | H9: 0001103 | I9: 8-1-302 | J9: 139.33 | K9: 139.33 | L9: 5839.41 | M9: 813605 | N9: 5839.41 | T9: 0000554 | U9: 米云鹤 | X9: 20000 | Y9: 2024.4.27 | Z9: 224605 | AA9: 2024.5.3 | AB9: 569000 | AC9: 2024.8.29 | AH9: =V9+X9+Z9+AB9+AD9+AF9 -> 813605 | AK9: =M9-AH9 -> 0 | AL9: 18909968952 | AO9: =SUM(AQ9:AV9) -> 813605 | AP9: =0.7%+0.03%+0.12% -> 0.0085 | AT9: 813605
A10: 7 | C10: 2024.10.1 | D10: 20240005546 | F10: 411381200007113031 | G10: 赵建设 | I10: 8-1-401 | J10: 148.64 | K10: 148.64 | L10: 5657.21 | M10: 840888 | N10: 5657.21 | R10: 190888 | S10: 2024.10.1 | U10: 王荣 | V10: 20000 | W10: 45551 | X10: 190888 | Y10: 2024.10.1 | AH10: =V10+X10+Z10+AB10+AD10+AF10 -> 210888 | AK10: =M10-AH10 -> 630000 | AL10: 18699610532 | AO10: =SUM(AQ10:AV10) -> 0 | AP10: =0.6%+0.05%+0.1% -> 0.0075
A11: 8 | C11: 45472 | D11: 20240003715 | F11: 211282199906013016 | G11: 钟正 | H11: 0000868 | I11: 8-1-402 | J11: 139.33 | K11: 139.33 | L11: 5600 | M11: 780248 | N11: 5600 | U11: 霍红霞 | V11: 20000 | W11: 2024.6.17 | X11: 10000 | Y11: 2024.6.29 | Z11: 126248 | AA11: 2024.7.1 | AB11: 624000 | AC11: 2024.8.23 | AH11: =V11+X11+Z11+AB11+AD11+AF11 -> 780248 | AK11: =M11-AH11 -> 0 | AL11: 17641032589 | AM11: 不要车位，没有家装大礼包 | AO11: =SUM(AQ11:AV11) -> 780248 | AP11: =0.7%+0.08% -> 0.0078 | AS11: 156248 | AT11: 624000 | AY11: 已交 | AZ11: 已录
